BEGIN:VCALENDAR
VERSION:2.0
PRODID:-//Abfallwirtschaft Kyffhäuserkreis - ECPv6.15.17.1//NONSGML v1.0//EN
CALSCALE:GREGORIAN
METHOD:PUBLISH
X-ORIGINAL-URL:https://abfall-kyffhaeuser.de
X-WR-CALDESC:Veranstaltungen für Abfallwirtschaft Kyffhäuserkreis
REFRESH-INTERVAL;VALUE=DURATION:PT1H
X-Robots-Tag:noindex
X-PUBLISHED-TTL:PT1H
BEGIN:VTIMEZONE
TZID:Europe/Berlin
BEGIN:DAYLIGHT
TZOFFSETFROM:+0100
TZOFFSETTO:+0200
TZNAME:CEST
DTSTART:20250330T010000
END:DAYLIGHT
BEGIN:STANDARD
TZOFFSETFROM:+0200
TZOFFSETTO:+0100
TZNAME:CET
DTSTART:20251026T010000
END:STANDARD
BEGIN:DAYLIGHT
TZOFFSETFROM:+0100
TZOFFSETTO:+0200
TZNAME:CEST
DTSTART:20260329T010000
END:DAYLIGHT
BEGIN:STANDARD
TZOFFSETFROM:+0200
TZOFFSETTO:+0100
TZNAME:CET
DTSTART:20261025T010000
END:STANDARD
BEGIN:DAYLIGHT
TZOFFSETFROM:+0100
TZOFFSETTO:+0200
TZNAME:CEST
DTSTART:20270328T010000
END:DAYLIGHT
BEGIN:STANDARD
TZOFFSETFROM:+0200
TZOFFSETTO:+0100
TZNAME:CET
DTSTART:20271031T010000
END:STANDARD
END:VTIMEZONE
BEGIN:VEVENT
DTSTART;VALUE=DATE:20260424
DTEND;VALUE=DATE:20260425
DTSTAMP:20260420T100220
CREATED:20251222T091050Z
LAST-MODIFIED:20251222T091050Z
UID:10004553-1777017600-1777050000@abfall-kyffhaeuser.de
SUMMARY:Restabfall
DESCRIPTION:Restabfall
URL:https://abfall-kyffhaeuser.de/kalender/restabfall-77/2026-04-24/
LOCATION:Bellstedt\, Bellstedt\, Ebeleben
CATEGORIES:Restabfall
END:VEVENT
BEGIN:VEVENT
DTSTART;VALUE=DATE:20260428
DTEND;VALUE=DATE:20260429
DTSTAMP:20260420T100220
CREATED:20251222T104224Z
LAST-MODIFIED:20251222T104224Z
UID:10004731-1777363200-1777395600@abfall-kyffhaeuser.de
SUMMARY:Papiertonne
DESCRIPTION:Papiertonne
URL:https://abfall-kyffhaeuser.de/kalender/papiertonne-128/2026-04-28/
LOCATION:Gundersleben\, Gundersleben\, Ebeleben
CATEGORIES:Papiertonne
END:VEVENT
BEGIN:VEVENT
DTSTART;VALUE=DATE:20260428
DTEND;VALUE=DATE:20260429
DTSTAMP:20260420T100220
CREATED:20251222T110515Z
LAST-MODIFIED:20251222T110515Z
UID:10004770-1777363200-1777395600@abfall-kyffhaeuser.de
SUMMARY:Gelbe Tonne
DESCRIPTION:Gelbe Tonne
URL:https://abfall-kyffhaeuser.de/kalender/gelbe-tonne-84/2026-04-28/
LOCATION:Holzsußra\, Holzsußra\, Ebeleben
CATEGORIES:Gelbe Tonne
END:VEVENT
BEGIN:VEVENT
DTSTART;VALUE=DATE:20260430
DTEND;VALUE=DATE:20260501
DTSTAMP:20260420T100220
CREATED:20251222T092503Z
LAST-MODIFIED:20251222T092503Z
UID:10004579-1777536000-1777568400@abfall-kyffhaeuser.de
SUMMARY:Biotonne
DESCRIPTION:Biotonne
URL:https://abfall-kyffhaeuser.de/kalender/biotonne-85/2026-04-30/
LOCATION:Bellstedt\, Bellstedt\, Ebeleben
CATEGORIES:Biotonne
END:VEVENT
BEGIN:VEVENT
DTSTART;VALUE=DATE:20260508
DTEND;VALUE=DATE:20260509
DTSTAMP:20260420T100220
CREATED:20251222T091050Z
LAST-MODIFIED:20251222T091050Z
UID:10004554-1778227200-1778259600@abfall-kyffhaeuser.de
SUMMARY:Restabfall
DESCRIPTION:Restabfall
URL:https://abfall-kyffhaeuser.de/kalender/restabfall-77/2026-05-08/
LOCATION:Bellstedt\, Bellstedt\, Ebeleben
CATEGORIES:Restabfall
END:VEVENT
BEGIN:VEVENT
DTSTART;VALUE=DATE:20260515
DTEND;VALUE=DATE:20260516
DTSTAMP:20260420T100220
CREATED:20251222T092503Z
LAST-MODIFIED:20251222T092503Z
UID:10004580-1778832000-1778864400@abfall-kyffhaeuser.de
SUMMARY:Biotonne
DESCRIPTION:Biotonne
URL:https://abfall-kyffhaeuser.de/kalender/biotonne-85/2026-05-15/
LOCATION:Bellstedt\, Bellstedt\, Ebeleben
CATEGORIES:Biotonne
END:VEVENT
BEGIN:VEVENT
DTSTART;VALUE=DATE:20260522
DTEND;VALUE=DATE:20260523
DTSTAMP:20260420T100220
CREATED:20251222T091050Z
LAST-MODIFIED:20251222T091050Z
UID:10004555-1779436800-1779469200@abfall-kyffhaeuser.de
SUMMARY:Restabfall
DESCRIPTION:Restabfall
URL:https://abfall-kyffhaeuser.de/kalender/restabfall-77/2026-05-22/
LOCATION:Bellstedt\, Bellstedt\, Ebeleben
CATEGORIES:Restabfall
END:VEVENT
BEGIN:VEVENT
DTSTART;VALUE=DATE:20260528
DTEND;VALUE=DATE:20260529
DTSTAMP:20260420T100220
CREATED:20251222T104224Z
LAST-MODIFIED:20251222T104224Z
UID:10004732-1779955200-1779987600@abfall-kyffhaeuser.de
SUMMARY:Papiertonne
DESCRIPTION:Papiertonne
URL:https://abfall-kyffhaeuser.de/kalender/papiertonne-128/2026-05-28/
LOCATION:Gundersleben\, Gundersleben\, Ebeleben
CATEGORIES:Papiertonne
END:VEVENT
BEGIN:VEVENT
DTSTART;VALUE=DATE:20260528
DTEND;VALUE=DATE:20260529
DTSTAMP:20260420T100220
CREATED:20251222T110515Z
LAST-MODIFIED:20251222T110515Z
UID:10004771-1779955200-1779987600@abfall-kyffhaeuser.de
SUMMARY:Gelbe Tonne
DESCRIPTION:Gelbe Tonne
URL:https://abfall-kyffhaeuser.de/kalender/gelbe-tonne-84/2026-05-28/
LOCATION:Holzsußra\, Holzsußra\, Ebeleben
CATEGORIES:Gelbe Tonne
END:VEVENT
BEGIN:VEVENT
DTSTART;VALUE=DATE:20260530
DTEND;VALUE=DATE:20260531
DTSTAMP:20260420T100220
CREATED:20251222T092503Z
LAST-MODIFIED:20251222T092503Z
UID:10004581-1780128000-1780160400@abfall-kyffhaeuser.de
SUMMARY:Biotonne
DESCRIPTION:Biotonne
URL:https://abfall-kyffhaeuser.de/kalender/biotonne-85/2026-05-30/
LOCATION:Bellstedt\, Bellstedt\, Ebeleben
CATEGORIES:Biotonne
END:VEVENT
BEGIN:VEVENT
DTSTART;VALUE=DATE:20260605
DTEND;VALUE=DATE:20260606
DTSTAMP:20260420T100220
CREATED:20251222T091050Z
LAST-MODIFIED:20251222T091050Z
UID:10004556-1780646400-1780678800@abfall-kyffhaeuser.de
SUMMARY:Restabfall
DESCRIPTION:Restabfall
URL:https://abfall-kyffhaeuser.de/kalender/restabfall-77/2026-06-05/
LOCATION:Bellstedt\, Bellstedt\, Ebeleben
CATEGORIES:Restabfall
END:VEVENT
BEGIN:VEVENT
DTSTART;VALUE=DATE:20260612
DTEND;VALUE=DATE:20260613
DTSTAMP:20260420T100220
CREATED:20251222T092503Z
LAST-MODIFIED:20251222T092503Z
UID:10004582-1781251200-1781283600@abfall-kyffhaeuser.de
SUMMARY:Biotonne
DESCRIPTION:Biotonne
URL:https://abfall-kyffhaeuser.de/kalender/biotonne-85/2026-06-12/
LOCATION:Bellstedt\, Bellstedt\, Ebeleben
CATEGORIES:Biotonne
END:VEVENT
BEGIN:VEVENT
DTSTART;VALUE=DATE:20260619
DTEND;VALUE=DATE:20260620
DTSTAMP:20260420T100220
CREATED:20251222T091050Z
LAST-MODIFIED:20251222T091050Z
UID:10004557-1781856000-1781888400@abfall-kyffhaeuser.de
SUMMARY:Restabfall
DESCRIPTION:Restabfall
URL:https://abfall-kyffhaeuser.de/kalender/restabfall-77/2026-06-19/
LOCATION:Bellstedt\, Bellstedt\, Ebeleben
CATEGORIES:Restabfall
END:VEVENT
BEGIN:VEVENT
DTSTART;VALUE=DATE:20260624
DTEND;VALUE=DATE:20260625
DTSTAMP:20260420T100220
CREATED:20251222T104224Z
LAST-MODIFIED:20251222T104224Z
UID:10004733-1782288000-1782320400@abfall-kyffhaeuser.de
SUMMARY:Papiertonne
DESCRIPTION:Papiertonne
URL:https://abfall-kyffhaeuser.de/kalender/papiertonne-128/2026-06-24/
LOCATION:Gundersleben\, Gundersleben\, Ebeleben
CATEGORIES:Papiertonne
END:VEVENT
BEGIN:VEVENT
DTSTART;VALUE=DATE:20260624
DTEND;VALUE=DATE:20260625
DTSTAMP:20260420T100220
CREATED:20251222T110515Z
LAST-MODIFIED:20251222T110515Z
UID:10004772-1782288000-1782320400@abfall-kyffhaeuser.de
SUMMARY:Gelbe Tonne
DESCRIPTION:Gelbe Tonne
URL:https://abfall-kyffhaeuser.de/kalender/gelbe-tonne-84/2026-06-24/
LOCATION:Holzsußra\, Holzsußra\, Ebeleben
CATEGORIES:Gelbe Tonne
END:VEVENT
BEGIN:VEVENT
DTSTART;VALUE=DATE:20260626
DTEND;VALUE=DATE:20260627
DTSTAMP:20260420T100220
CREATED:20251222T092503Z
LAST-MODIFIED:20251222T092503Z
UID:10004583-1782460800-1782493200@abfall-kyffhaeuser.de
SUMMARY:Biotonne
DESCRIPTION:Biotonne
URL:https://abfall-kyffhaeuser.de/kalender/biotonne-85/2026-06-26/
LOCATION:Bellstedt\, Bellstedt\, Ebeleben
CATEGORIES:Biotonne
END:VEVENT
BEGIN:VEVENT
DTSTART;VALUE=DATE:20260703
DTEND;VALUE=DATE:20260704
DTSTAMP:20260420T100220
CREATED:20251222T091050Z
LAST-MODIFIED:20251222T091050Z
UID:10004558-1783065600-1783098000@abfall-kyffhaeuser.de
SUMMARY:Restabfall
DESCRIPTION:Restabfall
URL:https://abfall-kyffhaeuser.de/kalender/restabfall-77/2026-07-03/
LOCATION:Bellstedt\, Bellstedt\, Ebeleben
CATEGORIES:Restabfall
END:VEVENT
BEGIN:VEVENT
DTSTART;VALUE=DATE:20260710
DTEND;VALUE=DATE:20260711
DTSTAMP:20260420T100220
CREATED:20251222T092503Z
LAST-MODIFIED:20251222T092503Z
UID:10004584-1783670400-1783702800@abfall-kyffhaeuser.de
SUMMARY:Biotonne
DESCRIPTION:Biotonne
URL:https://abfall-kyffhaeuser.de/kalender/biotonne-85/2026-07-10/
LOCATION:Bellstedt\, Bellstedt\, Ebeleben
CATEGORIES:Biotonne
END:VEVENT
BEGIN:VEVENT
DTSTART;VALUE=DATE:20260717
DTEND;VALUE=DATE:20260718
DTSTAMP:20260420T100220
CREATED:20251222T091050Z
LAST-MODIFIED:20251222T091050Z
UID:10004559-1784275200-1784307600@abfall-kyffhaeuser.de
SUMMARY:Restabfall
DESCRIPTION:Restabfall
URL:https://abfall-kyffhaeuser.de/kalender/restabfall-77/2026-07-17/
LOCATION:Bellstedt\, Bellstedt\, Ebeleben
CATEGORIES:Restabfall
END:VEVENT
BEGIN:VEVENT
DTSTART;VALUE=DATE:20260721
DTEND;VALUE=DATE:20260722
DTSTAMP:20260420T100220
CREATED:20251222T110515Z
LAST-MODIFIED:20251222T110515Z
UID:10004773-1784620800-1784653200@abfall-kyffhaeuser.de
SUMMARY:Gelbe Tonne
DESCRIPTION:Gelbe Tonne
URL:https://abfall-kyffhaeuser.de/kalender/gelbe-tonne-84/2026-07-21/
LOCATION:Holzsußra\, Holzsußra\, Ebeleben
CATEGORIES:Gelbe Tonne
END:VEVENT
BEGIN:VEVENT
DTSTART;VALUE=DATE:20260722
DTEND;VALUE=DATE:20260723
DTSTAMP:20260420T100220
CREATED:20251222T104224Z
LAST-MODIFIED:20251222T104224Z
UID:10004734-1784707200-1784739600@abfall-kyffhaeuser.de
SUMMARY:Papiertonne
DESCRIPTION:Papiertonne
URL:https://abfall-kyffhaeuser.de/kalender/papiertonne-128/2026-07-22/
LOCATION:Gundersleben\, Gundersleben\, Ebeleben
CATEGORIES:Papiertonne
END:VEVENT
BEGIN:VEVENT
DTSTART;VALUE=DATE:20260724
DTEND;VALUE=DATE:20260725
DTSTAMP:20260420T100220
CREATED:20251222T092503Z
LAST-MODIFIED:20251222T092503Z
UID:10004585-1784880000-1784912400@abfall-kyffhaeuser.de
SUMMARY:Biotonne
DESCRIPTION:Biotonne
URL:https://abfall-kyffhaeuser.de/kalender/biotonne-85/2026-07-24/
LOCATION:Bellstedt\, Bellstedt\, Ebeleben
CATEGORIES:Biotonne
END:VEVENT
BEGIN:VEVENT
DTSTART;VALUE=DATE:20260731
DTEND;VALUE=DATE:20260801
DTSTAMP:20260420T100220
CREATED:20251222T091050Z
LAST-MODIFIED:20251222T091050Z
UID:10004560-1785484800-1785517200@abfall-kyffhaeuser.de
SUMMARY:Restabfall
DESCRIPTION:Restabfall
URL:https://abfall-kyffhaeuser.de/kalender/restabfall-77/2026-07-31/
LOCATION:Bellstedt\, Bellstedt\, Ebeleben
CATEGORIES:Restabfall
END:VEVENT
BEGIN:VEVENT
DTSTART;VALUE=DATE:20260807
DTEND;VALUE=DATE:20260808
DTSTAMP:20260420T100220
CREATED:20251222T092503Z
LAST-MODIFIED:20251222T092503Z
UID:10004586-1786089600-1786122000@abfall-kyffhaeuser.de
SUMMARY:Biotonne
DESCRIPTION:Biotonne
URL:https://abfall-kyffhaeuser.de/kalender/biotonne-85/2026-08-07/
LOCATION:Bellstedt\, Bellstedt\, Ebeleben
CATEGORIES:Biotonne
END:VEVENT
BEGIN:VEVENT
DTSTART;VALUE=DATE:20260814
DTEND;VALUE=DATE:20260815
DTSTAMP:20260420T100220
CREATED:20251222T091050Z
LAST-MODIFIED:20251222T091050Z
UID:10004561-1786694400-1786726800@abfall-kyffhaeuser.de
SUMMARY:Restabfall
DESCRIPTION:Restabfall
URL:https://abfall-kyffhaeuser.de/kalender/restabfall-77/2026-08-14/
LOCATION:Bellstedt\, Bellstedt\, Ebeleben
CATEGORIES:Restabfall
END:VEVENT
BEGIN:VEVENT
DTSTART;VALUE=DATE:20260818
DTEND;VALUE=DATE:20260819
DTSTAMP:20260420T100220
CREATED:20251222T110515Z
LAST-MODIFIED:20251222T110515Z
UID:10004774-1787040000-1787072400@abfall-kyffhaeuser.de
SUMMARY:Gelbe Tonne
DESCRIPTION:Gelbe Tonne
URL:https://abfall-kyffhaeuser.de/kalender/gelbe-tonne-84/2026-08-18/
LOCATION:Holzsußra\, Holzsußra\, Ebeleben
CATEGORIES:Gelbe Tonne
END:VEVENT
BEGIN:VEVENT
DTSTART;VALUE=DATE:20260819
DTEND;VALUE=DATE:20260820
DTSTAMP:20260420T100220
CREATED:20251222T104224Z
LAST-MODIFIED:20251222T104224Z
UID:10004735-1787126400-1787158800@abfall-kyffhaeuser.de
SUMMARY:Papiertonne
DESCRIPTION:Papiertonne
URL:https://abfall-kyffhaeuser.de/kalender/papiertonne-128/2026-08-19/
LOCATION:Gundersleben\, Gundersleben\, Ebeleben
CATEGORIES:Papiertonne
END:VEVENT
BEGIN:VEVENT
DTSTART;VALUE=DATE:20260821
DTEND;VALUE=DATE:20260822
DTSTAMP:20260420T100220
CREATED:20251222T092503Z
LAST-MODIFIED:20251222T092503Z
UID:10004587-1787299200-1787331600@abfall-kyffhaeuser.de
SUMMARY:Biotonne
DESCRIPTION:Biotonne
URL:https://abfall-kyffhaeuser.de/kalender/biotonne-85/2026-08-21/
LOCATION:Bellstedt\, Bellstedt\, Ebeleben
CATEGORIES:Biotonne
END:VEVENT
BEGIN:VEVENT
DTSTART;VALUE=DATE:20260828
DTEND;VALUE=DATE:20260829
DTSTAMP:20260420T100220
CREATED:20251222T091050Z
LAST-MODIFIED:20251222T091050Z
UID:10004562-1787904000-1787936400@abfall-kyffhaeuser.de
SUMMARY:Restabfall
DESCRIPTION:Restabfall
URL:https://abfall-kyffhaeuser.de/kalender/restabfall-77/2026-08-28/
LOCATION:Bellstedt\, Bellstedt\, Ebeleben
CATEGORIES:Restabfall
END:VEVENT
BEGIN:VEVENT
DTSTART;VALUE=DATE:20260904
DTEND;VALUE=DATE:20260905
DTSTAMP:20260420T100220
CREATED:20251222T092503Z
LAST-MODIFIED:20251222T092503Z
UID:10004588-1788508800-1788541200@abfall-kyffhaeuser.de
SUMMARY:Biotonne
DESCRIPTION:Biotonne
URL:https://abfall-kyffhaeuser.de/kalender/biotonne-85/2026-09-04/
LOCATION:Bellstedt\, Bellstedt\, Ebeleben
CATEGORIES:Biotonne
END:VEVENT
BEGIN:VEVENT
DTSTART;VALUE=DATE:20260911
DTEND;VALUE=DATE:20260912
DTSTAMP:20260420T100220
CREATED:20251222T091050Z
LAST-MODIFIED:20251222T091050Z
UID:10004563-1789113600-1789146000@abfall-kyffhaeuser.de
SUMMARY:Restabfall
DESCRIPTION:Restabfall
URL:https://abfall-kyffhaeuser.de/kalender/restabfall-77/2026-09-11/
LOCATION:Bellstedt\, Bellstedt\, Ebeleben
CATEGORIES:Restabfall
END:VEVENT
BEGIN:VEVENT
DTSTART;VALUE=DATE:20260915
DTEND;VALUE=DATE:20260916
DTSTAMP:20260420T100220
CREATED:20251222T110515Z
LAST-MODIFIED:20251222T110515Z
UID:10004775-1789459200-1789491600@abfall-kyffhaeuser.de
SUMMARY:Gelbe Tonne
DESCRIPTION:Gelbe Tonne
URL:https://abfall-kyffhaeuser.de/kalender/gelbe-tonne-84/2026-09-15/
LOCATION:Holzsußra\, Holzsußra\, Ebeleben
CATEGORIES:Gelbe Tonne
END:VEVENT
BEGIN:VEVENT
DTSTART;VALUE=DATE:20260916
DTEND;VALUE=DATE:20260917
DTSTAMP:20260420T100220
CREATED:20251222T104224Z
LAST-MODIFIED:20251222T104224Z
UID:10004736-1789545600-1789578000@abfall-kyffhaeuser.de
SUMMARY:Papiertonne
DESCRIPTION:Papiertonne
URL:https://abfall-kyffhaeuser.de/kalender/papiertonne-128/2026-09-16/
LOCATION:Gundersleben\, Gundersleben\, Ebeleben
CATEGORIES:Papiertonne
END:VEVENT
BEGIN:VEVENT
DTSTART;VALUE=DATE:20260918
DTEND;VALUE=DATE:20260919
DTSTAMP:20260420T100220
CREATED:20251222T092503Z
LAST-MODIFIED:20251222T092503Z
UID:10004589-1789718400-1789750800@abfall-kyffhaeuser.de
SUMMARY:Biotonne
DESCRIPTION:Biotonne
URL:https://abfall-kyffhaeuser.de/kalender/biotonne-85/2026-09-18/
LOCATION:Bellstedt\, Bellstedt\, Ebeleben
CATEGORIES:Biotonne
END:VEVENT
BEGIN:VEVENT
DTSTART;VALUE=DATE:20260925
DTEND;VALUE=DATE:20260926
DTSTAMP:20260420T100220
CREATED:20251222T091050Z
LAST-MODIFIED:20251222T091050Z
UID:10004564-1790323200-1790355600@abfall-kyffhaeuser.de
SUMMARY:Restabfall
DESCRIPTION:Restabfall
URL:https://abfall-kyffhaeuser.de/kalender/restabfall-77/2026-09-25/
LOCATION:Bellstedt\, Bellstedt\, Ebeleben
CATEGORIES:Restabfall
END:VEVENT
BEGIN:VEVENT
DTSTART;VALUE=DATE:20261002
DTEND;VALUE=DATE:20261003
DTSTAMP:20260420T100220
CREATED:20251222T092503Z
LAST-MODIFIED:20251222T092503Z
UID:10004590-1790928000-1790960400@abfall-kyffhaeuser.de
SUMMARY:Biotonne
DESCRIPTION:Biotonne
URL:https://abfall-kyffhaeuser.de/kalender/biotonne-85/2026-10-02/
LOCATION:Bellstedt\, Bellstedt\, Ebeleben
CATEGORIES:Biotonne
END:VEVENT
BEGIN:VEVENT
DTSTART;VALUE=DATE:20261009
DTEND;VALUE=DATE:20261010
DTSTAMP:20260420T100220
CREATED:20251222T091050Z
LAST-MODIFIED:20251222T091050Z
UID:10004565-1791532800-1791565200@abfall-kyffhaeuser.de
SUMMARY:Restabfall
DESCRIPTION:Restabfall
URL:https://abfall-kyffhaeuser.de/kalender/restabfall-77/2026-10-09/
LOCATION:Bellstedt\, Bellstedt\, Ebeleben
CATEGORIES:Restabfall
END:VEVENT
BEGIN:VEVENT
DTSTART;VALUE=DATE:20261013
DTEND;VALUE=DATE:20261014
DTSTAMP:20260420T100220
CREATED:20251222T110515Z
LAST-MODIFIED:20251222T110515Z
UID:10004776-1791878400-1791910800@abfall-kyffhaeuser.de
SUMMARY:Gelbe Tonne
DESCRIPTION:Gelbe Tonne
URL:https://abfall-kyffhaeuser.de/kalender/gelbe-tonne-84/2026-10-13/
LOCATION:Holzsußra\, Holzsußra\, Ebeleben
CATEGORIES:Gelbe Tonne
END:VEVENT
BEGIN:VEVENT
DTSTART;VALUE=DATE:20261014
DTEND;VALUE=DATE:20261015
DTSTAMP:20260420T100220
CREATED:20251222T104224Z
LAST-MODIFIED:20251222T104224Z
UID:10004737-1791964800-1791997200@abfall-kyffhaeuser.de
SUMMARY:Papiertonne
DESCRIPTION:Papiertonne
URL:https://abfall-kyffhaeuser.de/kalender/papiertonne-128/2026-10-14/
LOCATION:Gundersleben\, Gundersleben\, Ebeleben
CATEGORIES:Papiertonne
END:VEVENT
BEGIN:VEVENT
DTSTART;VALUE=DATE:20261016
DTEND;VALUE=DATE:20261017
DTSTAMP:20260420T100220
CREATED:20251222T092503Z
LAST-MODIFIED:20251222T092503Z
UID:10004591-1792137600-1792170000@abfall-kyffhaeuser.de
SUMMARY:Biotonne
DESCRIPTION:Biotonne
URL:https://abfall-kyffhaeuser.de/kalender/biotonne-85/2026-10-16/
LOCATION:Bellstedt\, Bellstedt\, Ebeleben
CATEGORIES:Biotonne
END:VEVENT
BEGIN:VEVENT
DTSTART;VALUE=DATE:20261023
DTEND;VALUE=DATE:20261024
DTSTAMP:20260420T100220
CREATED:20251222T091050Z
LAST-MODIFIED:20251222T091050Z
UID:10004566-1792742400-1792774800@abfall-kyffhaeuser.de
SUMMARY:Restabfall
DESCRIPTION:Restabfall
URL:https://abfall-kyffhaeuser.de/kalender/restabfall-77/2026-10-23/
LOCATION:Bellstedt\, Bellstedt\, Ebeleben
CATEGORIES:Restabfall
END:VEVENT
BEGIN:VEVENT
DTSTART;VALUE=DATE:20261030
DTEND;VALUE=DATE:20261031
DTSTAMP:20260420T100220
CREATED:20251222T092503Z
LAST-MODIFIED:20251222T092503Z
UID:10004592-1793347200-1793379600@abfall-kyffhaeuser.de
SUMMARY:Biotonne
DESCRIPTION:Biotonne
URL:https://abfall-kyffhaeuser.de/kalender/biotonne-85/2026-10-30/
LOCATION:Bellstedt\, Bellstedt\, Ebeleben
CATEGORIES:Biotonne
END:VEVENT
BEGIN:VEVENT
DTSTART;VALUE=DATE:20261106
DTEND;VALUE=DATE:20261107
DTSTAMP:20260420T100220
CREATED:20251222T091050Z
LAST-MODIFIED:20251222T091050Z
UID:10004567-1793952000-1793984400@abfall-kyffhaeuser.de
SUMMARY:Restabfall
DESCRIPTION:Restabfall
URL:https://abfall-kyffhaeuser.de/kalender/restabfall-77/2026-11-06/
LOCATION:Bellstedt\, Bellstedt\, Ebeleben
CATEGORIES:Restabfall
END:VEVENT
BEGIN:VEVENT
DTSTART;VALUE=DATE:20261110
DTEND;VALUE=DATE:20261111
DTSTAMP:20260420T100220
CREATED:20251222T110515Z
LAST-MODIFIED:20251222T110515Z
UID:10004777-1794297600-1794330000@abfall-kyffhaeuser.de
SUMMARY:Gelbe Tonne
DESCRIPTION:Gelbe Tonne
URL:https://abfall-kyffhaeuser.de/kalender/gelbe-tonne-84/2026-11-10/
LOCATION:Holzsußra\, Holzsußra\, Ebeleben
CATEGORIES:Gelbe Tonne
END:VEVENT
BEGIN:VEVENT
DTSTART;VALUE=DATE:20261111
DTEND;VALUE=DATE:20261112
DTSTAMP:20260420T100220
CREATED:20251222T104224Z
LAST-MODIFIED:20251222T104224Z
UID:10004738-1794384000-1794416400@abfall-kyffhaeuser.de
SUMMARY:Papiertonne
DESCRIPTION:Papiertonne
URL:https://abfall-kyffhaeuser.de/kalender/papiertonne-128/2026-11-11/
LOCATION:Gundersleben\, Gundersleben\, Ebeleben
CATEGORIES:Papiertonne
END:VEVENT
BEGIN:VEVENT
DTSTART;VALUE=DATE:20261113
DTEND;VALUE=DATE:20261114
DTSTAMP:20260420T100220
CREATED:20251222T092503Z
LAST-MODIFIED:20251222T092503Z
UID:10004593-1794556800-1794589200@abfall-kyffhaeuser.de
SUMMARY:Biotonne
DESCRIPTION:Biotonne
URL:https://abfall-kyffhaeuser.de/kalender/biotonne-85/2026-11-13/
LOCATION:Bellstedt\, Bellstedt\, Ebeleben
CATEGORIES:Biotonne
END:VEVENT
BEGIN:VEVENT
DTSTART;VALUE=DATE:20261120
DTEND;VALUE=DATE:20261121
DTSTAMP:20260420T100220
CREATED:20251222T091050Z
LAST-MODIFIED:20251222T091050Z
UID:10004568-1795161600-1795194000@abfall-kyffhaeuser.de
SUMMARY:Restabfall
DESCRIPTION:Restabfall
URL:https://abfall-kyffhaeuser.de/kalender/restabfall-77/2026-11-20/
LOCATION:Bellstedt\, Bellstedt\, Ebeleben
CATEGORIES:Restabfall
END:VEVENT
BEGIN:VEVENT
DTSTART;VALUE=DATE:20261127
DTEND;VALUE=DATE:20261128
DTSTAMP:20260420T100220
CREATED:20251222T092503Z
LAST-MODIFIED:20251222T092503Z
UID:10004594-1795766400-1795798800@abfall-kyffhaeuser.de
SUMMARY:Biotonne
DESCRIPTION:Biotonne
URL:https://abfall-kyffhaeuser.de/kalender/biotonne-85/2026-11-27/
LOCATION:Bellstedt\, Bellstedt\, Ebeleben
CATEGORIES:Biotonne
END:VEVENT
BEGIN:VEVENT
DTSTART;VALUE=DATE:20261204
DTEND;VALUE=DATE:20261205
DTSTAMP:20260420T100220
CREATED:20251222T091050Z
LAST-MODIFIED:20251222T091050Z
UID:10004569-1796371200-1796403600@abfall-kyffhaeuser.de
SUMMARY:Restabfall
DESCRIPTION:Restabfall
URL:https://abfall-kyffhaeuser.de/kalender/restabfall-77/2026-12-04/
LOCATION:Bellstedt\, Bellstedt\, Ebeleben
CATEGORIES:Restabfall
END:VEVENT
BEGIN:VEVENT
DTSTART;VALUE=DATE:20261208
DTEND;VALUE=DATE:20261209
DTSTAMP:20260420T100220
CREATED:20251222T110515Z
LAST-MODIFIED:20251222T110515Z
UID:10004778-1796716800-1796749200@abfall-kyffhaeuser.de
SUMMARY:Gelbe Tonne
DESCRIPTION:Gelbe Tonne
URL:https://abfall-kyffhaeuser.de/kalender/gelbe-tonne-84/2026-12-08/
LOCATION:Holzsußra\, Holzsußra\, Ebeleben
CATEGORIES:Gelbe Tonne
END:VEVENT
BEGIN:VEVENT
DTSTART;VALUE=DATE:20261209
DTEND;VALUE=DATE:20261210
DTSTAMP:20260420T100220
CREATED:20251222T104224Z
LAST-MODIFIED:20251222T104224Z
UID:10004739-1796803200-1796835600@abfall-kyffhaeuser.de
SUMMARY:Papiertonne
DESCRIPTION:Papiertonne
URL:https://abfall-kyffhaeuser.de/kalender/papiertonne-128/2026-12-09/
LOCATION:Gundersleben\, Gundersleben\, Ebeleben
CATEGORIES:Papiertonne
END:VEVENT
BEGIN:VEVENT
DTSTART;VALUE=DATE:20261211
DTEND;VALUE=DATE:20261212
DTSTAMP:20260420T100220
CREATED:20251222T092503Z
LAST-MODIFIED:20251222T092503Z
UID:10004595-1796976000-1797008400@abfall-kyffhaeuser.de
SUMMARY:Biotonne
DESCRIPTION:Biotonne
URL:https://abfall-kyffhaeuser.de/kalender/biotonne-85/2026-12-11/
LOCATION:Bellstedt\, Bellstedt\, Ebeleben
CATEGORIES:Biotonne
END:VEVENT
BEGIN:VEVENT
DTSTART;VALUE=DATE:20261218
DTEND;VALUE=DATE:20261219
DTSTAMP:20260420T100220
CREATED:20251222T091050Z
LAST-MODIFIED:20251222T091050Z
UID:10004570-1797580800-1797613200@abfall-kyffhaeuser.de
SUMMARY:Restabfall
DESCRIPTION:Restabfall
URL:https://abfall-kyffhaeuser.de/kalender/restabfall-77/2026-12-18/
LOCATION:Bellstedt\, Bellstedt\, Ebeleben
CATEGORIES:Restabfall
END:VEVENT
BEGIN:VEVENT
DTSTART;VALUE=DATE:20261224
DTEND;VALUE=DATE:20261225
DTSTAMP:20260420T100220
CREATED:20251222T092503Z
LAST-MODIFIED:20251222T092503Z
UID:10004596-1798099200-1798131600@abfall-kyffhaeuser.de
SUMMARY:Biotonne
DESCRIPTION:Biotonne
URL:https://abfall-kyffhaeuser.de/kalender/biotonne-85/2026-12-24/
LOCATION:Bellstedt\, Bellstedt\, Ebeleben
CATEGORIES:Biotonne
END:VEVENT
END:VCALENDAR