BEGIN:VCALENDAR
VERSION:2.0
PRODID:-//Abfallwirtschaft Kyffhäuserkreis - ECPv6.15.17.1//NONSGML v1.0//EN
CALSCALE:GREGORIAN
METHOD:PUBLISH
X-ORIGINAL-URL:https://abfall-kyffhaeuser.de
X-WR-CALDESC:Veranstaltungen für Abfallwirtschaft Kyffhäuserkreis
REFRESH-INTERVAL;VALUE=DURATION:PT1H
X-Robots-Tag:noindex
X-PUBLISHED-TTL:PT1H
BEGIN:VTIMEZONE
TZID:Europe/Berlin
BEGIN:DAYLIGHT
TZOFFSETFROM:+0100
TZOFFSETTO:+0200
TZNAME:CEST
DTSTART:20250330T010000
END:DAYLIGHT
BEGIN:STANDARD
TZOFFSETFROM:+0200
TZOFFSETTO:+0100
TZNAME:CET
DTSTART:20251026T010000
END:STANDARD
BEGIN:DAYLIGHT
TZOFFSETFROM:+0100
TZOFFSETTO:+0200
TZNAME:CEST
DTSTART:20260329T010000
END:DAYLIGHT
BEGIN:STANDARD
TZOFFSETFROM:+0200
TZOFFSETTO:+0100
TZNAME:CET
DTSTART:20261025T010000
END:STANDARD
BEGIN:DAYLIGHT
TZOFFSETFROM:+0100
TZOFFSETTO:+0200
TZNAME:CEST
DTSTART:20270328T010000
END:DAYLIGHT
BEGIN:STANDARD
TZOFFSETFROM:+0200
TZOFFSETTO:+0100
TZNAME:CET
DTSTART:20271031T010000
END:STANDARD
END:VTIMEZONE
BEGIN:VEVENT
DTSTART;VALUE=DATE:20260422
DTEND;VALUE=DATE:20260423
DTSTAMP:20260421T104843
CREATED:20251216T145422Z
LAST-MODIFIED:20251216T145422Z
UID:10004133-1776844800-1776877200@abfall-kyffhaeuser.de
SUMMARY:Biotonne
DESCRIPTION:Biotonne
URL:https://abfall-kyffhaeuser.de/kalender/biotonne-78/2026-04-22/
LOCATION:Artern – Tour 1\, Artern - Tour 1\, Artern
CATEGORIES:Biotonne
END:VEVENT
BEGIN:VEVENT
DTSTART;VALUE=DATE:20260428
DTEND;VALUE=DATE:20260429
DTSTAMP:20260421T104843
CREATED:20251216T120847Z
LAST-MODIFIED:20251216T120847Z
UID:10004056-1777363200-1777395600@abfall-kyffhaeuser.de
SUMMARY:Restabfall
DESCRIPTION:Restabfall
URL:https://abfall-kyffhaeuser.de/kalender/restabfall-71/2026-04-28/
LOCATION:Artern – Tour 1\, Artern - Tour 1\, Artern
CATEGORIES:Restabfall
END:VEVENT
BEGIN:VEVENT
DTSTART;VALUE=DATE:20260505
DTEND;VALUE=DATE:20260506
DTSTAMP:20260421T104843
CREATED:20251230T090736Z
LAST-MODIFIED:20251230T090736Z
UID:10005336-1777968000-1778000400@abfall-kyffhaeuser.de
SUMMARY:Gelbe Tonne
DESCRIPTION:Gelbe Tonne
URL:https://abfall-kyffhaeuser.de/kalender/gelbe-tonne-92/2026-05-05/
LOCATION:Artern – Tour 1\, Artern - Tour 1\, Artern
CATEGORIES:Gelbe Tonne
END:VEVENT
BEGIN:VEVENT
DTSTART;VALUE=DATE:20260506
DTEND;VALUE=DATE:20260507
DTSTAMP:20260421T104843
CREATED:20251216T145422Z
LAST-MODIFIED:20251216T145422Z
UID:10004134-1778054400-1778086800@abfall-kyffhaeuser.de
SUMMARY:Biotonne
DESCRIPTION:Biotonne
URL:https://abfall-kyffhaeuser.de/kalender/biotonne-78/2026-05-06/
LOCATION:Artern – Tour 1\, Artern - Tour 1\, Artern
CATEGORIES:Biotonne
END:VEVENT
BEGIN:VEVENT
DTSTART;VALUE=DATE:20260511
DTEND;VALUE=DATE:20260512
DTSTAMP:20260421T104843
CREATED:20251220T142829Z
LAST-MODIFIED:20251220T142829Z
UID:10004511-1778486400-1778518800@abfall-kyffhaeuser.de
SUMMARY:Papiertonne
DESCRIPTION:Papiertonne
URL:https://abfall-kyffhaeuser.de/kalender/papiertonne-124/2026-05-11/
LOCATION:Artern – Tour 2\, Artern - Tour 2\, Artern
CATEGORIES:Papiertonne
END:VEVENT
BEGIN:VEVENT
DTSTART;VALUE=DATE:20260512
DTEND;VALUE=DATE:20260513
DTSTAMP:20260421T104843
CREATED:20251216T120847Z
LAST-MODIFIED:20251216T120847Z
UID:10004057-1778572800-1778605200@abfall-kyffhaeuser.de
SUMMARY:Restabfall
DESCRIPTION:Restabfall
URL:https://abfall-kyffhaeuser.de/kalender/restabfall-71/2026-05-12/
LOCATION:Artern – Tour 1\, Artern - Tour 1\, Artern
CATEGORIES:Restabfall
END:VEVENT
BEGIN:VEVENT
DTSTART;VALUE=DATE:20260520
DTEND;VALUE=DATE:20260521
DTSTAMP:20260421T104843
CREATED:20251216T145422Z
LAST-MODIFIED:20251216T145422Z
UID:10004135-1779264000-1779296400@abfall-kyffhaeuser.de
SUMMARY:Biotonne
DESCRIPTION:Biotonne
URL:https://abfall-kyffhaeuser.de/kalender/biotonne-78/2026-05-20/
LOCATION:Artern – Tour 1\, Artern - Tour 1\, Artern
CATEGORIES:Biotonne
END:VEVENT
BEGIN:VEVENT
DTSTART;VALUE=DATE:20260528
DTEND;VALUE=DATE:20260529
DTSTAMP:20260421T104843
CREATED:20251216T120847Z
LAST-MODIFIED:20251216T120847Z
UID:10004058-1779955200-1779987600@abfall-kyffhaeuser.de
SUMMARY:Restabfall
DESCRIPTION:Restabfall
URL:https://abfall-kyffhaeuser.de/kalender/restabfall-71/2026-05-28/
LOCATION:Artern – Tour 1\, Artern - Tour 1\, Artern
CATEGORIES:Restabfall
END:VEVENT
BEGIN:VEVENT
DTSTART;VALUE=DATE:20260603
DTEND;VALUE=DATE:20260604
DTSTAMP:20260421T104843
CREATED:20251216T145422Z
LAST-MODIFIED:20251216T145422Z
UID:10004136-1780473600-1780506000@abfall-kyffhaeuser.de
SUMMARY:Biotonne
DESCRIPTION:Biotonne
URL:https://abfall-kyffhaeuser.de/kalender/biotonne-78/2026-06-03/
LOCATION:Artern – Tour 1\, Artern - Tour 1\, Artern
CATEGORIES:Biotonne
END:VEVENT
BEGIN:VEVENT
DTSTART;VALUE=DATE:20260603
DTEND;VALUE=DATE:20260604
DTSTAMP:20260421T104843
CREATED:20251230T090736Z
LAST-MODIFIED:20251230T090736Z
UID:10005337-1780473600-1780506000@abfall-kyffhaeuser.de
SUMMARY:Gelbe Tonne
DESCRIPTION:Gelbe Tonne
URL:https://abfall-kyffhaeuser.de/kalender/gelbe-tonne-92/2026-06-03/
LOCATION:Artern – Tour 1\, Artern - Tour 1\, Artern
CATEGORIES:Gelbe Tonne
END:VEVENT
BEGIN:VEVENT
DTSTART;VALUE=DATE:20260609
DTEND;VALUE=DATE:20260610
DTSTAMP:20260421T104843
CREATED:20251220T142829Z
LAST-MODIFIED:20251220T142829Z
UID:10004512-1780992000-1781024400@abfall-kyffhaeuser.de
SUMMARY:Papiertonne
DESCRIPTION:Papiertonne
URL:https://abfall-kyffhaeuser.de/kalender/papiertonne-124/2026-06-09/
LOCATION:Artern – Tour 2\, Artern - Tour 2\, Artern
CATEGORIES:Papiertonne
END:VEVENT
BEGIN:VEVENT
DTSTART;VALUE=DATE:20260610
DTEND;VALUE=DATE:20260611
DTSTAMP:20260421T104843
CREATED:20251216T120847Z
LAST-MODIFIED:20251216T120847Z
UID:10004059-1781078400-1781110800@abfall-kyffhaeuser.de
SUMMARY:Restabfall
DESCRIPTION:Restabfall
URL:https://abfall-kyffhaeuser.de/kalender/restabfall-71/2026-06-10/
LOCATION:Artern – Tour 1\, Artern - Tour 1\, Artern
CATEGORIES:Restabfall
END:VEVENT
BEGIN:VEVENT
DTSTART;VALUE=DATE:20260617
DTEND;VALUE=DATE:20260618
DTSTAMP:20260421T104843
CREATED:20251216T145422Z
LAST-MODIFIED:20251216T145422Z
UID:10004137-1781683200-1781715600@abfall-kyffhaeuser.de
SUMMARY:Biotonne
DESCRIPTION:Biotonne
URL:https://abfall-kyffhaeuser.de/kalender/biotonne-78/2026-06-17/
LOCATION:Artern – Tour 1\, Artern - Tour 1\, Artern
CATEGORIES:Biotonne
END:VEVENT
BEGIN:VEVENT
DTSTART;VALUE=DATE:20260624
DTEND;VALUE=DATE:20260625
DTSTAMP:20260421T104843
CREATED:20251216T120847Z
LAST-MODIFIED:20251216T120847Z
UID:10004060-1782288000-1782320400@abfall-kyffhaeuser.de
SUMMARY:Restabfall
DESCRIPTION:Restabfall
URL:https://abfall-kyffhaeuser.de/kalender/restabfall-71/2026-06-24/
LOCATION:Artern – Tour 1\, Artern - Tour 1\, Artern
CATEGORIES:Restabfall
END:VEVENT
BEGIN:VEVENT
DTSTART;VALUE=DATE:20260630
DTEND;VALUE=DATE:20260701
DTSTAMP:20260421T104843
CREATED:20251230T090736Z
LAST-MODIFIED:20251230T090736Z
UID:10005338-1782806400-1782838800@abfall-kyffhaeuser.de
SUMMARY:Gelbe Tonne
DESCRIPTION:Gelbe Tonne
URL:https://abfall-kyffhaeuser.de/kalender/gelbe-tonne-92/2026-06-30/
LOCATION:Artern – Tour 1\, Artern - Tour 1\, Artern
CATEGORIES:Gelbe Tonne
END:VEVENT
BEGIN:VEVENT
DTSTART;VALUE=DATE:20260701
DTEND;VALUE=DATE:20260702
DTSTAMP:20260421T104843
CREATED:20251216T145422Z
LAST-MODIFIED:20251216T145422Z
UID:10004138-1782892800-1782925200@abfall-kyffhaeuser.de
SUMMARY:Biotonne
DESCRIPTION:Biotonne
URL:https://abfall-kyffhaeuser.de/kalender/biotonne-78/2026-07-01/
LOCATION:Artern – Tour 1\, Artern - Tour 1\, Artern
CATEGORIES:Biotonne
END:VEVENT
BEGIN:VEVENT
DTSTART;VALUE=DATE:20260707
DTEND;VALUE=DATE:20260708
DTSTAMP:20260421T104843
CREATED:20251220T142829Z
LAST-MODIFIED:20251220T142829Z
UID:10004513-1783411200-1783443600@abfall-kyffhaeuser.de
SUMMARY:Papiertonne
DESCRIPTION:Papiertonne
URL:https://abfall-kyffhaeuser.de/kalender/papiertonne-124/2026-07-07/
LOCATION:Artern – Tour 2\, Artern - Tour 2\, Artern
CATEGORIES:Papiertonne
END:VEVENT
BEGIN:VEVENT
DTSTART;VALUE=DATE:20260708
DTEND;VALUE=DATE:20260709
DTSTAMP:20260421T104843
CREATED:20251216T120847Z
LAST-MODIFIED:20251216T120847Z
UID:10004061-1783497600-1783530000@abfall-kyffhaeuser.de
SUMMARY:Restabfall
DESCRIPTION:Restabfall
URL:https://abfall-kyffhaeuser.de/kalender/restabfall-71/2026-07-08/
LOCATION:Artern – Tour 1\, Artern - Tour 1\, Artern
CATEGORIES:Restabfall
END:VEVENT
BEGIN:VEVENT
DTSTART;VALUE=DATE:20260715
DTEND;VALUE=DATE:20260716
DTSTAMP:20260421T104843
CREATED:20251216T145422Z
LAST-MODIFIED:20251216T145422Z
UID:10004139-1784102400-1784134800@abfall-kyffhaeuser.de
SUMMARY:Biotonne
DESCRIPTION:Biotonne
URL:https://abfall-kyffhaeuser.de/kalender/biotonne-78/2026-07-15/
LOCATION:Artern – Tour 1\, Artern - Tour 1\, Artern
CATEGORIES:Biotonne
END:VEVENT
BEGIN:VEVENT
DTSTART;VALUE=DATE:20260722
DTEND;VALUE=DATE:20260723
DTSTAMP:20260421T104843
CREATED:20251216T120847Z
LAST-MODIFIED:20251216T120847Z
UID:10004062-1784707200-1784739600@abfall-kyffhaeuser.de
SUMMARY:Restabfall
DESCRIPTION:Restabfall
URL:https://abfall-kyffhaeuser.de/kalender/restabfall-71/2026-07-22/
LOCATION:Artern – Tour 1\, Artern - Tour 1\, Artern
CATEGORIES:Restabfall
END:VEVENT
BEGIN:VEVENT
DTSTART;VALUE=DATE:20260727
DTEND;VALUE=DATE:20260728
DTSTAMP:20260421T104843
CREATED:20251230T090736Z
LAST-MODIFIED:20251230T090736Z
UID:10005339-1785139200-1785171600@abfall-kyffhaeuser.de
SUMMARY:Gelbe Tonne
DESCRIPTION:Gelbe Tonne
URL:https://abfall-kyffhaeuser.de/kalender/gelbe-tonne-92/2026-07-27/
LOCATION:Artern – Tour 1\, Artern - Tour 1\, Artern
CATEGORIES:Gelbe Tonne
END:VEVENT
BEGIN:VEVENT
DTSTART;VALUE=DATE:20260729
DTEND;VALUE=DATE:20260730
DTSTAMP:20260421T104843
CREATED:20251216T145422Z
LAST-MODIFIED:20251216T145422Z
UID:10004140-1785312000-1785344400@abfall-kyffhaeuser.de
SUMMARY:Biotonne
DESCRIPTION:Biotonne
URL:https://abfall-kyffhaeuser.de/kalender/biotonne-78/2026-07-29/
LOCATION:Artern – Tour 1\, Artern - Tour 1\, Artern
CATEGORIES:Biotonne
END:VEVENT
BEGIN:VEVENT
DTSTART;VALUE=DATE:20260804
DTEND;VALUE=DATE:20260805
DTSTAMP:20260421T104843
CREATED:20251220T142829Z
LAST-MODIFIED:20251220T142829Z
UID:10004514-1785830400-1785862800@abfall-kyffhaeuser.de
SUMMARY:Papiertonne
DESCRIPTION:Papiertonne
URL:https://abfall-kyffhaeuser.de/kalender/papiertonne-124/2026-08-04/
LOCATION:Artern – Tour 2\, Artern - Tour 2\, Artern
CATEGORIES:Papiertonne
END:VEVENT
BEGIN:VEVENT
DTSTART;VALUE=DATE:20260805
DTEND;VALUE=DATE:20260806
DTSTAMP:20260421T104843
CREATED:20251216T120847Z
LAST-MODIFIED:20251216T120847Z
UID:10004063-1785916800-1785949200@abfall-kyffhaeuser.de
SUMMARY:Restabfall
DESCRIPTION:Restabfall
URL:https://abfall-kyffhaeuser.de/kalender/restabfall-71/2026-08-05/
LOCATION:Artern – Tour 1\, Artern - Tour 1\, Artern
CATEGORIES:Restabfall
END:VEVENT
BEGIN:VEVENT
DTSTART;VALUE=DATE:20260812
DTEND;VALUE=DATE:20260813
DTSTAMP:20260421T104843
CREATED:20251216T145422Z
LAST-MODIFIED:20251216T145422Z
UID:10004141-1786521600-1786554000@abfall-kyffhaeuser.de
SUMMARY:Biotonne
DESCRIPTION:Biotonne
URL:https://abfall-kyffhaeuser.de/kalender/biotonne-78/2026-08-12/
LOCATION:Artern – Tour 1\, Artern - Tour 1\, Artern
CATEGORIES:Biotonne
END:VEVENT
BEGIN:VEVENT
DTSTART;VALUE=DATE:20260819
DTEND;VALUE=DATE:20260820
DTSTAMP:20260421T104843
CREATED:20251216T120847Z
LAST-MODIFIED:20251216T120847Z
UID:10004064-1787126400-1787158800@abfall-kyffhaeuser.de
SUMMARY:Restabfall
DESCRIPTION:Restabfall
URL:https://abfall-kyffhaeuser.de/kalender/restabfall-71/2026-08-19/
LOCATION:Artern – Tour 1\, Artern - Tour 1\, Artern
CATEGORIES:Restabfall
END:VEVENT
BEGIN:VEVENT
DTSTART;VALUE=DATE:20260824
DTEND;VALUE=DATE:20260825
DTSTAMP:20260421T104843
CREATED:20251230T090736Z
LAST-MODIFIED:20251230T090736Z
UID:10005340-1787558400-1787590800@abfall-kyffhaeuser.de
SUMMARY:Gelbe Tonne
DESCRIPTION:Gelbe Tonne
URL:https://abfall-kyffhaeuser.de/kalender/gelbe-tonne-92/2026-08-24/
LOCATION:Artern – Tour 1\, Artern - Tour 1\, Artern
CATEGORIES:Gelbe Tonne
END:VEVENT
BEGIN:VEVENT
DTSTART;VALUE=DATE:20260826
DTEND;VALUE=DATE:20260827
DTSTAMP:20260421T104843
CREATED:20251216T145422Z
LAST-MODIFIED:20251216T145422Z
UID:10004142-1787731200-1787763600@abfall-kyffhaeuser.de
SUMMARY:Biotonne
DESCRIPTION:Biotonne
URL:https://abfall-kyffhaeuser.de/kalender/biotonne-78/2026-08-26/
LOCATION:Artern – Tour 1\, Artern - Tour 1\, Artern
CATEGORIES:Biotonne
END:VEVENT
BEGIN:VEVENT
DTSTART;VALUE=DATE:20260901
DTEND;VALUE=DATE:20260902
DTSTAMP:20260421T104843
CREATED:20251220T142829Z
LAST-MODIFIED:20251220T142829Z
UID:10004515-1788249600-1788282000@abfall-kyffhaeuser.de
SUMMARY:Papiertonne
DESCRIPTION:Papiertonne
URL:https://abfall-kyffhaeuser.de/kalender/papiertonne-124/2026-09-01/
LOCATION:Artern – Tour 2\, Artern - Tour 2\, Artern
CATEGORIES:Papiertonne
END:VEVENT
BEGIN:VEVENT
DTSTART;VALUE=DATE:20260902
DTEND;VALUE=DATE:20260903
DTSTAMP:20260421T104843
CREATED:20251216T120847Z
LAST-MODIFIED:20251216T120847Z
UID:10004065-1788336000-1788368400@abfall-kyffhaeuser.de
SUMMARY:Restabfall
DESCRIPTION:Restabfall
URL:https://abfall-kyffhaeuser.de/kalender/restabfall-71/2026-09-02/
LOCATION:Artern – Tour 1\, Artern - Tour 1\, Artern
CATEGORIES:Restabfall
END:VEVENT
BEGIN:VEVENT
DTSTART;VALUE=DATE:20260909
DTEND;VALUE=DATE:20260910
DTSTAMP:20260421T104843
CREATED:20251216T145422Z
LAST-MODIFIED:20251216T145422Z
UID:10004143-1788940800-1788973200@abfall-kyffhaeuser.de
SUMMARY:Biotonne
DESCRIPTION:Biotonne
URL:https://abfall-kyffhaeuser.de/kalender/biotonne-78/2026-09-09/
LOCATION:Artern – Tour 1\, Artern - Tour 1\, Artern
CATEGORIES:Biotonne
END:VEVENT
BEGIN:VEVENT
DTSTART;VALUE=DATE:20260916
DTEND;VALUE=DATE:20260917
DTSTAMP:20260421T104843
CREATED:20251216T120847Z
LAST-MODIFIED:20251216T120847Z
UID:10004066-1789545600-1789578000@abfall-kyffhaeuser.de
SUMMARY:Restabfall
DESCRIPTION:Restabfall
URL:https://abfall-kyffhaeuser.de/kalender/restabfall-71/2026-09-16/
LOCATION:Artern – Tour 1\, Artern - Tour 1\, Artern
CATEGORIES:Restabfall
END:VEVENT
BEGIN:VEVENT
DTSTART;VALUE=DATE:20260921
DTEND;VALUE=DATE:20260922
DTSTAMP:20260421T104843
CREATED:20251230T090736Z
LAST-MODIFIED:20251230T090736Z
UID:10005341-1789977600-1790010000@abfall-kyffhaeuser.de
SUMMARY:Gelbe Tonne
DESCRIPTION:Gelbe Tonne
URL:https://abfall-kyffhaeuser.de/kalender/gelbe-tonne-92/2026-09-21/
LOCATION:Artern – Tour 1\, Artern - Tour 1\, Artern
CATEGORIES:Gelbe Tonne
END:VEVENT
BEGIN:VEVENT
DTSTART;VALUE=DATE:20260923
DTEND;VALUE=DATE:20260924
DTSTAMP:20260421T104843
CREATED:20251216T145422Z
LAST-MODIFIED:20251216T145422Z
UID:10004144-1790150400-1790182800@abfall-kyffhaeuser.de
SUMMARY:Biotonne
DESCRIPTION:Biotonne
URL:https://abfall-kyffhaeuser.de/kalender/biotonne-78/2026-09-23/
LOCATION:Artern – Tour 1\, Artern - Tour 1\, Artern
CATEGORIES:Biotonne
END:VEVENT
BEGIN:VEVENT
DTSTART;VALUE=DATE:20260929
DTEND;VALUE=DATE:20260930
DTSTAMP:20260421T104843
CREATED:20251220T142829Z
LAST-MODIFIED:20251220T142829Z
UID:10004516-1790668800-1790701200@abfall-kyffhaeuser.de
SUMMARY:Papiertonne
DESCRIPTION:Papiertonne
URL:https://abfall-kyffhaeuser.de/kalender/papiertonne-124/2026-09-29/
LOCATION:Artern – Tour 2\, Artern - Tour 2\, Artern
CATEGORIES:Papiertonne
END:VEVENT
BEGIN:VEVENT
DTSTART;VALUE=DATE:20260930
DTEND;VALUE=DATE:20261001
DTSTAMP:20260421T104843
CREATED:20251216T120847Z
LAST-MODIFIED:20251216T120847Z
UID:10004067-1790755200-1790787600@abfall-kyffhaeuser.de
SUMMARY:Restabfall
DESCRIPTION:Restabfall
URL:https://abfall-kyffhaeuser.de/kalender/restabfall-71/2026-09-30/
LOCATION:Artern – Tour 1\, Artern - Tour 1\, Artern
CATEGORIES:Restabfall
END:VEVENT
BEGIN:VEVENT
DTSTART;VALUE=DATE:20261007
DTEND;VALUE=DATE:20261008
DTSTAMP:20260421T104843
CREATED:20251216T145422Z
LAST-MODIFIED:20251216T145422Z
UID:10004145-1791360000-1791392400@abfall-kyffhaeuser.de
SUMMARY:Biotonne
DESCRIPTION:Biotonne
URL:https://abfall-kyffhaeuser.de/kalender/biotonne-78/2026-10-07/
LOCATION:Artern – Tour 1\, Artern - Tour 1\, Artern
CATEGORIES:Biotonne
END:VEVENT
BEGIN:VEVENT
DTSTART;VALUE=DATE:20261014
DTEND;VALUE=DATE:20261015
DTSTAMP:20260421T104843
CREATED:20251216T120847Z
LAST-MODIFIED:20251216T120847Z
UID:10004068-1791964800-1791997200@abfall-kyffhaeuser.de
SUMMARY:Restabfall
DESCRIPTION:Restabfall
URL:https://abfall-kyffhaeuser.de/kalender/restabfall-71/2026-10-14/
LOCATION:Artern – Tour 1\, Artern - Tour 1\, Artern
CATEGORIES:Restabfall
END:VEVENT
BEGIN:VEVENT
DTSTART;VALUE=DATE:20261019
DTEND;VALUE=DATE:20261020
DTSTAMP:20260421T104843
CREATED:20251230T090736Z
LAST-MODIFIED:20251230T090736Z
UID:10005342-1792396800-1792429200@abfall-kyffhaeuser.de
SUMMARY:Gelbe Tonne
DESCRIPTION:Gelbe Tonne
URL:https://abfall-kyffhaeuser.de/kalender/gelbe-tonne-92/2026-10-19/
LOCATION:Artern – Tour 1\, Artern - Tour 1\, Artern
CATEGORIES:Gelbe Tonne
END:VEVENT
BEGIN:VEVENT
DTSTART;VALUE=DATE:20261021
DTEND;VALUE=DATE:20261022
DTSTAMP:20260421T104843
CREATED:20251216T145422Z
LAST-MODIFIED:20251216T145422Z
UID:10004146-1792569600-1792602000@abfall-kyffhaeuser.de
SUMMARY:Biotonne
DESCRIPTION:Biotonne
URL:https://abfall-kyffhaeuser.de/kalender/biotonne-78/2026-10-21/
LOCATION:Artern – Tour 1\, Artern - Tour 1\, Artern
CATEGORIES:Biotonne
END:VEVENT
BEGIN:VEVENT
DTSTART;VALUE=DATE:20261027
DTEND;VALUE=DATE:20261028
DTSTAMP:20260421T104843
CREATED:20251220T142829Z
LAST-MODIFIED:20251220T142829Z
UID:10004517-1793088000-1793120400@abfall-kyffhaeuser.de
SUMMARY:Papiertonne
DESCRIPTION:Papiertonne
URL:https://abfall-kyffhaeuser.de/kalender/papiertonne-124/2026-10-27/
LOCATION:Artern – Tour 2\, Artern - Tour 2\, Artern
CATEGORIES:Papiertonne
END:VEVENT
BEGIN:VEVENT
DTSTART;VALUE=DATE:20261028
DTEND;VALUE=DATE:20261029
DTSTAMP:20260421T104843
CREATED:20251216T120847Z
LAST-MODIFIED:20251216T120847Z
UID:10004069-1793174400-1793206800@abfall-kyffhaeuser.de
SUMMARY:Restabfall
DESCRIPTION:Restabfall
URL:https://abfall-kyffhaeuser.de/kalender/restabfall-71/2026-10-28/
LOCATION:Artern – Tour 1\, Artern - Tour 1\, Artern
CATEGORIES:Restabfall
END:VEVENT
BEGIN:VEVENT
DTSTART;VALUE=DATE:20261104
DTEND;VALUE=DATE:20261105
DTSTAMP:20260421T104843
CREATED:20251216T145422Z
LAST-MODIFIED:20251216T145422Z
UID:10004147-1793779200-1793811600@abfall-kyffhaeuser.de
SUMMARY:Biotonne
DESCRIPTION:Biotonne
URL:https://abfall-kyffhaeuser.de/kalender/biotonne-78/2026-11-04/
LOCATION:Artern – Tour 1\, Artern - Tour 1\, Artern
CATEGORIES:Biotonne
END:VEVENT
BEGIN:VEVENT
DTSTART;VALUE=DATE:20261111
DTEND;VALUE=DATE:20261112
DTSTAMP:20260421T104843
CREATED:20251216T120847Z
LAST-MODIFIED:20251216T120847Z
UID:10004070-1794384000-1794416400@abfall-kyffhaeuser.de
SUMMARY:Restabfall
DESCRIPTION:Restabfall
URL:https://abfall-kyffhaeuser.de/kalender/restabfall-71/2026-11-11/
LOCATION:Artern – Tour 1\, Artern - Tour 1\, Artern
CATEGORIES:Restabfall
END:VEVENT
BEGIN:VEVENT
DTSTART;VALUE=DATE:20261116
DTEND;VALUE=DATE:20261117
DTSTAMP:20260421T104843
CREATED:20251230T090736Z
LAST-MODIFIED:20251230T090736Z
UID:10005343-1794816000-1794848400@abfall-kyffhaeuser.de
SUMMARY:Gelbe Tonne
DESCRIPTION:Gelbe Tonne
URL:https://abfall-kyffhaeuser.de/kalender/gelbe-tonne-92/2026-11-16/
LOCATION:Artern – Tour 1\, Artern - Tour 1\, Artern
CATEGORIES:Gelbe Tonne
END:VEVENT
BEGIN:VEVENT
DTSTART;VALUE=DATE:20261118
DTEND;VALUE=DATE:20261119
DTSTAMP:20260421T104843
CREATED:20251216T145422Z
LAST-MODIFIED:20251216T145422Z
UID:10004148-1794988800-1795021200@abfall-kyffhaeuser.de
SUMMARY:Biotonne
DESCRIPTION:Biotonne
URL:https://abfall-kyffhaeuser.de/kalender/biotonne-78/2026-11-18/
LOCATION:Artern – Tour 1\, Artern - Tour 1\, Artern
CATEGORIES:Biotonne
END:VEVENT
BEGIN:VEVENT
DTSTART;VALUE=DATE:20261124
DTEND;VALUE=DATE:20261125
DTSTAMP:20260421T104843
CREATED:20251220T142829Z
LAST-MODIFIED:20251220T142829Z
UID:10004518-1795507200-1795539600@abfall-kyffhaeuser.de
SUMMARY:Papiertonne
DESCRIPTION:Papiertonne
URL:https://abfall-kyffhaeuser.de/kalender/papiertonne-124/2026-11-24/
LOCATION:Artern – Tour 2\, Artern - Tour 2\, Artern
CATEGORIES:Papiertonne
END:VEVENT
BEGIN:VEVENT
DTSTART;VALUE=DATE:20261125
DTEND;VALUE=DATE:20261126
DTSTAMP:20260421T104843
CREATED:20251216T120847Z
LAST-MODIFIED:20251216T120847Z
UID:10004071-1795593600-1795626000@abfall-kyffhaeuser.de
SUMMARY:Restabfall
DESCRIPTION:Restabfall
URL:https://abfall-kyffhaeuser.de/kalender/restabfall-71/2026-11-25/
LOCATION:Artern – Tour 1\, Artern - Tour 1\, Artern
CATEGORIES:Restabfall
END:VEVENT
BEGIN:VEVENT
DTSTART;VALUE=DATE:20261202
DTEND;VALUE=DATE:20261203
DTSTAMP:20260421T104843
CREATED:20251216T145422Z
LAST-MODIFIED:20251216T145422Z
UID:10004149-1796198400-1796230800@abfall-kyffhaeuser.de
SUMMARY:Biotonne
DESCRIPTION:Biotonne
URL:https://abfall-kyffhaeuser.de/kalender/biotonne-78/2026-12-02/
LOCATION:Artern – Tour 1\, Artern - Tour 1\, Artern
CATEGORIES:Biotonne
END:VEVENT
BEGIN:VEVENT
DTSTART;VALUE=DATE:20261209
DTEND;VALUE=DATE:20261210
DTSTAMP:20260421T104843
CREATED:20251216T120847Z
LAST-MODIFIED:20251216T120847Z
UID:10004072-1796803200-1796835600@abfall-kyffhaeuser.de
SUMMARY:Restabfall
DESCRIPTION:Restabfall
URL:https://abfall-kyffhaeuser.de/kalender/restabfall-71/2026-12-09/
LOCATION:Artern – Tour 1\, Artern - Tour 1\, Artern
CATEGORIES:Restabfall
END:VEVENT
BEGIN:VEVENT
DTSTART;VALUE=DATE:20261214
DTEND;VALUE=DATE:20261215
DTSTAMP:20260421T104843
CREATED:20251230T090736Z
LAST-MODIFIED:20251230T090736Z
UID:10005344-1797235200-1797267600@abfall-kyffhaeuser.de
SUMMARY:Gelbe Tonne
DESCRIPTION:Gelbe Tonne
URL:https://abfall-kyffhaeuser.de/kalender/gelbe-tonne-92/2026-12-14/
LOCATION:Artern – Tour 1\, Artern - Tour 1\, Artern
CATEGORIES:Gelbe Tonne
END:VEVENT
BEGIN:VEVENT
DTSTART;VALUE=DATE:20261216
DTEND;VALUE=DATE:20261217
DTSTAMP:20260421T104843
CREATED:20251216T145422Z
LAST-MODIFIED:20251216T145422Z
UID:10004150-1797408000-1797440400@abfall-kyffhaeuser.de
SUMMARY:Biotonne
DESCRIPTION:Biotonne
URL:https://abfall-kyffhaeuser.de/kalender/biotonne-78/2026-12-16/
LOCATION:Artern – Tour 1\, Artern - Tour 1\, Artern
CATEGORIES:Biotonne
END:VEVENT
BEGIN:VEVENT
DTSTART;VALUE=DATE:20261221
DTEND;VALUE=DATE:20261222
DTSTAMP:20260421T104843
CREATED:20251220T142829Z
LAST-MODIFIED:20251220T142829Z
UID:10004519-1797840000-1797872400@abfall-kyffhaeuser.de
SUMMARY:Papiertonne
DESCRIPTION:Papiertonne
URL:https://abfall-kyffhaeuser.de/kalender/papiertonne-124/2026-12-21/
LOCATION:Artern – Tour 2\, Artern - Tour 2\, Artern
CATEGORIES:Papiertonne
END:VEVENT
BEGIN:VEVENT
DTSTART;VALUE=DATE:20261222
DTEND;VALUE=DATE:20261223
DTSTAMP:20260421T104843
CREATED:20251216T120847Z
LAST-MODIFIED:20251216T120847Z
UID:10004073-1797926400-1797958800@abfall-kyffhaeuser.de
SUMMARY:Restabfall
DESCRIPTION:Restabfall
URL:https://abfall-kyffhaeuser.de/kalender/restabfall-71/2026-12-22/
LOCATION:Artern – Tour 1\, Artern - Tour 1\, Artern
CATEGORIES:Restabfall
END:VEVENT
END:VCALENDAR