BEGIN:VCALENDAR
VERSION:2.0
PRODID:-//Abfallwirtschaft Kyffhäuserkreis - ECPv6.15.17.1//NONSGML v1.0//EN
CALSCALE:GREGORIAN
METHOD:PUBLISH
X-ORIGINAL-URL:https://abfall-kyffhaeuser.de
X-WR-CALDESC:Veranstaltungen für Abfallwirtschaft Kyffhäuserkreis
REFRESH-INTERVAL;VALUE=DURATION:PT1H
X-Robots-Tag:noindex
X-PUBLISHED-TTL:PT1H
BEGIN:VTIMEZONE
TZID:Europe/Berlin
BEGIN:DAYLIGHT
TZOFFSETFROM:+0100
TZOFFSETTO:+0200
TZNAME:CEST
DTSTART:20250330T010000
END:DAYLIGHT
BEGIN:STANDARD
TZOFFSETFROM:+0200
TZOFFSETTO:+0100
TZNAME:CET
DTSTART:20251026T010000
END:STANDARD
BEGIN:DAYLIGHT
TZOFFSETFROM:+0100
TZOFFSETTO:+0200
TZNAME:CEST
DTSTART:20260329T010000
END:DAYLIGHT
BEGIN:STANDARD
TZOFFSETFROM:+0200
TZOFFSETTO:+0100
TZNAME:CET
DTSTART:20261025T010000
END:STANDARD
BEGIN:DAYLIGHT
TZOFFSETFROM:+0100
TZOFFSETTO:+0200
TZNAME:CEST
DTSTART:20270328T010000
END:DAYLIGHT
BEGIN:STANDARD
TZOFFSETFROM:+0200
TZOFFSETTO:+0100
TZNAME:CET
DTSTART:20271031T010000
END:STANDARD
END:VTIMEZONE
BEGIN:VEVENT
DTSTART;VALUE=DATE:20261001
DTEND;VALUE=DATE:20261002
DTSTAMP:20260421T213036
CREATED:20251203T130528Z
LAST-MODIFIED:20251204T105717Z
UID:10003031-1790812800-1790899199@abfall-kyffhaeuser.de
SUMMARY:Biotonne
DESCRIPTION:
URL:https://abfall-kyffhaeuser.de/kalender/biotonne-10/2026-10-01/
LOCATION:Badra\, Badra\, Kyffhäuserland
CATEGORIES:Biotonne
ATTACH;FMTTYPE=image/jpeg:https://abfall-kyffhaeuser.de/wp-content/uploads/2024/02/01-Biotonne.jpg
END:VEVENT
BEGIN:VEVENT
DTSTART;VALUE=DATE:20261008
DTEND;VALUE=DATE:20261009
DTSTAMP:20260421T213036
CREATED:20251203T125933Z
LAST-MODIFIED:20251204T105513Z
UID:10002987-1791417600-1791503999@abfall-kyffhaeuser.de
SUMMARY:Restabfall
DESCRIPTION:
URL:https://abfall-kyffhaeuser.de/kalender/restabfall-6/2026-10-08/
LOCATION:Badra\, Badra\, Kyffhäuserland
CATEGORIES:Restabfall
ATTACH;FMTTYPE=image/jpeg:https://abfall-kyffhaeuser.de/wp-content/uploads/2024/02/Restabfall.jpg
END:VEVENT
BEGIN:VEVENT
DTSTART;VALUE=DATE:20261008
DTEND;VALUE=DATE:20261009
DTSTAMP:20260421T213036
CREATED:20251208T083820Z
LAST-MODIFIED:20251208T083820Z
UID:10003205-1791417600-1791503999@abfall-kyffhaeuser.de
SUMMARY:Gelbe Tonne
DESCRIPTION:
URL:https://abfall-kyffhaeuser.de/kalender/gelbe-tonne-10/2026-10-08/
LOCATION:Günserode\, Günserode\, Kyffhäuserland
CATEGORIES:Gelbe Tonne
ATTACH;FMTTYPE=image/jpeg:https://abfall-kyffhaeuser.de/wp-content/uploads/2024/02/Gelbe-Tonne.jpg
END:VEVENT
BEGIN:VEVENT
DTSTART;VALUE=DATE:20261009
DTEND;VALUE=DATE:20261010
DTSTAMP:20260421T213036
CREATED:20251208T095357Z
LAST-MODIFIED:20251208T095357Z
UID:10003251-1791504000-1791590399@abfall-kyffhaeuser.de
SUMMARY:Gelbe Tonne
DESCRIPTION:
URL:https://abfall-kyffhaeuser.de/kalender/gelbe-tonne-13/2026-10-09/
LOCATION:Steinthaleben (außer Rathsfeld/Kyffhäuser)\, Steinthaleben (außer Rathsfeld/Kyffhäuser)\, Kyffhäuserland
CATEGORIES:Gelbe Tonne
ATTACH;FMTTYPE=image/jpeg:https://abfall-kyffhaeuser.de/wp-content/uploads/2024/02/Gelbe-Tonne.jpg
END:VEVENT
BEGIN:VEVENT
DTSTART;VALUE=DATE:20261012
DTEND;VALUE=DATE:20261013
DTSTAMP:20260421T213036
CREATED:20251204T104713Z
LAST-MODIFIED:20251204T121842Z
UID:10003060-1791763200-1791849599@abfall-kyffhaeuser.de
SUMMARY:Papiertonne
DESCRIPTION:
URL:https://abfall-kyffhaeuser.de/kalender/papiertonne-15/2026-10-12/
LOCATION:Günserode\, Günserode\, Kyffhäuserland
CATEGORIES:Papiertonne
ATTACH;FMTTYPE=image/jpeg:https://abfall-kyffhaeuser.de/wp-content/uploads/2024/02/Papiertonne.jpg
END:VEVENT
BEGIN:VEVENT
DTSTART;VALUE=DATE:20261014
DTEND;VALUE=DATE:20261015
DTSTAMP:20260421T213036
CREATED:20251208T101016Z
LAST-MODIFIED:20251208T101016Z
UID:10003279-1791936000-1792022399@abfall-kyffhaeuser.de
SUMMARY:Gelber RC
DESCRIPTION:
URL:https://abfall-kyffhaeuser.de/kalender/gelber-rc/2026-10-14/
LOCATION:Göllingen\, Göllingen\, Kyffhäuserland
CATEGORIES:Gelber RC
ATTACH;FMTTYPE=image/jpeg:https://abfall-kyffhaeuser.de/wp-content/uploads/2024/03/Gelber-RC.jpg
END:VEVENT
BEGIN:VEVENT
DTSTART;VALUE=DATE:20261015
DTEND;VALUE=DATE:20261016
DTSTAMP:20260421T213036
CREATED:20251203T130528Z
LAST-MODIFIED:20251204T105717Z
UID:10003032-1792022400-1792108799@abfall-kyffhaeuser.de
SUMMARY:Biotonne
DESCRIPTION:
URL:https://abfall-kyffhaeuser.de/kalender/biotonne-10/2026-10-15/
LOCATION:Badra\, Badra\, Kyffhäuserland
CATEGORIES:Biotonne
ATTACH;FMTTYPE=image/jpeg:https://abfall-kyffhaeuser.de/wp-content/uploads/2024/02/01-Biotonne.jpg
END:VEVENT
BEGIN:VEVENT
DTSTART;VALUE=DATE:20261022
DTEND;VALUE=DATE:20261023
DTSTAMP:20260421T213036
CREATED:20251203T125933Z
LAST-MODIFIED:20251204T105513Z
UID:10002988-1792627200-1792713599@abfall-kyffhaeuser.de
SUMMARY:Restabfall
DESCRIPTION:
URL:https://abfall-kyffhaeuser.de/kalender/restabfall-6/2026-10-22/
LOCATION:Badra\, Badra\, Kyffhäuserland
CATEGORIES:Restabfall
ATTACH;FMTTYPE=image/jpeg:https://abfall-kyffhaeuser.de/wp-content/uploads/2024/02/Restabfall.jpg
END:VEVENT
BEGIN:VEVENT
DTSTART;VALUE=DATE:20261023
DTEND;VALUE=DATE:20261024
DTSTAMP:20260421T213036
CREATED:20251208T094919Z
LAST-MODIFIED:20251208T094919Z
UID:10003230-1792713600-1792799999@abfall-kyffhaeuser.de
SUMMARY:Papiertonne
DESCRIPTION:
URL:https://abfall-kyffhaeuser.de/kalender/papiertonne-26/2026-10-23/
LOCATION:Steinthaleben (außer Rathsfeld/Kyffhäuser)\, Steinthaleben (außer Rathsfeld/Kyffhäuser)\, Kyffhäuserland
CATEGORIES:Papiertonne
ATTACH;FMTTYPE=image/jpeg:https://abfall-kyffhaeuser.de/wp-content/uploads/2024/02/Papiertonne.jpg
END:VEVENT
BEGIN:VEVENT
DTSTART;VALUE=DATE:20261027
DTEND;VALUE=DATE:20261028
DTSTAMP:20260421T213036
CREATED:20251204T110612Z
LAST-MODIFIED:20251204T110612Z
UID:10003085-1793059200-1793145599@abfall-kyffhaeuser.de
SUMMARY:Papiertonne
DESCRIPTION:
URL:https://abfall-kyffhaeuser.de/kalender/papiertonne-20/2026-10-27/
LOCATION:Badra\, Badra\, Kyffhäuserland
CATEGORIES:Papiertonne
ATTACH;FMTTYPE=image/jpeg:https://abfall-kyffhaeuser.de/wp-content/uploads/2024/02/Papiertonne.jpg
END:VEVENT
BEGIN:VEVENT
DTSTART;VALUE=DATE:20261028
DTEND;VALUE=DATE:20261029
DTSTAMP:20260421T213036
CREATED:20251204T122620Z
LAST-MODIFIED:20251204T122620Z
UID:10003105-1793145600-1793231999@abfall-kyffhaeuser.de
SUMMARY:Gelbe Tonne
DESCRIPTION:
URL:https://abfall-kyffhaeuser.de/kalender/gelbe-tonne-5/2026-10-28/
LOCATION:Badra\, Badra\, Kyffhäuserland
CATEGORIES:Gelbe Tonne
ATTACH;FMTTYPE=image/jpeg:https://abfall-kyffhaeuser.de/wp-content/uploads/2024/02/Gelbe-Tonne.jpg
END:VEVENT
BEGIN:VEVENT
DTSTART;VALUE=DATE:20261029
DTEND;VALUE=DATE:20261030
DTSTAMP:20260421T213036
CREATED:20251203T130528Z
LAST-MODIFIED:20251204T105717Z
UID:10003033-1793232000-1793318399@abfall-kyffhaeuser.de
SUMMARY:Biotonne
DESCRIPTION:
URL:https://abfall-kyffhaeuser.de/kalender/biotonne-10/2026-10-29/
LOCATION:Badra\, Badra\, Kyffhäuserland
CATEGORIES:Biotonne
ATTACH;FMTTYPE=image/jpeg:https://abfall-kyffhaeuser.de/wp-content/uploads/2024/02/01-Biotonne.jpg
END:VEVENT
END:VCALENDAR