BEGIN:VCALENDAR
VERSION:2.0
PRODID:-//Abfallwirtschaft Kyffhäuserkreis - ECPv6.15.17.1//NONSGML v1.0//EN
CALSCALE:GREGORIAN
METHOD:PUBLISH
X-WR-CALNAME:Abfallwirtschaft Kyffhäuserkreis
X-ORIGINAL-URL:https://abfall-kyffhaeuser.de
X-WR-CALDESC:Veranstaltungen für Abfallwirtschaft Kyffhäuserkreis
REFRESH-INTERVAL;VALUE=DURATION:PT1H
X-Robots-Tag:noindex
X-PUBLISHED-TTL:PT1H
BEGIN:VTIMEZONE
TZID:Europe/Berlin
BEGIN:DAYLIGHT
TZOFFSETFROM:+0100
TZOFFSETTO:+0200
TZNAME:CEST
DTSTART:20250330T010000
END:DAYLIGHT
BEGIN:STANDARD
TZOFFSETFROM:+0200
TZOFFSETTO:+0100
TZNAME:CET
DTSTART:20251026T010000
END:STANDARD
BEGIN:DAYLIGHT
TZOFFSETFROM:+0100
TZOFFSETTO:+0200
TZNAME:CEST
DTSTART:20260329T010000
END:DAYLIGHT
BEGIN:STANDARD
TZOFFSETFROM:+0200
TZOFFSETTO:+0100
TZNAME:CET
DTSTART:20261025T010000
END:STANDARD
BEGIN:DAYLIGHT
TZOFFSETFROM:+0100
TZOFFSETTO:+0200
TZNAME:CEST
DTSTART:20270328T010000
END:DAYLIGHT
BEGIN:STANDARD
TZOFFSETFROM:+0200
TZOFFSETTO:+0100
TZNAME:CET
DTSTART:20271031T010000
END:STANDARD
END:VTIMEZONE
BEGIN:VEVENT
DTSTART;VALUE=DATE:20260604
DTEND;VALUE=DATE:20260605
DTSTAMP:20260421T160040
CREATED:20251203T125933Z
LAST-MODIFIED:20251204T105513Z
UID:10002978-1780531200-1780617599@abfall-kyffhaeuser.de
SUMMARY:Restabfall
DESCRIPTION:
URL:https://abfall-kyffhaeuser.de/kalender/restabfall-6/2026-06-04/
LOCATION:Badra\, Badra\, Kyffhäuserland
CATEGORIES:Restabfall
ATTACH;FMTTYPE=image/jpeg:https://abfall-kyffhaeuser.de/wp-content/uploads/2024/02/Restabfall.jpg
END:VEVENT
BEGIN:VEVENT
DTSTART;VALUE=DATE:20260605
DTEND;VALUE=DATE:20260606
DTSTAMP:20260421T160040
CREATED:20251208T094919Z
LAST-MODIFIED:20251208T094919Z
UID:10003225-1780617600-1780703999@abfall-kyffhaeuser.de
SUMMARY:Papiertonne
DESCRIPTION:
URL:https://abfall-kyffhaeuser.de/kalender/papiertonne-26/2026-06-05/
LOCATION:Steinthaleben (außer Rathsfeld/Kyffhäuser)\, Steinthaleben (außer Rathsfeld/Kyffhäuser)\, Kyffhäuserland
CATEGORIES:Papiertonne
ATTACH;FMTTYPE=image/jpeg:https://abfall-kyffhaeuser.de/wp-content/uploads/2024/02/Papiertonne.jpg
END:VEVENT
BEGIN:VEVENT
DTSTART;VALUE=DATE:20260609
DTEND;VALUE=DATE:20260610
DTSTAMP:20260421T160040
CREATED:20251204T110612Z
LAST-MODIFIED:20251204T110612Z
UID:10003080-1780963200-1781049599@abfall-kyffhaeuser.de
SUMMARY:Papiertonne
DESCRIPTION:
URL:https://abfall-kyffhaeuser.de/kalender/papiertonne-20/2026-06-09/
LOCATION:Badra\, Badra\, Kyffhäuserland
CATEGORIES:Papiertonne
ATTACH;FMTTYPE=image/jpeg:https://abfall-kyffhaeuser.de/wp-content/uploads/2024/02/Papiertonne.jpg
END:VEVENT
BEGIN:VEVENT
DTSTART;VALUE=DATE:20260611
DTEND;VALUE=DATE:20260612
DTSTAMP:20260421T160040
CREATED:20251203T130528Z
LAST-MODIFIED:20251204T105717Z
UID:10003023-1781136000-1781222399@abfall-kyffhaeuser.de
SUMMARY:Biotonne
DESCRIPTION:
URL:https://abfall-kyffhaeuser.de/kalender/biotonne-10/2026-06-11/
LOCATION:Badra\, Badra\, Kyffhäuserland
CATEGORIES:Biotonne
ATTACH;FMTTYPE=image/jpeg:https://abfall-kyffhaeuser.de/wp-content/uploads/2024/02/01-Biotonne.jpg
END:VEVENT
BEGIN:VEVENT
DTSTART;VALUE=DATE:20260612
DTEND;VALUE=DATE:20260613
DTSTAMP:20260421T160040
CREATED:20251204T123008Z
LAST-MODIFIED:20251204T123552Z
UID:10003110-1781222400-1781308799@abfall-kyffhaeuser.de
SUMMARY:Gelbe Tonne
DESCRIPTION:
URL:https://abfall-kyffhaeuser.de/kalender/gelbe-tonne-8/
LOCATION:Badra\, Badra\, Kyffhäuserland
CATEGORIES:Gelbe Tonne
ATTACH;FMTTYPE=image/jpeg:https://abfall-kyffhaeuser.de/wp-content/uploads/2024/02/Gelbe-Tonne.jpg
END:VEVENT
BEGIN:VEVENT
DTSTART;VALUE=DATE:20260618
DTEND;VALUE=DATE:20260619
DTSTAMP:20260421T160040
CREATED:20251203T125933Z
LAST-MODIFIED:20251204T105513Z
UID:10002979-1781740800-1781827199@abfall-kyffhaeuser.de
SUMMARY:Restabfall
DESCRIPTION:
URL:https://abfall-kyffhaeuser.de/kalender/restabfall-6/2026-06-18/
LOCATION:Badra\, Badra\, Kyffhäuserland
CATEGORIES:Restabfall
ATTACH;FMTTYPE=image/jpeg:https://abfall-kyffhaeuser.de/wp-content/uploads/2024/02/Restabfall.jpg
END:VEVENT
BEGIN:VEVENT
DTSTART;VALUE=DATE:20260619
DTEND;VALUE=DATE:20260620
DTSTAMP:20260421T160040
CREATED:20251208T084058Z
LAST-MODIFIED:20251208T084058Z
UID:10003209-1781827200-1781913599@abfall-kyffhaeuser.de
SUMMARY:Gelbe Tonne
DESCRIPTION:
URL:https://abfall-kyffhaeuser.de/kalender/gelbe-tonne-12/
LOCATION:Günserode\, Günserode\, Kyffhäuserland
CATEGORIES:Gelbe Tonne
ATTACH;FMTTYPE=image/jpeg:https://abfall-kyffhaeuser.de/wp-content/uploads/2024/02/Gelbe-Tonne.jpg
END:VEVENT
BEGIN:VEVENT
DTSTART;VALUE=DATE:20260622
DTEND;VALUE=DATE:20260623
DTSTAMP:20260421T160040
CREATED:20251204T104713Z
LAST-MODIFIED:20251204T121842Z
UID:10003056-1782086400-1782172799@abfall-kyffhaeuser.de
SUMMARY:Papiertonne
DESCRIPTION:
URL:https://abfall-kyffhaeuser.de/kalender/papiertonne-15/2026-06-22/
LOCATION:Günserode\, Günserode\, Kyffhäuserland
CATEGORIES:Papiertonne
ATTACH;FMTTYPE=image/jpeg:https://abfall-kyffhaeuser.de/wp-content/uploads/2024/02/Papiertonne.jpg
END:VEVENT
BEGIN:VEVENT
DTSTART;VALUE=DATE:20260622
DTEND;VALUE=DATE:20260623
DTSTAMP:20260421T160040
CREATED:20251208T095640Z
LAST-MODIFIED:20251208T095640Z
UID:10003254-1782086400-1782172799@abfall-kyffhaeuser.de
SUMMARY:Gelbe Tonne
DESCRIPTION:
URL:https://abfall-kyffhaeuser.de/kalender/gelbe-tonne-15/
LOCATION:Steinthaleben (außer Rathsfeld/Kyffhäuser)\, Steinthaleben (außer Rathsfeld/Kyffhäuser)\, Kyffhäuserland
CATEGORIES:Gelbe Tonne
ATTACH;FMTTYPE=image/jpeg:https://abfall-kyffhaeuser.de/wp-content/uploads/2024/02/Gelbe-Tonne.jpg
END:VEVENT
BEGIN:VEVENT
DTSTART;VALUE=DATE:20260624
DTEND;VALUE=DATE:20260625
DTSTAMP:20260421T160040
CREATED:20251208T101016Z
LAST-MODIFIED:20251208T101016Z
UID:10003275-1782259200-1782345599@abfall-kyffhaeuser.de
SUMMARY:Gelber RC
DESCRIPTION:
URL:https://abfall-kyffhaeuser.de/kalender/gelber-rc/2026-06-24/
LOCATION:Göllingen\, Göllingen\, Kyffhäuserland
CATEGORIES:Gelber RC
ATTACH;FMTTYPE=image/jpeg:https://abfall-kyffhaeuser.de/wp-content/uploads/2024/03/Gelber-RC.jpg
END:VEVENT
BEGIN:VEVENT
DTSTART;VALUE=DATE:20260625
DTEND;VALUE=DATE:20260626
DTSTAMP:20260421T160040
CREATED:20251203T130528Z
LAST-MODIFIED:20251204T105717Z
UID:10003024-1782345600-1782431999@abfall-kyffhaeuser.de
SUMMARY:Biotonne
DESCRIPTION:
URL:https://abfall-kyffhaeuser.de/kalender/biotonne-10/2026-06-25/
LOCATION:Badra\, Badra\, Kyffhäuserland
CATEGORIES:Biotonne
ATTACH;FMTTYPE=image/jpeg:https://abfall-kyffhaeuser.de/wp-content/uploads/2024/02/01-Biotonne.jpg
END:VEVENT
END:VCALENDAR