BEGIN:VCALENDAR
VERSION:2.0
PRODID:-//Abfallwirtschaft Kyffhäuserkreis - ECPv6.15.17.1//NONSGML v1.0//EN
CALSCALE:GREGORIAN
METHOD:PUBLISH
X-ORIGINAL-URL:https://abfall-kyffhaeuser.de
X-WR-CALDESC:Veranstaltungen für Abfallwirtschaft Kyffhäuserkreis
REFRESH-INTERVAL;VALUE=DURATION:PT1H
X-Robots-Tag:noindex
X-PUBLISHED-TTL:PT1H
BEGIN:VTIMEZONE
TZID:Europe/Berlin
BEGIN:DAYLIGHT
TZOFFSETFROM:+0100
TZOFFSETTO:+0200
TZNAME:CEST
DTSTART:20240331T010000
END:DAYLIGHT
BEGIN:STANDARD
TZOFFSETFROM:+0200
TZOFFSETTO:+0100
TZNAME:CET
DTSTART:20241027T010000
END:STANDARD
BEGIN:DAYLIGHT
TZOFFSETFROM:+0100
TZOFFSETTO:+0200
TZNAME:CEST
DTSTART:20250330T010000
END:DAYLIGHT
BEGIN:STANDARD
TZOFFSETFROM:+0200
TZOFFSETTO:+0100
TZNAME:CET
DTSTART:20251026T010000
END:STANDARD
BEGIN:DAYLIGHT
TZOFFSETFROM:+0100
TZOFFSETTO:+0200
TZNAME:CEST
DTSTART:20260329T010000
END:DAYLIGHT
BEGIN:STANDARD
TZOFFSETFROM:+0200
TZOFFSETTO:+0100
TZNAME:CET
DTSTART:20261025T010000
END:STANDARD
END:VTIMEZONE
BEGIN:VEVENT
DTSTART;VALUE=DATE:20251002
DTEND;VALUE=DATE:20251003
DTSTAMP:20260421T213058
CREATED:20241203T104109Z
LAST-MODIFIED:20241210T093733Z
UID:10002547-1759363200-1759449599@abfall-kyffhaeuser.de
SUMMARY:Restabfall
DESCRIPTION:
URL:https://abfall-kyffhaeuser.de/kalender/restabfall-25/2025-10-02/
LOCATION:Badra\, Badra\, Kyffhäuserland
CATEGORIES:Restabfall
ATTACH;FMTTYPE=image/jpeg:https://abfall-kyffhaeuser.de/wp-content/uploads/2024/02/Restabfall.jpg
END:VEVENT
BEGIN:VEVENT
DTSTART;VALUE=DATE:20251006
DTEND;VALUE=DATE:20251007
DTSTAMP:20260421T213058
CREATED:20241127T100501Z
LAST-MODIFIED:20241203T110338Z
UID:10002339-1759708800-1759795199@abfall-kyffhaeuser.de
SUMMARY:Papiertonne
DESCRIPTION:
URL:https://abfall-kyffhaeuser.de/kalender/papiertonne-10/2025-10-06/
LOCATION:Ebeleben\, Ebeleben\, Ebeleben
CATEGORIES:Papiertonne
ATTACH;FMTTYPE=image/jpeg:https://abfall-kyffhaeuser.de/wp-content/uploads/2024/02/Papiertonne.jpg
END:VEVENT
BEGIN:VEVENT
DTSTART;VALUE=DATE:20251009
DTEND;VALUE=DATE:20251010
DTSTAMP:20260421T213058
CREATED:20241203T105358Z
LAST-MODIFIED:20241210T100740Z
UID:10002575-1759968000-1760054399@abfall-kyffhaeuser.de
SUMMARY:Biotonne
DESCRIPTION:
URL:https://abfall-kyffhaeuser.de/kalender/biotonne-20/2025-10-09/
LOCATION:Badra\, Badra\, Kyffhäuserland
CATEGORIES:Biotonne
ATTACH;FMTTYPE=image/jpeg:https://abfall-kyffhaeuser.de/wp-content/uploads/2024/02/01-Biotonne.jpg
END:VEVENT
BEGIN:VEVENT
DTSTART;VALUE=DATE:20251016
DTEND;VALUE=DATE:20251017
DTSTAMP:20260421T213058
CREATED:20241203T104109Z
LAST-MODIFIED:20241210T093733Z
UID:10002548-1760572800-1760659199@abfall-kyffhaeuser.de
SUMMARY:Restabfall
DESCRIPTION:
URL:https://abfall-kyffhaeuser.de/kalender/restabfall-25/2025-10-16/
LOCATION:Badra\, Badra\, Kyffhäuserland
CATEGORIES:Restabfall
ATTACH;FMTTYPE=image/jpeg:https://abfall-kyffhaeuser.de/wp-content/uploads/2024/02/Restabfall.jpg
END:VEVENT
BEGIN:VEVENT
DTSTART;VALUE=DATE:20251017
DTEND;VALUE=DATE:20251018
DTSTAMP:20260421T213058
CREATED:20241119T111202Z
LAST-MODIFIED:20241203T111831Z
UID:10001921-1760659200-1760745599@abfall-kyffhaeuser.de
SUMMARY:Papiertonne
DESCRIPTION:
URL:https://abfall-kyffhaeuser.de/kalender/papiertonne-80/2025-10-17/
LOCATION:Borxleben\, Borxleben\, Artern
CATEGORIES:Papiertonne
ATTACH;FMTTYPE=image/jpeg:https://abfall-kyffhaeuser.de/wp-content/uploads/2024/02/Papiertonne.jpg
END:VEVENT
BEGIN:VEVENT
DTSTART;VALUE=DATE:20251021
DTEND;VALUE=DATE:20251022
DTSTAMP:20260421T213058
CREATED:20241119T104757Z
LAST-MODIFIED:20241203T105912Z
UID:10001893-1761004800-1761091199@abfall-kyffhaeuser.de
SUMMARY:Papiertonne
DESCRIPTION:
URL:https://abfall-kyffhaeuser.de/kalender/papiertonne-75/2025-10-21/
LOCATION:Artern – Tour 2\, Artern - Tour 2\, Artern
CATEGORIES:Papiertonne
ATTACH;FMTTYPE=image/jpeg:https://abfall-kyffhaeuser.de/wp-content/uploads/2024/02/Papiertonne.jpg
END:VEVENT
BEGIN:VEVENT
DTSTART;VALUE=DATE:20251022
DTEND;VALUE=DATE:20251023
DTSTAMP:20260421T213058
CREATED:20241204T080846Z
LAST-MODIFIED:20241210T102703Z
UID:10002589-1761091200-1761177599@abfall-kyffhaeuser.de
SUMMARY:Gelbe Tonne
DESCRIPTION:
URL:https://abfall-kyffhaeuser.de/kalender/gelbe-tonne-73/2025-10-22/
LOCATION:Badra\, Badra\, Kyffhäuserland
CATEGORIES:Gelbe Tonne
ATTACH;FMTTYPE=image/jpeg:https://abfall-kyffhaeuser.de/wp-content/uploads/2024/02/Gelbe-Tonne.jpg
END:VEVENT
BEGIN:VEVENT
DTSTART;VALUE=DATE:20251022
DTEND;VALUE=DATE:20251023
DTSTAMP:20260421T213058
CREATED:20241204T084511Z
LAST-MODIFIED:20241204T084511Z
UID:10002611-1761091200-1761177599@abfall-kyffhaeuser.de
SUMMARY:Gelber RC
DESCRIPTION:
URL:https://abfall-kyffhaeuser.de/kalender/gelber-rc-2/2025-10-22/
LOCATION:Göllingen\, Göllingen\, Kyffhäuserland
CATEGORIES:Gelber RC
ATTACH;FMTTYPE=image/jpeg:https://abfall-kyffhaeuser.de/wp-content/uploads/2024/03/Gelber-RC.jpg
END:VEVENT
BEGIN:VEVENT
DTSTART;VALUE=DATE:20251023
DTEND;VALUE=DATE:20251024
DTSTAMP:20260421T213058
CREATED:20241203T105358Z
LAST-MODIFIED:20241210T100740Z
UID:10002576-1761177600-1761263999@abfall-kyffhaeuser.de
SUMMARY:Biotonne
DESCRIPTION:
URL:https://abfall-kyffhaeuser.de/kalender/biotonne-20/2025-10-23/
LOCATION:Badra\, Badra\, Kyffhäuserland
CATEGORIES:Biotonne
ATTACH;FMTTYPE=image/jpeg:https://abfall-kyffhaeuser.de/wp-content/uploads/2024/02/01-Biotonne.jpg
END:VEVENT
BEGIN:VEVENT
DTSTART;VALUE=DATE:20251030
DTEND;VALUE=DATE:20251031
DTSTAMP:20260421T213058
CREATED:20241203T104109Z
LAST-MODIFIED:20241210T093733Z
UID:10002549-1761782400-1761868799@abfall-kyffhaeuser.de
SUMMARY:Restabfall
DESCRIPTION:
URL:https://abfall-kyffhaeuser.de/kalender/restabfall-25/2025-10-30/
LOCATION:Badra\, Badra\, Kyffhäuserland
CATEGORIES:Restabfall
ATTACH;FMTTYPE=image/jpeg:https://abfall-kyffhaeuser.de/wp-content/uploads/2024/02/Restabfall.jpg
END:VEVENT
END:VCALENDAR