BEGIN:VCALENDAR
VERSION:2.0
PRODID:-//Abfallwirtschaft Kyffhäuserkreis - ECPv6.15.17.1//NONSGML v1.0//EN
CALSCALE:GREGORIAN
METHOD:PUBLISH
X-WR-CALNAME:Abfallwirtschaft Kyffhäuserkreis
X-ORIGINAL-URL:https://abfall-kyffhaeuser.de
X-WR-CALDESC:Veranstaltungen für Abfallwirtschaft Kyffhäuserkreis
REFRESH-INTERVAL;VALUE=DURATION:PT1H
X-Robots-Tag:noindex
X-PUBLISHED-TTL:PT1H
BEGIN:VTIMEZONE
TZID:Europe/Berlin
BEGIN:DAYLIGHT
TZOFFSETFROM:+0100
TZOFFSETTO:+0200
TZNAME:CEST
DTSTART:20250330T010000
END:DAYLIGHT
BEGIN:STANDARD
TZOFFSETFROM:+0200
TZOFFSETTO:+0100
TZNAME:CET
DTSTART:20251026T010000
END:STANDARD
BEGIN:DAYLIGHT
TZOFFSETFROM:+0100
TZOFFSETTO:+0200
TZNAME:CEST
DTSTART:20260329T010000
END:DAYLIGHT
BEGIN:STANDARD
TZOFFSETFROM:+0200
TZOFFSETTO:+0100
TZNAME:CET
DTSTART:20261025T010000
END:STANDARD
BEGIN:DAYLIGHT
TZOFFSETFROM:+0100
TZOFFSETTO:+0200
TZNAME:CEST
DTSTART:20270328T010000
END:DAYLIGHT
BEGIN:STANDARD
TZOFFSETFROM:+0200
TZOFFSETTO:+0100
TZNAME:CET
DTSTART:20271031T010000
END:STANDARD
END:VTIMEZONE
BEGIN:VEVENT
DTSTART;VALUE=DATE:20260904
DTEND;VALUE=DATE:20260905
DTSTAMP:20260421T181639
CREATED:20251229T190617Z
LAST-MODIFIED:20251229T190617Z
UID:10005153-1788508800-1788541200@abfall-kyffhaeuser.de
SUMMARY:Biotonne
DESCRIPTION:Biotonne
URL:https://abfall-kyffhaeuser.de/kalender/biotonne-92/2026-09-04/
LOCATION:Otterstedt\, Otterstedt\, Greußen
CATEGORIES:Biotonne
END:VEVENT
BEGIN:VEVENT
DTSTART;VALUE=DATE:20260907
DTEND;VALUE=DATE:20260908
DTSTAMP:20260421T181639
CREATED:20251229T181224Z
LAST-MODIFIED:20251229T181224Z
UID:10005076-1788768000-1788800400@abfall-kyffhaeuser.de
SUMMARY:Restabfall
DESCRIPTION:Restabfall
URL:https://abfall-kyffhaeuser.de/kalender/restabfall-83/2026-09-07/
LOCATION:Greußen\, Greußen\, Greußen
CATEGORIES:Restabfall
END:VEVENT
BEGIN:VEVENT
DTSTART;VALUE=DATE:20260907
DTEND;VALUE=DATE:20260908
DTSTAMP:20260421T181639
CREATED:20251229T200747Z
LAST-MODIFIED:20251229T200747Z
UID:10005223-1788768000-1788800400@abfall-kyffhaeuser.de
SUMMARY:Papiertonne
DESCRIPTION:Papiertonne
URL:https://abfall-kyffhaeuser.de/kalender/papiertonne-137/2026-09-07/
LOCATION:Greußen\, Greußen\, Greußen
CATEGORIES:Papiertonne
END:VEVENT
BEGIN:VEVENT
DTSTART;VALUE=DATE:20260908
DTEND;VALUE=DATE:20260909
DTSTAMP:20260421T181639
CREATED:20251229T201245Z
LAST-MODIFIED:20251229T201245Z
UID:10005236-1788854400-1788886800@abfall-kyffhaeuser.de
SUMMARY:Papiertonne
DESCRIPTION:Papiertonne
URL:https://abfall-kyffhaeuser.de/kalender/papiertonne-138/2026-09-08/
LOCATION:Clingen\, Clingen\, Greußen
CATEGORIES:Papiertonne
END:VEVENT
BEGIN:VEVENT
DTSTART;VALUE=DATE:20260909
DTEND;VALUE=DATE:20260910
DTSTAMP:20260421T181639
CREATED:20251229T201723Z
LAST-MODIFIED:20251229T201723Z
UID:10005249-1788940800-1788973200@abfall-kyffhaeuser.de
SUMMARY:Papiertonne
DESCRIPTION:Papiertonne
URL:https://abfall-kyffhaeuser.de/kalender/papiertonne-139/2026-09-09/
LOCATION:Großenehrich\, Großenehrich\, Greußen
CATEGORIES:Papiertonne
END:VEVENT
BEGIN:VEVENT
DTSTART;VALUE=DATE:20260910
DTEND;VALUE=DATE:20260911
DTSTAMP:20260421T181639
CREATED:20251229T202722Z
LAST-MODIFIED:20251229T202722Z
UID:10005262-1789027200-1789059600@abfall-kyffhaeuser.de
SUMMARY:Papiertonne
DESCRIPTION:Papiertonne
URL:https://abfall-kyffhaeuser.de/kalender/papiertonne-140/2026-09-10/
LOCATION:Feldengel\, Feldengel\, Greußen
CATEGORIES:Papiertonne
END:VEVENT
BEGIN:VEVENT
DTSTART;VALUE=DATE:20260911
DTEND;VALUE=DATE:20260912
DTSTAMP:20260421T181639
CREATED:20251229T182658Z
LAST-MODIFIED:20251229T182658Z
UID:10005102-1789113600-1789146000@abfall-kyffhaeuser.de
SUMMARY:Restabfall
DESCRIPTION:Restabfall
URL:https://abfall-kyffhaeuser.de/kalender/restabfall-84/2026-09-11/
LOCATION:Otterstedt\, Otterstedt\, Greußen
CATEGORIES:Restabfall
END:VEVENT
BEGIN:VEVENT
DTSTART;VALUE=DATE:20260914
DTEND;VALUE=DATE:20260915
DTSTAMP:20260421T181639
CREATED:20251229T185429Z
LAST-MODIFIED:20251229T185429Z
UID:10005128-1789372800-1789405200@abfall-kyffhaeuser.de
SUMMARY:Biotonne
DESCRIPTION:Biotonne
URL:https://abfall-kyffhaeuser.de/kalender/biotonne-91/2026-09-14/
LOCATION:Greußen\, Greußen\, Greußen
CATEGORIES:Biotonne
END:VEVENT
BEGIN:VEVENT
DTSTART;VALUE=DATE:20260916
DTEND;VALUE=DATE:20260917
DTSTAMP:20260421T181639
CREATED:20251229T193750Z
LAST-MODIFIED:20251229T193750Z
UID:10005197-1789545600-1789578000@abfall-kyffhaeuser.de
SUMMARY:Gelbe Tonne
DESCRIPTION:Gelbe Tonne
URL:https://abfall-kyffhaeuser.de/kalender/gelbe-tonne-91/2026-09-16/
LOCATION:Wasserthaleben\, Wasserthaleben\, Greußen
CATEGORIES:Gelbe Tonne
END:VEVENT
BEGIN:VEVENT
DTSTART;VALUE=DATE:20260917
DTEND;VALUE=DATE:20260918
DTSTAMP:20260421T181639
CREATED:20251229T191809Z
LAST-MODIFIED:20251229T191809Z
UID:10005171-1789632000-1789664400@abfall-kyffhaeuser.de
SUMMARY:Gelbe Tonne
DESCRIPTION:Gelbe Tonne
URL:https://abfall-kyffhaeuser.de/kalender/gelbe-tonne-89/2026-09-17/
LOCATION:Greußen\, Greußen\, Greußen
CATEGORIES:Gelbe Tonne
END:VEVENT
BEGIN:VEVENT
DTSTART;VALUE=DATE:20260917
DTEND;VALUE=DATE:20260918
DTSTAMP:20260421T181639
CREATED:20251229T200155Z
LAST-MODIFIED:20251229T200155Z
UID:10005211-1789632000-1789664400@abfall-kyffhaeuser.de
SUMMARY:Papiertonne
DESCRIPTION:Papiertonne
URL:https://abfall-kyffhaeuser.de/kalender/papiertonne-136/2026-09-17/
LOCATION:Bliederstedt\, Bliederstedt\, Greußen
CATEGORIES:Papiertonne
END:VEVENT
BEGIN:VEVENT
DTSTART;VALUE=DATE:20260918
DTEND;VALUE=DATE:20260919
DTSTAMP:20260421T181639
CREATED:20251229T190617Z
LAST-MODIFIED:20251229T190617Z
UID:10005154-1789718400-1789750800@abfall-kyffhaeuser.de
SUMMARY:Biotonne
DESCRIPTION:Biotonne
URL:https://abfall-kyffhaeuser.de/kalender/biotonne-92/2026-09-18/
LOCATION:Otterstedt\, Otterstedt\, Greußen
CATEGORIES:Biotonne
END:VEVENT
BEGIN:VEVENT
DTSTART;VALUE=DATE:20260918
DTEND;VALUE=DATE:20260919
DTSTAMP:20260421T181639
CREATED:20251229T193108Z
LAST-MODIFIED:20251229T193108Z
UID:10005184-1789718400-1789750800@abfall-kyffhaeuser.de
SUMMARY:Gelbe Tonne
DESCRIPTION:Gelbe Tonne
URL:https://abfall-kyffhaeuser.de/kalender/gelbe-tonne-90/2026-09-18/
LOCATION:Feldengel\, Feldengel\, Greußen
CATEGORIES:Gelbe Tonne
END:VEVENT
BEGIN:VEVENT
DTSTART;VALUE=DATE:20260921
DTEND;VALUE=DATE:20260922
DTSTAMP:20260421T181639
CREATED:20251229T181224Z
LAST-MODIFIED:20251229T181224Z
UID:10005077-1789977600-1790010000@abfall-kyffhaeuser.de
SUMMARY:Restabfall
DESCRIPTION:Restabfall
URL:https://abfall-kyffhaeuser.de/kalender/restabfall-83/2026-09-21/
LOCATION:Greußen\, Greußen\, Greußen
CATEGORIES:Restabfall
END:VEVENT
BEGIN:VEVENT
DTSTART;VALUE=DATE:20260925
DTEND;VALUE=DATE:20260926
DTSTAMP:20260421T181639
CREATED:20251229T182658Z
LAST-MODIFIED:20251229T182658Z
UID:10005103-1790323200-1790355600@abfall-kyffhaeuser.de
SUMMARY:Restabfall
DESCRIPTION:Restabfall
URL:https://abfall-kyffhaeuser.de/kalender/restabfall-84/2026-09-25/
LOCATION:Otterstedt\, Otterstedt\, Greußen
CATEGORIES:Restabfall
END:VEVENT
BEGIN:VEVENT
DTSTART;VALUE=DATE:20260928
DTEND;VALUE=DATE:20260929
DTSTAMP:20260421T181639
CREATED:20251229T185429Z
LAST-MODIFIED:20251229T185429Z
UID:10005129-1790582400-1790614800@abfall-kyffhaeuser.de
SUMMARY:Biotonne
DESCRIPTION:Biotonne
URL:https://abfall-kyffhaeuser.de/kalender/biotonne-91/2026-09-28/
LOCATION:Greußen\, Greußen\, Greußen
CATEGORIES:Biotonne
END:VEVENT
END:VCALENDAR