BEGIN:VCALENDAR
VERSION:2.0
PRODID:-//Abfallwirtschaft Kyffhäuserkreis - ECPv6.15.17.1//NONSGML v1.0//EN
CALSCALE:GREGORIAN
METHOD:PUBLISH
X-ORIGINAL-URL:https://abfall-kyffhaeuser.de
X-WR-CALDESC:Veranstaltungen für Abfallwirtschaft Kyffhäuserkreis
REFRESH-INTERVAL;VALUE=DURATION:PT1H
X-Robots-Tag:noindex
X-PUBLISHED-TTL:PT1H
BEGIN:VTIMEZONE
TZID:Europe/Berlin
BEGIN:DAYLIGHT
TZOFFSETFROM:+0100
TZOFFSETTO:+0200
TZNAME:CEST
DTSTART:20250330T010000
END:DAYLIGHT
BEGIN:STANDARD
TZOFFSETFROM:+0200
TZOFFSETTO:+0100
TZNAME:CET
DTSTART:20251026T010000
END:STANDARD
BEGIN:DAYLIGHT
TZOFFSETFROM:+0100
TZOFFSETTO:+0200
TZNAME:CEST
DTSTART:20260329T010000
END:DAYLIGHT
BEGIN:STANDARD
TZOFFSETFROM:+0200
TZOFFSETTO:+0100
TZNAME:CET
DTSTART:20261025T010000
END:STANDARD
BEGIN:DAYLIGHT
TZOFFSETFROM:+0100
TZOFFSETTO:+0200
TZNAME:CEST
DTSTART:20270328T010000
END:DAYLIGHT
BEGIN:STANDARD
TZOFFSETFROM:+0200
TZOFFSETTO:+0100
TZNAME:CET
DTSTART:20271031T010000
END:STANDARD
END:VTIMEZONE
BEGIN:VEVENT
DTSTART;VALUE=DATE:20260803
DTEND;VALUE=DATE:20260804
DTSTAMP:20260421T165409
CREATED:20251229T185429Z
LAST-MODIFIED:20251229T185429Z
UID:10005125-1785744000-1785776400@abfall-kyffhaeuser.de
SUMMARY:Biotonne
DESCRIPTION:Biotonne
URL:https://abfall-kyffhaeuser.de/kalender/biotonne-91/2026-08-03/
LOCATION:Greußen\, Greußen\, Greußen
CATEGORIES:Biotonne
END:VEVENT
BEGIN:VEVENT
DTSTART;VALUE=DATE:20260807
DTEND;VALUE=DATE:20260808
DTSTAMP:20260421T165409
CREATED:20251229T190617Z
LAST-MODIFIED:20251229T190617Z
UID:10005151-1786089600-1786122000@abfall-kyffhaeuser.de
SUMMARY:Biotonne
DESCRIPTION:Biotonne
URL:https://abfall-kyffhaeuser.de/kalender/biotonne-92/2026-08-07/
LOCATION:Otterstedt\, Otterstedt\, Greußen
CATEGORIES:Biotonne
END:VEVENT
BEGIN:VEVENT
DTSTART;VALUE=DATE:20260810
DTEND;VALUE=DATE:20260811
DTSTAMP:20260421T165409
CREATED:20251229T181224Z
LAST-MODIFIED:20251229T181224Z
UID:10005074-1786348800-1786381200@abfall-kyffhaeuser.de
SUMMARY:Restabfall
DESCRIPTION:Restabfall
URL:https://abfall-kyffhaeuser.de/kalender/restabfall-83/2026-08-10/
LOCATION:Greußen\, Greußen\, Greußen
CATEGORIES:Restabfall
END:VEVENT
BEGIN:VEVENT
DTSTART;VALUE=DATE:20260810
DTEND;VALUE=DATE:20260811
DTSTAMP:20260421T165409
CREATED:20251229T200747Z
LAST-MODIFIED:20251229T200747Z
UID:10005222-1786348800-1786381200@abfall-kyffhaeuser.de
SUMMARY:Papiertonne
DESCRIPTION:Papiertonne
URL:https://abfall-kyffhaeuser.de/kalender/papiertonne-137/2026-08-10/
LOCATION:Greußen\, Greußen\, Greußen
CATEGORIES:Papiertonne
END:VEVENT
BEGIN:VEVENT
DTSTART;VALUE=DATE:20260811
DTEND;VALUE=DATE:20260812
DTSTAMP:20260421T165409
CREATED:20251229T201245Z
LAST-MODIFIED:20251229T201245Z
UID:10005235-1786435200-1786467600@abfall-kyffhaeuser.de
SUMMARY:Papiertonne
DESCRIPTION:Papiertonne
URL:https://abfall-kyffhaeuser.de/kalender/papiertonne-138/2026-08-11/
LOCATION:Clingen\, Clingen\, Greußen
CATEGORIES:Papiertonne
END:VEVENT
BEGIN:VEVENT
DTSTART;VALUE=DATE:20260812
DTEND;VALUE=DATE:20260813
DTSTAMP:20260421T165409
CREATED:20251229T201723Z
LAST-MODIFIED:20251229T201723Z
UID:10005248-1786521600-1786554000@abfall-kyffhaeuser.de
SUMMARY:Papiertonne
DESCRIPTION:Papiertonne
URL:https://abfall-kyffhaeuser.de/kalender/papiertonne-139/2026-08-12/
LOCATION:Großenehrich\, Großenehrich\, Greußen
CATEGORIES:Papiertonne
END:VEVENT
BEGIN:VEVENT
DTSTART;VALUE=DATE:20260813
DTEND;VALUE=DATE:20260814
DTSTAMP:20260421T165409
CREATED:20251229T202722Z
LAST-MODIFIED:20251229T202722Z
UID:10005261-1786608000-1786640400@abfall-kyffhaeuser.de
SUMMARY:Papiertonne
DESCRIPTION:Papiertonne
URL:https://abfall-kyffhaeuser.de/kalender/papiertonne-140/2026-08-13/
LOCATION:Feldengel\, Feldengel\, Greußen
CATEGORIES:Papiertonne
END:VEVENT
BEGIN:VEVENT
DTSTART;VALUE=DATE:20260814
DTEND;VALUE=DATE:20260815
DTSTAMP:20260421T165409
CREATED:20251229T182658Z
LAST-MODIFIED:20251229T182658Z
UID:10005100-1786694400-1786726800@abfall-kyffhaeuser.de
SUMMARY:Restabfall
DESCRIPTION:Restabfall
URL:https://abfall-kyffhaeuser.de/kalender/restabfall-84/2026-08-14/
LOCATION:Otterstedt\, Otterstedt\, Greußen
CATEGORIES:Restabfall
END:VEVENT
BEGIN:VEVENT
DTSTART;VALUE=DATE:20260817
DTEND;VALUE=DATE:20260818
DTSTAMP:20260421T165409
CREATED:20251229T185429Z
LAST-MODIFIED:20251229T185429Z
UID:10005126-1786953600-1786986000@abfall-kyffhaeuser.de
SUMMARY:Biotonne
DESCRIPTION:Biotonne
URL:https://abfall-kyffhaeuser.de/kalender/biotonne-91/2026-08-17/
LOCATION:Greußen\, Greußen\, Greußen
CATEGORIES:Biotonne
END:VEVENT
BEGIN:VEVENT
DTSTART;VALUE=DATE:20260819
DTEND;VALUE=DATE:20260820
DTSTAMP:20260421T165409
CREATED:20251229T193750Z
LAST-MODIFIED:20251229T193750Z
UID:10005196-1787126400-1787158800@abfall-kyffhaeuser.de
SUMMARY:Gelbe Tonne
DESCRIPTION:Gelbe Tonne
URL:https://abfall-kyffhaeuser.de/kalender/gelbe-tonne-91/2026-08-19/
LOCATION:Wasserthaleben\, Wasserthaleben\, Greußen
CATEGORIES:Gelbe Tonne
END:VEVENT
BEGIN:VEVENT
DTSTART;VALUE=DATE:20260820
DTEND;VALUE=DATE:20260821
DTSTAMP:20260421T165409
CREATED:20251229T191809Z
LAST-MODIFIED:20251229T191809Z
UID:10005170-1787212800-1787245200@abfall-kyffhaeuser.de
SUMMARY:Gelbe Tonne
DESCRIPTION:Gelbe Tonne
URL:https://abfall-kyffhaeuser.de/kalender/gelbe-tonne-89/2026-08-20/
LOCATION:Greußen\, Greußen\, Greußen
CATEGORIES:Gelbe Tonne
END:VEVENT
BEGIN:VEVENT
DTSTART;VALUE=DATE:20260820
DTEND;VALUE=DATE:20260821
DTSTAMP:20260421T165409
CREATED:20251229T200155Z
LAST-MODIFIED:20251229T200155Z
UID:10005210-1787212800-1787245200@abfall-kyffhaeuser.de
SUMMARY:Papiertonne
DESCRIPTION:Papiertonne
URL:https://abfall-kyffhaeuser.de/kalender/papiertonne-136/2026-08-20/
LOCATION:Bliederstedt\, Bliederstedt\, Greußen
CATEGORIES:Papiertonne
END:VEVENT
BEGIN:VEVENT
DTSTART;VALUE=DATE:20260821
DTEND;VALUE=DATE:20260822
DTSTAMP:20260421T165409
CREATED:20251229T190617Z
LAST-MODIFIED:20251229T190617Z
UID:10005152-1787299200-1787331600@abfall-kyffhaeuser.de
SUMMARY:Biotonne
DESCRIPTION:Biotonne
URL:https://abfall-kyffhaeuser.de/kalender/biotonne-92/2026-08-21/
LOCATION:Otterstedt\, Otterstedt\, Greußen
CATEGORIES:Biotonne
END:VEVENT
BEGIN:VEVENT
DTSTART;VALUE=DATE:20260821
DTEND;VALUE=DATE:20260822
DTSTAMP:20260421T165409
CREATED:20251229T193108Z
LAST-MODIFIED:20251229T193108Z
UID:10005183-1787299200-1787331600@abfall-kyffhaeuser.de
SUMMARY:Gelbe Tonne
DESCRIPTION:Gelbe Tonne
URL:https://abfall-kyffhaeuser.de/kalender/gelbe-tonne-90/2026-08-21/
LOCATION:Feldengel\, Feldengel\, Greußen
CATEGORIES:Gelbe Tonne
END:VEVENT
BEGIN:VEVENT
DTSTART;VALUE=DATE:20260824
DTEND;VALUE=DATE:20260825
DTSTAMP:20260421T165409
CREATED:20251229T181224Z
LAST-MODIFIED:20251229T181224Z
UID:10005075-1787558400-1787590800@abfall-kyffhaeuser.de
SUMMARY:Restabfall
DESCRIPTION:Restabfall
URL:https://abfall-kyffhaeuser.de/kalender/restabfall-83/2026-08-24/
LOCATION:Greußen\, Greußen\, Greußen
CATEGORIES:Restabfall
END:VEVENT
BEGIN:VEVENT
DTSTART;VALUE=DATE:20260828
DTEND;VALUE=DATE:20260829
DTSTAMP:20260421T165409
CREATED:20251229T182658Z
LAST-MODIFIED:20251229T182658Z
UID:10005101-1787904000-1787936400@abfall-kyffhaeuser.de
SUMMARY:Restabfall
DESCRIPTION:Restabfall
URL:https://abfall-kyffhaeuser.de/kalender/restabfall-84/2026-08-28/
LOCATION:Otterstedt\, Otterstedt\, Greußen
CATEGORIES:Restabfall
END:VEVENT
BEGIN:VEVENT
DTSTART;VALUE=DATE:20260831
DTEND;VALUE=DATE:20260901
DTSTAMP:20260421T165409
CREATED:20251229T185429Z
LAST-MODIFIED:20251229T185429Z
UID:10005127-1788163200-1788195600@abfall-kyffhaeuser.de
SUMMARY:Biotonne
DESCRIPTION:Biotonne
URL:https://abfall-kyffhaeuser.de/kalender/biotonne-91/2026-08-31/
LOCATION:Greußen\, Greußen\, Greußen
CATEGORIES:Biotonne
END:VEVENT
END:VCALENDAR