BEGIN:VCALENDAR
VERSION:2.0
PRODID:-//Abfallwirtschaft Kyffhäuserkreis - ECPv6.15.17.1//NONSGML v1.0//EN
CALSCALE:GREGORIAN
METHOD:PUBLISH
X-ORIGINAL-URL:https://abfall-kyffhaeuser.de
X-WR-CALDESC:Veranstaltungen für Abfallwirtschaft Kyffhäuserkreis
REFRESH-INTERVAL;VALUE=DURATION:PT1H
X-Robots-Tag:noindex
X-PUBLISHED-TTL:PT1H
BEGIN:VTIMEZONE
TZID:Europe/Berlin
BEGIN:DAYLIGHT
TZOFFSETFROM:+0100
TZOFFSETTO:+0200
TZNAME:CEST
DTSTART:20250330T010000
END:DAYLIGHT
BEGIN:STANDARD
TZOFFSETFROM:+0200
TZOFFSETTO:+0100
TZNAME:CET
DTSTART:20251026T010000
END:STANDARD
BEGIN:DAYLIGHT
TZOFFSETFROM:+0100
TZOFFSETTO:+0200
TZNAME:CEST
DTSTART:20260329T010000
END:DAYLIGHT
BEGIN:STANDARD
TZOFFSETFROM:+0200
TZOFFSETTO:+0100
TZNAME:CET
DTSTART:20261025T010000
END:STANDARD
BEGIN:DAYLIGHT
TZOFFSETFROM:+0100
TZOFFSETTO:+0200
TZNAME:CEST
DTSTART:20270328T010000
END:DAYLIGHT
BEGIN:STANDARD
TZOFFSETFROM:+0200
TZOFFSETTO:+0100
TZNAME:CET
DTSTART:20271031T010000
END:STANDARD
END:VTIMEZONE
BEGIN:VEVENT
DTSTART;VALUE=DATE:20260703
DTEND;VALUE=DATE:20260704
DTSTAMP:20260421T151956
CREATED:20251229T182658Z
LAST-MODIFIED:20251229T182658Z
UID:10005097-1783065600-1783098000@abfall-kyffhaeuser.de
SUMMARY:Restabfall
DESCRIPTION:Restabfall
URL:https://abfall-kyffhaeuser.de/kalender/restabfall-84/2026-07-03/
LOCATION:Otterstedt\, Otterstedt\, Greußen
CATEGORIES:Restabfall
END:VEVENT
BEGIN:VEVENT
DTSTART;VALUE=DATE:20260706
DTEND;VALUE=DATE:20260707
DTSTAMP:20260421T151957
CREATED:20251229T185429Z
LAST-MODIFIED:20251229T185429Z
UID:10005123-1783324800-1783357200@abfall-kyffhaeuser.de
SUMMARY:Biotonne
DESCRIPTION:Biotonne
URL:https://abfall-kyffhaeuser.de/kalender/biotonne-91/2026-07-06/
LOCATION:Greußen\, Greußen\, Greußen
CATEGORIES:Biotonne
END:VEVENT
BEGIN:VEVENT
DTSTART;VALUE=DATE:20260710
DTEND;VALUE=DATE:20260711
DTSTAMP:20260421T151957
CREATED:20251229T190617Z
LAST-MODIFIED:20251229T190617Z
UID:10005149-1783670400-1783702800@abfall-kyffhaeuser.de
SUMMARY:Biotonne
DESCRIPTION:Biotonne
URL:https://abfall-kyffhaeuser.de/kalender/biotonne-92/2026-07-10/
LOCATION:Otterstedt\, Otterstedt\, Greußen
CATEGORIES:Biotonne
END:VEVENT
BEGIN:VEVENT
DTSTART;VALUE=DATE:20260713
DTEND;VALUE=DATE:20260714
DTSTAMP:20260421T151957
CREATED:20251229T181224Z
LAST-MODIFIED:20251229T181224Z
UID:10005072-1783929600-1783962000@abfall-kyffhaeuser.de
SUMMARY:Restabfall
DESCRIPTION:Restabfall
URL:https://abfall-kyffhaeuser.de/kalender/restabfall-83/2026-07-13/
LOCATION:Greußen\, Greußen\, Greußen
CATEGORIES:Restabfall
END:VEVENT
BEGIN:VEVENT
DTSTART;VALUE=DATE:20260713
DTEND;VALUE=DATE:20260714
DTSTAMP:20260421T151957
CREATED:20251229T200747Z
LAST-MODIFIED:20251229T200747Z
UID:10005221-1783929600-1783962000@abfall-kyffhaeuser.de
SUMMARY:Papiertonne
DESCRIPTION:Papiertonne
URL:https://abfall-kyffhaeuser.de/kalender/papiertonne-137/2026-07-13/
LOCATION:Greußen\, Greußen\, Greußen
CATEGORIES:Papiertonne
END:VEVENT
BEGIN:VEVENT
DTSTART;VALUE=DATE:20260714
DTEND;VALUE=DATE:20260715
DTSTAMP:20260421T151957
CREATED:20251229T201245Z
LAST-MODIFIED:20251229T201245Z
UID:10005234-1784016000-1784048400@abfall-kyffhaeuser.de
SUMMARY:Papiertonne
DESCRIPTION:Papiertonne
URL:https://abfall-kyffhaeuser.de/kalender/papiertonne-138/2026-07-14/
LOCATION:Clingen\, Clingen\, Greußen
CATEGORIES:Papiertonne
END:VEVENT
BEGIN:VEVENT
DTSTART;VALUE=DATE:20260715
DTEND;VALUE=DATE:20260716
DTSTAMP:20260421T151957
CREATED:20251229T201723Z
LAST-MODIFIED:20251229T201723Z
UID:10005247-1784102400-1784134800@abfall-kyffhaeuser.de
SUMMARY:Papiertonne
DESCRIPTION:Papiertonne
URL:https://abfall-kyffhaeuser.de/kalender/papiertonne-139/2026-07-15/
LOCATION:Großenehrich\, Großenehrich\, Greußen
CATEGORIES:Papiertonne
END:VEVENT
BEGIN:VEVENT
DTSTART;VALUE=DATE:20260716
DTEND;VALUE=DATE:20260717
DTSTAMP:20260421T151957
CREATED:20251229T202722Z
LAST-MODIFIED:20251229T202722Z
UID:10005260-1784188800-1784221200@abfall-kyffhaeuser.de
SUMMARY:Papiertonne
DESCRIPTION:Papiertonne
URL:https://abfall-kyffhaeuser.de/kalender/papiertonne-140/2026-07-16/
LOCATION:Feldengel\, Feldengel\, Greußen
CATEGORIES:Papiertonne
END:VEVENT
BEGIN:VEVENT
DTSTART;VALUE=DATE:20260717
DTEND;VALUE=DATE:20260718
DTSTAMP:20260421T151957
CREATED:20251229T182658Z
LAST-MODIFIED:20251229T182658Z
UID:10005098-1784275200-1784307600@abfall-kyffhaeuser.de
SUMMARY:Restabfall
DESCRIPTION:Restabfall
URL:https://abfall-kyffhaeuser.de/kalender/restabfall-84/2026-07-17/
LOCATION:Otterstedt\, Otterstedt\, Greußen
CATEGORIES:Restabfall
END:VEVENT
BEGIN:VEVENT
DTSTART;VALUE=DATE:20260720
DTEND;VALUE=DATE:20260721
DTSTAMP:20260421T151957
CREATED:20251229T185429Z
LAST-MODIFIED:20251229T185429Z
UID:10005124-1784534400-1784566800@abfall-kyffhaeuser.de
SUMMARY:Biotonne
DESCRIPTION:Biotonne
URL:https://abfall-kyffhaeuser.de/kalender/biotonne-91/2026-07-20/
LOCATION:Greußen\, Greußen\, Greußen
CATEGORIES:Biotonne
END:VEVENT
BEGIN:VEVENT
DTSTART;VALUE=DATE:20260722
DTEND;VALUE=DATE:20260723
DTSTAMP:20260421T151957
CREATED:20251229T193750Z
LAST-MODIFIED:20251229T193750Z
UID:10005195-1784707200-1784739600@abfall-kyffhaeuser.de
SUMMARY:Gelbe Tonne
DESCRIPTION:Gelbe Tonne
URL:https://abfall-kyffhaeuser.de/kalender/gelbe-tonne-91/2026-07-22/
LOCATION:Wasserthaleben\, Wasserthaleben\, Greußen
CATEGORIES:Gelbe Tonne
END:VEVENT
BEGIN:VEVENT
DTSTART;VALUE=DATE:20260723
DTEND;VALUE=DATE:20260724
DTSTAMP:20260421T151957
CREATED:20251229T191809Z
LAST-MODIFIED:20251229T191809Z
UID:10005169-1784793600-1784826000@abfall-kyffhaeuser.de
SUMMARY:Gelbe Tonne
DESCRIPTION:Gelbe Tonne
URL:https://abfall-kyffhaeuser.de/kalender/gelbe-tonne-89/2026-07-23/
LOCATION:Greußen\, Greußen\, Greußen
CATEGORIES:Gelbe Tonne
END:VEVENT
BEGIN:VEVENT
DTSTART;VALUE=DATE:20260723
DTEND;VALUE=DATE:20260724
DTSTAMP:20260421T151957
CREATED:20251229T200155Z
LAST-MODIFIED:20251229T200155Z
UID:10005209-1784793600-1784826000@abfall-kyffhaeuser.de
SUMMARY:Papiertonne
DESCRIPTION:Papiertonne
URL:https://abfall-kyffhaeuser.de/kalender/papiertonne-136/2026-07-23/
LOCATION:Bliederstedt\, Bliederstedt\, Greußen
CATEGORIES:Papiertonne
END:VEVENT
BEGIN:VEVENT
DTSTART;VALUE=DATE:20260724
DTEND;VALUE=DATE:20260725
DTSTAMP:20260421T151957
CREATED:20251229T190617Z
LAST-MODIFIED:20251229T190617Z
UID:10005150-1784880000-1784912400@abfall-kyffhaeuser.de
SUMMARY:Biotonne
DESCRIPTION:Biotonne
URL:https://abfall-kyffhaeuser.de/kalender/biotonne-92/2026-07-24/
LOCATION:Otterstedt\, Otterstedt\, Greußen
CATEGORIES:Biotonne
END:VEVENT
BEGIN:VEVENT
DTSTART;VALUE=DATE:20260724
DTEND;VALUE=DATE:20260725
DTSTAMP:20260421T151957
CREATED:20251229T193108Z
LAST-MODIFIED:20251229T193108Z
UID:10005182-1784880000-1784912400@abfall-kyffhaeuser.de
SUMMARY:Gelbe Tonne
DESCRIPTION:Gelbe Tonne
URL:https://abfall-kyffhaeuser.de/kalender/gelbe-tonne-90/2026-07-24/
LOCATION:Feldengel\, Feldengel\, Greußen
CATEGORIES:Gelbe Tonne
END:VEVENT
BEGIN:VEVENT
DTSTART;VALUE=DATE:20260727
DTEND;VALUE=DATE:20260728
DTSTAMP:20260421T151957
CREATED:20251229T181224Z
LAST-MODIFIED:20251229T181224Z
UID:10005073-1785139200-1785171600@abfall-kyffhaeuser.de
SUMMARY:Restabfall
DESCRIPTION:Restabfall
URL:https://abfall-kyffhaeuser.de/kalender/restabfall-83/2026-07-27/
LOCATION:Greußen\, Greußen\, Greußen
CATEGORIES:Restabfall
END:VEVENT
BEGIN:VEVENT
DTSTART;VALUE=DATE:20260731
DTEND;VALUE=DATE:20260801
DTSTAMP:20260421T151957
CREATED:20251229T182658Z
LAST-MODIFIED:20251229T182658Z
UID:10005099-1785484800-1785517200@abfall-kyffhaeuser.de
SUMMARY:Restabfall
DESCRIPTION:Restabfall
URL:https://abfall-kyffhaeuser.de/kalender/restabfall-84/2026-07-31/
LOCATION:Otterstedt\, Otterstedt\, Greußen
CATEGORIES:Restabfall
END:VEVENT
END:VCALENDAR