BEGIN:VCALENDAR
VERSION:2.0
PRODID:-//Abfallwirtschaft Kyffhäuserkreis - ECPv6.15.17.1//NONSGML v1.0//EN
CALSCALE:GREGORIAN
METHOD:PUBLISH
X-WR-CALNAME:Abfallwirtschaft Kyffhäuserkreis
X-ORIGINAL-URL:https://abfall-kyffhaeuser.de
X-WR-CALDESC:Veranstaltungen für Abfallwirtschaft Kyffhäuserkreis
REFRESH-INTERVAL;VALUE=DURATION:PT1H
X-Robots-Tag:noindex
X-PUBLISHED-TTL:PT1H
BEGIN:VTIMEZONE
TZID:Europe/Berlin
BEGIN:DAYLIGHT
TZOFFSETFROM:+0100
TZOFFSETTO:+0200
TZNAME:CEST
DTSTART:20250330T010000
END:DAYLIGHT
BEGIN:STANDARD
TZOFFSETFROM:+0200
TZOFFSETTO:+0100
TZNAME:CET
DTSTART:20251026T010000
END:STANDARD
BEGIN:DAYLIGHT
TZOFFSETFROM:+0100
TZOFFSETTO:+0200
TZNAME:CEST
DTSTART:20260329T010000
END:DAYLIGHT
BEGIN:STANDARD
TZOFFSETFROM:+0200
TZOFFSETTO:+0100
TZNAME:CET
DTSTART:20261025T010000
END:STANDARD
BEGIN:DAYLIGHT
TZOFFSETFROM:+0100
TZOFFSETTO:+0200
TZNAME:CEST
DTSTART:20270328T010000
END:DAYLIGHT
BEGIN:STANDARD
TZOFFSETFROM:+0200
TZOFFSETTO:+0100
TZNAME:CET
DTSTART:20271031T010000
END:STANDARD
END:VTIMEZONE
BEGIN:VEVENT
DTSTART;VALUE=DATE:20260601
DTEND;VALUE=DATE:20260602
DTSTAMP:20260421T134606
CREATED:20251229T181224Z
LAST-MODIFIED:20251229T181224Z
UID:10005069-1780300800-1780333200@abfall-kyffhaeuser.de
SUMMARY:Restabfall
DESCRIPTION:Restabfall
URL:https://abfall-kyffhaeuser.de/kalender/restabfall-83/2026-06-01/
LOCATION:Greußen\, Greußen\, Greußen
CATEGORIES:Restabfall
END:VEVENT
BEGIN:VEVENT
DTSTART;VALUE=DATE:20260601
DTEND;VALUE=DATE:20260602
DTSTAMP:20260421T134606
CREATED:20251229T191809Z
LAST-MODIFIED:20251229T191809Z
UID:10005167-1780300800-1780333200@abfall-kyffhaeuser.de
SUMMARY:Gelbe Tonne
DESCRIPTION:Gelbe Tonne
URL:https://abfall-kyffhaeuser.de/kalender/gelbe-tonne-89/2026-06-01/
LOCATION:Greußen\, Greußen\, Greußen
CATEGORIES:Gelbe Tonne
END:VEVENT
BEGIN:VEVENT
DTSTART;VALUE=DATE:20260602
DTEND;VALUE=DATE:20260603
DTSTAMP:20260421T134606
CREATED:20251229T193108Z
LAST-MODIFIED:20251229T193108Z
UID:10005180-1780387200-1780419600@abfall-kyffhaeuser.de
SUMMARY:Gelbe Tonne
DESCRIPTION:Gelbe Tonne
URL:https://abfall-kyffhaeuser.de/kalender/gelbe-tonne-90/2026-06-02/
LOCATION:Feldengel\, Feldengel\, Greußen
CATEGORIES:Gelbe Tonne
END:VEVENT
BEGIN:VEVENT
DTSTART;VALUE=DATE:20260605
DTEND;VALUE=DATE:20260606
DTSTAMP:20260421T134606
CREATED:20251229T182658Z
LAST-MODIFIED:20251229T182658Z
UID:10005095-1780646400-1780678800@abfall-kyffhaeuser.de
SUMMARY:Restabfall
DESCRIPTION:Restabfall
URL:https://abfall-kyffhaeuser.de/kalender/restabfall-84/2026-06-05/
LOCATION:Otterstedt\, Otterstedt\, Greußen
CATEGORIES:Restabfall
END:VEVENT
BEGIN:VEVENT
DTSTART;VALUE=DATE:20260608
DTEND;VALUE=DATE:20260609
DTSTAMP:20260421T134606
CREATED:20251229T185429Z
LAST-MODIFIED:20251229T185429Z
UID:10005121-1780905600-1780938000@abfall-kyffhaeuser.de
SUMMARY:Biotonne
DESCRIPTION:Biotonne
URL:https://abfall-kyffhaeuser.de/kalender/biotonne-91/2026-06-08/
LOCATION:Greußen\, Greußen\, Greußen
CATEGORIES:Biotonne
END:VEVENT
BEGIN:VEVENT
DTSTART;VALUE=DATE:20260612
DTEND;VALUE=DATE:20260613
DTSTAMP:20260421T134606
CREATED:20251229T190617Z
LAST-MODIFIED:20251229T190617Z
UID:10005147-1781251200-1781283600@abfall-kyffhaeuser.de
SUMMARY:Biotonne
DESCRIPTION:Biotonne
URL:https://abfall-kyffhaeuser.de/kalender/biotonne-92/2026-06-12/
LOCATION:Otterstedt\, Otterstedt\, Greußen
CATEGORIES:Biotonne
END:VEVENT
BEGIN:VEVENT
DTSTART;VALUE=DATE:20260615
DTEND;VALUE=DATE:20260616
DTSTAMP:20260421T134606
CREATED:20251229T181224Z
LAST-MODIFIED:20251229T181224Z
UID:10005070-1781510400-1781542800@abfall-kyffhaeuser.de
SUMMARY:Restabfall
DESCRIPTION:Restabfall
URL:https://abfall-kyffhaeuser.de/kalender/restabfall-83/2026-06-15/
LOCATION:Greußen\, Greußen\, Greußen
CATEGORIES:Restabfall
END:VEVENT
BEGIN:VEVENT
DTSTART;VALUE=DATE:20260615
DTEND;VALUE=DATE:20260616
DTSTAMP:20260421T134606
CREATED:20251229T200747Z
LAST-MODIFIED:20251229T200747Z
UID:10005220-1781510400-1781542800@abfall-kyffhaeuser.de
SUMMARY:Papiertonne
DESCRIPTION:Papiertonne
URL:https://abfall-kyffhaeuser.de/kalender/papiertonne-137/2026-06-15/
LOCATION:Greußen\, Greußen\, Greußen
CATEGORIES:Papiertonne
END:VEVENT
BEGIN:VEVENT
DTSTART;VALUE=DATE:20260616
DTEND;VALUE=DATE:20260617
DTSTAMP:20260421T134606
CREATED:20251229T201245Z
LAST-MODIFIED:20251229T201245Z
UID:10005233-1781596800-1781629200@abfall-kyffhaeuser.de
SUMMARY:Papiertonne
DESCRIPTION:Papiertonne
URL:https://abfall-kyffhaeuser.de/kalender/papiertonne-138/2026-06-16/
LOCATION:Clingen\, Clingen\, Greußen
CATEGORIES:Papiertonne
END:VEVENT
BEGIN:VEVENT
DTSTART;VALUE=DATE:20260617
DTEND;VALUE=DATE:20260618
DTSTAMP:20260421T134606
CREATED:20251229T201723Z
LAST-MODIFIED:20251229T201723Z
UID:10005246-1781683200-1781715600@abfall-kyffhaeuser.de
SUMMARY:Papiertonne
DESCRIPTION:Papiertonne
URL:https://abfall-kyffhaeuser.de/kalender/papiertonne-139/2026-06-17/
LOCATION:Großenehrich\, Großenehrich\, Greußen
CATEGORIES:Papiertonne
END:VEVENT
BEGIN:VEVENT
DTSTART;VALUE=DATE:20260618
DTEND;VALUE=DATE:20260619
DTSTAMP:20260421T134606
CREATED:20251229T202722Z
LAST-MODIFIED:20251229T202722Z
UID:10005259-1781769600-1781802000@abfall-kyffhaeuser.de
SUMMARY:Papiertonne
DESCRIPTION:Papiertonne
URL:https://abfall-kyffhaeuser.de/kalender/papiertonne-140/2026-06-18/
LOCATION:Feldengel\, Feldengel\, Greußen
CATEGORIES:Papiertonne
END:VEVENT
BEGIN:VEVENT
DTSTART;VALUE=DATE:20260619
DTEND;VALUE=DATE:20260620
DTSTAMP:20260421T134606
CREATED:20251229T182658Z
LAST-MODIFIED:20251229T182658Z
UID:10005096-1781856000-1781888400@abfall-kyffhaeuser.de
SUMMARY:Restabfall
DESCRIPTION:Restabfall
URL:https://abfall-kyffhaeuser.de/kalender/restabfall-84/2026-06-19/
LOCATION:Otterstedt\, Otterstedt\, Greußen
CATEGORIES:Restabfall
END:VEVENT
BEGIN:VEVENT
DTSTART;VALUE=DATE:20260622
DTEND;VALUE=DATE:20260623
DTSTAMP:20260421T134606
CREATED:20251229T185429Z
LAST-MODIFIED:20251229T185429Z
UID:10005122-1782115200-1782147600@abfall-kyffhaeuser.de
SUMMARY:Biotonne
DESCRIPTION:Biotonne
URL:https://abfall-kyffhaeuser.de/kalender/biotonne-91/2026-06-22/
LOCATION:Greußen\, Greußen\, Greußen
CATEGORIES:Biotonne
END:VEVENT
BEGIN:VEVENT
DTSTART;VALUE=DATE:20260625
DTEND;VALUE=DATE:20260626
DTSTAMP:20260421T134606
CREATED:20251229T193750Z
LAST-MODIFIED:20251229T193750Z
UID:10005194-1782374400-1782406800@abfall-kyffhaeuser.de
SUMMARY:Gelbe Tonne
DESCRIPTION:Gelbe Tonne
URL:https://abfall-kyffhaeuser.de/kalender/gelbe-tonne-91/2026-06-25/
LOCATION:Wasserthaleben\, Wasserthaleben\, Greußen
CATEGORIES:Gelbe Tonne
END:VEVENT
BEGIN:VEVENT
DTSTART;VALUE=DATE:20260625
DTEND;VALUE=DATE:20260626
DTSTAMP:20260421T134606
CREATED:20251229T200155Z
LAST-MODIFIED:20251229T200155Z
UID:10005208-1782374400-1782406800@abfall-kyffhaeuser.de
SUMMARY:Papiertonne
DESCRIPTION:Papiertonne
URL:https://abfall-kyffhaeuser.de/kalender/papiertonne-136/2026-06-25/
LOCATION:Bliederstedt\, Bliederstedt\, Greußen
CATEGORIES:Papiertonne
END:VEVENT
BEGIN:VEVENT
DTSTART;VALUE=DATE:20260626
DTEND;VALUE=DATE:20260627
DTSTAMP:20260421T134606
CREATED:20251229T190617Z
LAST-MODIFIED:20251229T190617Z
UID:10005148-1782460800-1782493200@abfall-kyffhaeuser.de
SUMMARY:Biotonne
DESCRIPTION:Biotonne
URL:https://abfall-kyffhaeuser.de/kalender/biotonne-92/2026-06-26/
LOCATION:Otterstedt\, Otterstedt\, Greußen
CATEGORIES:Biotonne
END:VEVENT
BEGIN:VEVENT
DTSTART;VALUE=DATE:20260626
DTEND;VALUE=DATE:20260627
DTSTAMP:20260421T134606
CREATED:20251229T191809Z
LAST-MODIFIED:20251229T191809Z
UID:10005168-1782460800-1782493200@abfall-kyffhaeuser.de
SUMMARY:Gelbe Tonne
DESCRIPTION:Gelbe Tonne
URL:https://abfall-kyffhaeuser.de/kalender/gelbe-tonne-89/2026-06-26/
LOCATION:Greußen\, Greußen\, Greußen
CATEGORIES:Gelbe Tonne
END:VEVENT
BEGIN:VEVENT
DTSTART;VALUE=DATE:20260629
DTEND;VALUE=DATE:20260630
DTSTAMP:20260421T134606
CREATED:20251229T181224Z
LAST-MODIFIED:20251229T181224Z
UID:10005071-1782720000-1782752400@abfall-kyffhaeuser.de
SUMMARY:Restabfall
DESCRIPTION:Restabfall
URL:https://abfall-kyffhaeuser.de/kalender/restabfall-83/2026-06-29/
LOCATION:Greußen\, Greußen\, Greußen
CATEGORIES:Restabfall
END:VEVENT
BEGIN:VEVENT
DTSTART;VALUE=DATE:20260629
DTEND;VALUE=DATE:20260630
DTSTAMP:20260421T134606
CREATED:20251229T193108Z
LAST-MODIFIED:20251229T193108Z
UID:10005181-1782720000-1782752400@abfall-kyffhaeuser.de
SUMMARY:Gelbe Tonne
DESCRIPTION:Gelbe Tonne
URL:https://abfall-kyffhaeuser.de/kalender/gelbe-tonne-90/2026-06-29/
LOCATION:Feldengel\, Feldengel\, Greußen
CATEGORIES:Gelbe Tonne
END:VEVENT
END:VCALENDAR