BEGIN:VCALENDAR
VERSION:2.0
PRODID:-//Abfallwirtschaft Kyffhäuserkreis - ECPv6.15.17.1//NONSGML v1.0//EN
CALSCALE:GREGORIAN
METHOD:PUBLISH
X-WR-CALNAME:Abfallwirtschaft Kyffhäuserkreis
X-ORIGINAL-URL:https://abfall-kyffhaeuser.de
X-WR-CALDESC:Veranstaltungen für Abfallwirtschaft Kyffhäuserkreis
REFRESH-INTERVAL;VALUE=DURATION:PT1H
X-Robots-Tag:noindex
X-PUBLISHED-TTL:PT1H
BEGIN:VTIMEZONE
TZID:Europe/Berlin
BEGIN:DAYLIGHT
TZOFFSETFROM:+0100
TZOFFSETTO:+0200
TZNAME:CEST
DTSTART:20240331T010000
END:DAYLIGHT
BEGIN:STANDARD
TZOFFSETFROM:+0200
TZOFFSETTO:+0100
TZNAME:CET
DTSTART:20241027T010000
END:STANDARD
BEGIN:DAYLIGHT
TZOFFSETFROM:+0100
TZOFFSETTO:+0200
TZNAME:CEST
DTSTART:20250330T010000
END:DAYLIGHT
BEGIN:STANDARD
TZOFFSETFROM:+0200
TZOFFSETTO:+0100
TZNAME:CET
DTSTART:20251026T010000
END:STANDARD
BEGIN:DAYLIGHT
TZOFFSETFROM:+0100
TZOFFSETTO:+0200
TZNAME:CEST
DTSTART:20260329T010000
END:DAYLIGHT
BEGIN:STANDARD
TZOFFSETFROM:+0200
TZOFFSETTO:+0100
TZNAME:CET
DTSTART:20261025T010000
END:STANDARD
END:VTIMEZONE
BEGIN:VEVENT
DTSTART;VALUE=DATE:20251103
DTEND;VALUE=DATE:20251104
DTSTAMP:20260421T182800
CREATED:20241127T095822Z
LAST-MODIFIED:20241210T100205Z
UID:10002326-1762128000-1762214399@abfall-kyffhaeuser.de
SUMMARY:Biotonne
DESCRIPTION:
URL:https://abfall-kyffhaeuser.de/kalender/biotonne-16/2025-11-03/
LOCATION:Abtsbessingen\, Abtsbessingen\, Ebeleben
CATEGORIES:Biotonne
ATTACH;FMTTYPE=image/jpeg:https://abfall-kyffhaeuser.de/wp-content/uploads/2024/02/01-Biotonne.jpg
END:VEVENT
BEGIN:VEVENT
DTSTART;VALUE=DATE:20251105
DTEND;VALUE=DATE:20251106
DTSTAMP:20260421T182800
CREATED:20241127T104509Z
LAST-MODIFIED:20241202T115403Z
UID:10002376-1762300800-1762387199@abfall-kyffhaeuser.de
SUMMARY:Gelbe Tonne
DESCRIPTION:
URL:https://abfall-kyffhaeuser.de/kalender/gelbe-tonne-35/2025-11-05/
LOCATION:Rockensußra\, Rockensußra\, Ebeleben
CATEGORIES:Gelbe Tonne
ATTACH;FMTTYPE=image/jpeg:https://abfall-kyffhaeuser.de/wp-content/uploads/2024/02/Gelbe-Tonne.jpg
END:VEVENT
BEGIN:VEVENT
DTSTART;VALUE=DATE:20251106
DTEND;VALUE=DATE:20251107
DTSTAMP:20260421T182800
CREATED:20241127T102259Z
LAST-MODIFIED:20241202T111500Z
UID:10002364-1762387200-1762473599@abfall-kyffhaeuser.de
SUMMARY:Papiertonne
DESCRIPTION:
URL:https://abfall-kyffhaeuser.de/kalender/papiertonne-18/2025-11-06/
LOCATION:Bellstedt\, Bellstedt\, Ebeleben
CATEGORIES:Papiertonne
ATTACH;FMTTYPE=image/jpeg:https://abfall-kyffhaeuser.de/wp-content/uploads/2024/02/Papiertonne.jpg
END:VEVENT
BEGIN:VEVENT
DTSTART;VALUE=DATE:20251107
DTEND;VALUE=DATE:20251108
DTSTAMP:20260421T182800
CREATED:20241127T093653Z
LAST-MODIFIED:20241202T101706Z
UID:10002276-1762473600-1762559999@abfall-kyffhaeuser.de
SUMMARY:Biotonne
DESCRIPTION:
URL:https://abfall-kyffhaeuser.de/kalender/biotonne-8/2025-11-07/
LOCATION:Ebeleben\, Ebeleben\, Ebeleben
CATEGORIES:Biotonne
ATTACH;FMTTYPE=image/jpeg:https://abfall-kyffhaeuser.de/wp-content/uploads/2024/02/01-Biotonne.jpg
END:VEVENT
BEGIN:VEVENT
DTSTART;VALUE=DATE:20251110
DTEND;VALUE=DATE:20251111
DTSTAMP:20260421T182800
CREATED:20241127T091854Z
LAST-MODIFIED:20241210T093402Z
UID:10002251-1762732800-1762819199@abfall-kyffhaeuser.de
SUMMARY:Restabfall
DESCRIPTION:
URL:https://abfall-kyffhaeuser.de/kalender/restabfall-19/2025-11-10/
LOCATION:Abtsbessingen\, Abtsbessingen\, Ebeleben
CATEGORIES:Restabfall
ATTACH;FMTTYPE=image/jpeg:https://abfall-kyffhaeuser.de/wp-content/uploads/2024/02/Restabfall.jpg
END:VEVENT
BEGIN:VEVENT
DTSTART;VALUE=DATE:20251114
DTEND;VALUE=DATE:20251115
DTSTAMP:20260421T182800
CREATED:20241126T111139Z
LAST-MODIFIED:20241202T092925Z
UID:10002194-1763078400-1763164799@abfall-kyffhaeuser.de
SUMMARY:Restabfall
DESCRIPTION:
URL:https://abfall-kyffhaeuser.de/kalender/restabfall-5/2025-11-14/
LOCATION:Ebeleben\, Ebeleben\, Ebeleben
CATEGORIES:Restabfall
ATTACH;FMTTYPE=image/jpeg:https://abfall-kyffhaeuser.de/wp-content/uploads/2024/02/Restabfall.jpg
END:VEVENT
BEGIN:VEVENT
DTSTART;VALUE=DATE:20251117
DTEND;VALUE=DATE:20251118
DTSTAMP:20260421T182800
CREATED:20241127T095822Z
LAST-MODIFIED:20241210T100205Z
UID:10002327-1763337600-1763423999@abfall-kyffhaeuser.de
SUMMARY:Biotonne
DESCRIPTION:
URL:https://abfall-kyffhaeuser.de/kalender/biotonne-16/2025-11-17/
LOCATION:Abtsbessingen\, Abtsbessingen\, Ebeleben
CATEGORIES:Biotonne
ATTACH;FMTTYPE=image/jpeg:https://abfall-kyffhaeuser.de/wp-content/uploads/2024/02/01-Biotonne.jpg
END:VEVENT
BEGIN:VEVENT
DTSTART;VALUE=DATE:20251121
DTEND;VALUE=DATE:20251122
DTSTAMP:20260421T182800
CREATED:20241127T093653Z
LAST-MODIFIED:20241202T101706Z
UID:10002277-1763683200-1763769599@abfall-kyffhaeuser.de
SUMMARY:Biotonne
DESCRIPTION:
URL:https://abfall-kyffhaeuser.de/kalender/biotonne-8/2025-11-21/
LOCATION:Ebeleben\, Ebeleben\, Ebeleben
CATEGORIES:Biotonne
ATTACH;FMTTYPE=image/jpeg:https://abfall-kyffhaeuser.de/wp-content/uploads/2024/02/01-Biotonne.jpg
END:VEVENT
BEGIN:VEVENT
DTSTART;VALUE=DATE:20251124
DTEND;VALUE=DATE:20251125
DTSTAMP:20260421T182800
CREATED:20241127T091854Z
LAST-MODIFIED:20241210T093402Z
UID:10002252-1763942400-1764028799@abfall-kyffhaeuser.de
SUMMARY:Restabfall
DESCRIPTION:
URL:https://abfall-kyffhaeuser.de/kalender/restabfall-19/2025-11-24/
LOCATION:Abtsbessingen\, Abtsbessingen\, Ebeleben
CATEGORIES:Restabfall
ATTACH;FMTTYPE=image/jpeg:https://abfall-kyffhaeuser.de/wp-content/uploads/2024/02/Restabfall.jpg
END:VEVENT
BEGIN:VEVENT
DTSTART;VALUE=DATE:20251124
DTEND;VALUE=DATE:20251125
DTSTAMP:20260421T182800
CREATED:20241202T103636Z
LAST-MODIFIED:20250115T094435Z
UID:10002438-1763942400-1764028799@abfall-kyffhaeuser.de
SUMMARY:Papiertonne
DESCRIPTION:
URL:https://abfall-kyffhaeuser.de/kalender/papiertonne-25/2025-11-24/
LOCATION:Greußen\, Greußen\, Greußen
CATEGORIES:Papiertonne
ATTACH;FMTTYPE=image/jpeg:https://abfall-kyffhaeuser.de/wp-content/uploads/2024/02/Papiertonne.jpg
END:VEVENT
BEGIN:VEVENT
DTSTART;VALUE=DATE:20251125
DTEND;VALUE=DATE:20251126
DTSTAMP:20260421T182800
CREATED:20241202T104304Z
LAST-MODIFIED:20241209T105832Z
UID:10002451-1764028800-1764115199@abfall-kyffhaeuser.de
SUMMARY:Papiertonne
DESCRIPTION:
URL:https://abfall-kyffhaeuser.de/kalender/papiertonne-30/2025-11-25/
LOCATION:Clingen\, Clingen\, Greußen
CATEGORIES:Papiertonne
ATTACH;FMTTYPE=image/jpeg:https://abfall-kyffhaeuser.de/wp-content/uploads/2024/02/Papiertonne.jpg
END:VEVENT
BEGIN:VEVENT
DTSTART;VALUE=DATE:20251128
DTEND;VALUE=DATE:20251129
DTSTAMP:20260421T182800
CREATED:20241126T111139Z
LAST-MODIFIED:20241202T092925Z
UID:10002195-1764288000-1764374399@abfall-kyffhaeuser.de
SUMMARY:Restabfall
DESCRIPTION:
URL:https://abfall-kyffhaeuser.de/kalender/restabfall-5/2025-11-28/
LOCATION:Ebeleben\, Ebeleben\, Ebeleben
CATEGORIES:Restabfall
ATTACH;FMTTYPE=image/jpeg:https://abfall-kyffhaeuser.de/wp-content/uploads/2024/02/Restabfall.jpg
END:VEVENT
END:VCALENDAR