BEGIN:VCALENDAR
VERSION:2.0
PRODID:-//Abfallwirtschaft Kyffhäuserkreis - ECPv6.15.17.1//NONSGML v1.0//EN
CALSCALE:GREGORIAN
METHOD:PUBLISH
X-ORIGINAL-URL:https://abfall-kyffhaeuser.de
X-WR-CALDESC:Veranstaltungen für Abfallwirtschaft Kyffhäuserkreis
REFRESH-INTERVAL;VALUE=DURATION:PT1H
X-Robots-Tag:noindex
X-PUBLISHED-TTL:PT1H
BEGIN:VTIMEZONE
TZID:Europe/Berlin
BEGIN:DAYLIGHT
TZOFFSETFROM:+0100
TZOFFSETTO:+0200
TZNAME:CEST
DTSTART:20240331T010000
END:DAYLIGHT
BEGIN:STANDARD
TZOFFSETFROM:+0200
TZOFFSETTO:+0100
TZNAME:CET
DTSTART:20241027T010000
END:STANDARD
BEGIN:DAYLIGHT
TZOFFSETFROM:+0100
TZOFFSETTO:+0200
TZNAME:CEST
DTSTART:20250330T010000
END:DAYLIGHT
BEGIN:STANDARD
TZOFFSETFROM:+0200
TZOFFSETTO:+0100
TZNAME:CET
DTSTART:20251026T010000
END:STANDARD
BEGIN:DAYLIGHT
TZOFFSETFROM:+0100
TZOFFSETTO:+0200
TZNAME:CEST
DTSTART:20260329T010000
END:DAYLIGHT
BEGIN:STANDARD
TZOFFSETFROM:+0200
TZOFFSETTO:+0100
TZNAME:CET
DTSTART:20261025T010000
END:STANDARD
END:VTIMEZONE
BEGIN:VEVENT
DTSTART;VALUE=DATE:20250801
DTEND;VALUE=DATE:20250802
DTSTAMP:20260421T231718
CREATED:20241127T093653Z
LAST-MODIFIED:20241202T101706Z
UID:10002269-1754006400-1754092799@abfall-kyffhaeuser.de
SUMMARY:Biotonne
DESCRIPTION:
URL:https://abfall-kyffhaeuser.de/kalender/biotonne-8/2025-08-01/
LOCATION:Ebeleben\, Ebeleben\, Ebeleben
CATEGORIES:Biotonne
ATTACH;FMTTYPE=image/jpeg:https://abfall-kyffhaeuser.de/wp-content/uploads/2024/02/01-Biotonne.jpg
END:VEVENT
BEGIN:VEVENT
DTSTART;VALUE=DATE:20250804
DTEND;VALUE=DATE:20250805
DTSTAMP:20260421T231718
CREATED:20241127T091854Z
LAST-MODIFIED:20241210T093402Z
UID:10002244-1754265600-1754351999@abfall-kyffhaeuser.de
SUMMARY:Restabfall
DESCRIPTION:
URL:https://abfall-kyffhaeuser.de/kalender/restabfall-19/2025-08-04/
LOCATION:Abtsbessingen\, Abtsbessingen\, Ebeleben
CATEGORIES:Restabfall
ATTACH;FMTTYPE=image/jpeg:https://abfall-kyffhaeuser.de/wp-content/uploads/2024/02/Restabfall.jpg
END:VEVENT
BEGIN:VEVENT
DTSTART;VALUE=DATE:20250804
DTEND;VALUE=DATE:20250805
DTSTAMP:20260421T231718
CREATED:20241202T103636Z
LAST-MODIFIED:20250115T094435Z
UID:10002434-1754265600-1754351999@abfall-kyffhaeuser.de
SUMMARY:Papiertonne
DESCRIPTION:
URL:https://abfall-kyffhaeuser.de/kalender/papiertonne-25/2025-08-04/
LOCATION:Greußen\, Greußen\, Greußen
CATEGORIES:Papiertonne
ATTACH;FMTTYPE=image/jpeg:https://abfall-kyffhaeuser.de/wp-content/uploads/2024/02/Papiertonne.jpg
END:VEVENT
BEGIN:VEVENT
DTSTART;VALUE=DATE:20250805
DTEND;VALUE=DATE:20250806
DTSTAMP:20260421T231718
CREATED:20241202T104304Z
LAST-MODIFIED:20241209T105832Z
UID:10002447-1754352000-1754438399@abfall-kyffhaeuser.de
SUMMARY:Papiertonne
DESCRIPTION:
URL:https://abfall-kyffhaeuser.de/kalender/papiertonne-30/2025-08-05/
LOCATION:Clingen\, Clingen\, Greußen
CATEGORIES:Papiertonne
ATTACH;FMTTYPE=image/jpeg:https://abfall-kyffhaeuser.de/wp-content/uploads/2024/02/Papiertonne.jpg
END:VEVENT
BEGIN:VEVENT
DTSTART;VALUE=DATE:20250808
DTEND;VALUE=DATE:20250809
DTSTAMP:20260421T231718
CREATED:20241126T111139Z
LAST-MODIFIED:20241202T092925Z
UID:10002189-1754611200-1754697599@abfall-kyffhaeuser.de
SUMMARY:Restabfall
DESCRIPTION:
URL:https://abfall-kyffhaeuser.de/kalender/restabfall-5/2025-08-08/
LOCATION:Ebeleben\, Ebeleben\, Ebeleben
CATEGORIES:Restabfall
ATTACH;FMTTYPE=image/jpeg:https://abfall-kyffhaeuser.de/wp-content/uploads/2024/02/Restabfall.jpg
END:VEVENT
BEGIN:VEVENT
DTSTART;VALUE=DATE:20250811
DTEND;VALUE=DATE:20250812
DTSTAMP:20260421T231718
CREATED:20241127T095822Z
LAST-MODIFIED:20241210T100205Z
UID:10002320-1754870400-1754956799@abfall-kyffhaeuser.de
SUMMARY:Biotonne
DESCRIPTION:
URL:https://abfall-kyffhaeuser.de/kalender/biotonne-16/2025-08-11/
LOCATION:Abtsbessingen\, Abtsbessingen\, Ebeleben
CATEGORIES:Biotonne
ATTACH;FMTTYPE=image/jpeg:https://abfall-kyffhaeuser.de/wp-content/uploads/2024/02/01-Biotonne.jpg
END:VEVENT
BEGIN:VEVENT
DTSTART;VALUE=DATE:20250813
DTEND;VALUE=DATE:20250814
DTSTAMP:20260421T231718
CREATED:20241127T104509Z
LAST-MODIFIED:20241202T115403Z
UID:10002373-1755043200-1755129599@abfall-kyffhaeuser.de
SUMMARY:Gelbe Tonne
DESCRIPTION:
URL:https://abfall-kyffhaeuser.de/kalender/gelbe-tonne-35/2025-08-13/
LOCATION:Rockensußra\, Rockensußra\, Ebeleben
CATEGORIES:Gelbe Tonne
ATTACH;FMTTYPE=image/jpeg:https://abfall-kyffhaeuser.de/wp-content/uploads/2024/02/Gelbe-Tonne.jpg
END:VEVENT
BEGIN:VEVENT
DTSTART;VALUE=DATE:20250814
DTEND;VALUE=DATE:20250815
DTSTAMP:20260421T231718
CREATED:20241127T102259Z
LAST-MODIFIED:20241202T111500Z
UID:10002361-1755129600-1755215999@abfall-kyffhaeuser.de
SUMMARY:Papiertonne
DESCRIPTION:
URL:https://abfall-kyffhaeuser.de/kalender/papiertonne-18/2025-08-14/
LOCATION:Bellstedt\, Bellstedt\, Ebeleben
CATEGORIES:Papiertonne
ATTACH;FMTTYPE=image/jpeg:https://abfall-kyffhaeuser.de/wp-content/uploads/2024/02/Papiertonne.jpg
END:VEVENT
BEGIN:VEVENT
DTSTART;VALUE=DATE:20250815
DTEND;VALUE=DATE:20250816
DTSTAMP:20260421T231718
CREATED:20241127T093653Z
LAST-MODIFIED:20241202T101706Z
UID:10002270-1755216000-1755302399@abfall-kyffhaeuser.de
SUMMARY:Biotonne
DESCRIPTION:
URL:https://abfall-kyffhaeuser.de/kalender/biotonne-8/2025-08-15/
LOCATION:Ebeleben\, Ebeleben\, Ebeleben
CATEGORIES:Biotonne
ATTACH;FMTTYPE=image/jpeg:https://abfall-kyffhaeuser.de/wp-content/uploads/2024/02/01-Biotonne.jpg
END:VEVENT
BEGIN:VEVENT
DTSTART;VALUE=DATE:20250818
DTEND;VALUE=DATE:20250819
DTSTAMP:20260421T231718
CREATED:20241127T091854Z
LAST-MODIFIED:20241210T093402Z
UID:10002245-1755475200-1755561599@abfall-kyffhaeuser.de
SUMMARY:Restabfall
DESCRIPTION:
URL:https://abfall-kyffhaeuser.de/kalender/restabfall-19/2025-08-18/
LOCATION:Abtsbessingen\, Abtsbessingen\, Ebeleben
CATEGORIES:Restabfall
ATTACH;FMTTYPE=image/jpeg:https://abfall-kyffhaeuser.de/wp-content/uploads/2024/02/Restabfall.jpg
END:VEVENT
BEGIN:VEVENT
DTSTART;VALUE=DATE:20250822
DTEND;VALUE=DATE:20250823
DTSTAMP:20260421T231718
CREATED:20241126T111139Z
LAST-MODIFIED:20241202T092925Z
UID:10002190-1755820800-1755907199@abfall-kyffhaeuser.de
SUMMARY:Restabfall
DESCRIPTION:
URL:https://abfall-kyffhaeuser.de/kalender/restabfall-5/2025-08-22/
LOCATION:Ebeleben\, Ebeleben\, Ebeleben
CATEGORIES:Restabfall
ATTACH;FMTTYPE=image/jpeg:https://abfall-kyffhaeuser.de/wp-content/uploads/2024/02/Restabfall.jpg
END:VEVENT
BEGIN:VEVENT
DTSTART;VALUE=DATE:20250825
DTEND;VALUE=DATE:20250826
DTSTAMP:20260421T231718
CREATED:20241127T095822Z
LAST-MODIFIED:20241210T100205Z
UID:10002321-1756080000-1756166399@abfall-kyffhaeuser.de
SUMMARY:Biotonne
DESCRIPTION:
URL:https://abfall-kyffhaeuser.de/kalender/biotonne-16/2025-08-25/
LOCATION:Abtsbessingen\, Abtsbessingen\, Ebeleben
CATEGORIES:Biotonne
ATTACH;FMTTYPE=image/jpeg:https://abfall-kyffhaeuser.de/wp-content/uploads/2024/02/01-Biotonne.jpg
END:VEVENT
BEGIN:VEVENT
DTSTART;VALUE=DATE:20250829
DTEND;VALUE=DATE:20250830
DTSTAMP:20260421T231718
CREATED:20241127T093653Z
LAST-MODIFIED:20241202T101706Z
UID:10002271-1756425600-1756511999@abfall-kyffhaeuser.de
SUMMARY:Biotonne
DESCRIPTION:
URL:https://abfall-kyffhaeuser.de/kalender/biotonne-8/2025-08-29/
LOCATION:Ebeleben\, Ebeleben\, Ebeleben
CATEGORIES:Biotonne
ATTACH;FMTTYPE=image/jpeg:https://abfall-kyffhaeuser.de/wp-content/uploads/2024/02/01-Biotonne.jpg
END:VEVENT
END:VCALENDAR