BEGIN:VCALENDAR
VERSION:2.0
PRODID:-//Abfallwirtschaft Kyffhäuserkreis - ECPv6.15.17.1//NONSGML v1.0//EN
CALSCALE:GREGORIAN
METHOD:PUBLISH
X-WR-CALNAME:Abfallwirtschaft Kyffhäuserkreis
X-ORIGINAL-URL:https://abfall-kyffhaeuser.de
X-WR-CALDESC:Veranstaltungen für Abfallwirtschaft Kyffhäuserkreis
REFRESH-INTERVAL;VALUE=DURATION:PT1H
X-Robots-Tag:noindex
X-PUBLISHED-TTL:PT1H
BEGIN:VTIMEZONE
TZID:Europe/Berlin
BEGIN:DAYLIGHT
TZOFFSETFROM:+0100
TZOFFSETTO:+0200
TZNAME:CEST
DTSTART:20250330T010000
END:DAYLIGHT
BEGIN:STANDARD
TZOFFSETFROM:+0200
TZOFFSETTO:+0100
TZNAME:CET
DTSTART:20251026T010000
END:STANDARD
BEGIN:DAYLIGHT
TZOFFSETFROM:+0100
TZOFFSETTO:+0200
TZNAME:CEST
DTSTART:20260329T010000
END:DAYLIGHT
BEGIN:STANDARD
TZOFFSETFROM:+0200
TZOFFSETTO:+0100
TZNAME:CET
DTSTART:20261025T010000
END:STANDARD
BEGIN:DAYLIGHT
TZOFFSETFROM:+0100
TZOFFSETTO:+0200
TZNAME:CEST
DTSTART:20270328T010000
END:DAYLIGHT
BEGIN:STANDARD
TZOFFSETFROM:+0200
TZOFFSETTO:+0100
TZNAME:CET
DTSTART:20271031T010000
END:STANDARD
END:VTIMEZONE
BEGIN:VEVENT
DTSTART;VALUE=DATE:20260701
DTEND;VALUE=DATE:20260702
DTSTAMP:20260421T173204
CREATED:20251215T144513Z
LAST-MODIFIED:20251215T144513Z
UID:10003989-1782892800-1782925200@abfall-kyffhaeuser.de
SUMMARY:Papiertonne
DESCRIPTION:Papiertonne
URL:https://abfall-kyffhaeuser.de/kalender/papiertonne-116/2026-07-01/
LOCATION:Oldisleben\, Oldisleben\, An der Schmücke
CATEGORIES:Papiertonne
END:VEVENT
BEGIN:VEVENT
DTSTART;VALUE=DATE:20260702
DTEND;VALUE=DATE:20260703
DTSTAMP:20260421T173204
CREATED:20251213T175415Z
LAST-MODIFIED:20251213T175415Z
UID:10003937-1782979200-1783011600@abfall-kyffhaeuser.de
SUMMARY:Papiertonne
DESCRIPTION:Papiertonne
URL:https://abfall-kyffhaeuser.de/kalender/papiertonne-112/2026-07-02/
LOCATION:Harras\, Harras\, An der Schmücke
CATEGORIES:Papiertonne
END:VEVENT
BEGIN:VEVENT
DTSTART;VALUE=DATE:20260702
DTEND;VALUE=DATE:20260703
DTSTAMP:20260421T173204
CREATED:20251215T152128Z
LAST-MODIFIED:20251215T152128Z
UID:10004028-1782979200-1783011600@abfall-kyffhaeuser.de
SUMMARY:Gelbe Tonne
DESCRIPTION:Gelbe Tonne
URL:https://abfall-kyffhaeuser.de/kalender/gelbe-tonne-71/2026-07-02/
LOCATION:Braunsroda\, Braunsroda\, An der Schmücke
CATEGORIES:Gelbe Tonne
END:VEVENT
BEGIN:VEVENT
DTSTART;VALUE=DATE:20260703
DTEND;VALUE=DATE:20260704
DTSTAMP:20260421T173204
CREATED:20251212T140027Z
LAST-MODIFIED:20251212T140027Z
UID:10003905-1783065600-1783098000@abfall-kyffhaeuser.de
SUMMARY:Biotonne
DESCRIPTION:Biotonne
URL:https://abfall-kyffhaeuser.de/kalender/biotonne-77/2026-07-03/
LOCATION:Oldisleben\, Oldisleben\, An der Schmücke
CATEGORIES:Biotonne
END:VEVENT
BEGIN:VEVENT
DTSTART;VALUE=DATE:20260706
DTEND;VALUE=DATE:20260707
DTSTAMP:20260421T173204
CREATED:20251210T143429Z
LAST-MODIFIED:20251210T144551Z
UID:10003789-1783324800-1783357200@abfall-kyffhaeuser.de
SUMMARY:Restabfall
DESCRIPTION:Restabfall
URL:https://abfall-kyffhaeuser.de/kalender/restabfall/2026-07-06/
LOCATION:Braunsroda\, Braunsroda\, An der Schmücke
CATEGORIES:Restabfall
END:VEVENT
BEGIN:VEVENT
DTSTART;VALUE=DATE:20260709
DTEND;VALUE=DATE:20260710
DTSTAMP:20260421T173204
CREATED:20251210T152309Z
LAST-MODIFIED:20251210T152309Z
UID:10003835-1783584000-1783616400@abfall-kyffhaeuser.de
SUMMARY:Papiertonne
DESCRIPTION:Papiertonne
URL:https://abfall-kyffhaeuser.de/kalender/papiertonne-110/2026-07-09/
LOCATION:Braunsroda\, Braunsroda\, An der Schmücke
CATEGORIES:Papiertonne
END:VEVENT
BEGIN:VEVENT
DTSTART;VALUE=DATE:20260710
DTEND;VALUE=DATE:20260711
DTSTAMP:20260421T173204
CREATED:20251210T145613Z
LAST-MODIFIED:20251210T145613Z
UID:10003815-1783670400-1783702800@abfall-kyffhaeuser.de
SUMMARY:Restabfall
DESCRIPTION:Restabfall
URL:https://abfall-kyffhaeuser.de/kalender/restabfall-72/2026-07-10/
LOCATION:Oldisleben\, Oldisleben\, An der Schmücke
CATEGORIES:Restabfall
END:VEVENT
BEGIN:VEVENT
DTSTART;VALUE=DATE:20260710
DTEND;VALUE=DATE:20260711
DTSTAMP:20260421T173204
CREATED:20251212T131331Z
LAST-MODIFIED:20251212T131331Z
UID:10003855-1783670400-1783702800@abfall-kyffhaeuser.de
SUMMARY:Restabfall
DESCRIPTION:Restabfall
URL:https://abfall-kyffhaeuser.de/kalender/restabfall-43/2026-07-10/
LOCATION:Oldisleben\, Oldisleben\, An der Schmücke
CATEGORIES:Restabfall
END:VEVENT
BEGIN:VEVENT
DTSTART;VALUE=DATE:20260713
DTEND;VALUE=DATE:20260714
DTSTAMP:20260421T173204
CREATED:20251212T133401Z
LAST-MODIFIED:20251212T133401Z
UID:10003881-1783929600-1783962000@abfall-kyffhaeuser.de
SUMMARY:Biotonne
DESCRIPTION:Biotonne
URL:https://abfall-kyffhaeuser.de/kalender/biotonne-76/2026-07-13/
LOCATION:Braunsroda\, Braunsroda\, An der Schmücke
CATEGORIES:Biotonne
END:VEVENT
BEGIN:VEVENT
DTSTART;VALUE=DATE:20260713
DTEND;VALUE=DATE:20260714
DTSTAMP:20260421T173204
CREATED:20251215T145416Z
LAST-MODIFIED:20251215T145416Z
UID:10004002-1783929600-1783962000@abfall-kyffhaeuser.de
SUMMARY:Gelbe Tonne
DESCRIPTION:Gelbe Tonne
URL:https://abfall-kyffhaeuser.de/kalender/gelbe-tonne-69/2026-07-13/
LOCATION:Etzleben\, Etzleben\, An der Schmücke
CATEGORIES:Gelbe Tonne
END:VEVENT
BEGIN:VEVENT
DTSTART;VALUE=DATE:20260714
DTEND;VALUE=DATE:20260715
DTSTAMP:20260421T173204
CREATED:20251215T151428Z
LAST-MODIFIED:20251215T151428Z
UID:10004015-1784016000-1784048400@abfall-kyffhaeuser.de
SUMMARY:Gelbe Tonne
DESCRIPTION:Gelbe Tonne
URL:https://abfall-kyffhaeuser.de/kalender/gelbe-tonne-70/2026-07-14/
LOCATION:Harras\, Harras\, An der Schmücke
CATEGORIES:Gelbe Tonne
END:VEVENT
BEGIN:VEVENT
DTSTART;VALUE=DATE:20260717
DTEND;VALUE=DATE:20260718
DTSTAMP:20260421T173204
CREATED:20251212T140027Z
LAST-MODIFIED:20251212T140027Z
UID:10003906-1784275200-1784307600@abfall-kyffhaeuser.de
SUMMARY:Biotonne
DESCRIPTION:Biotonne
URL:https://abfall-kyffhaeuser.de/kalender/biotonne-77/2026-07-17/
LOCATION:Oldisleben\, Oldisleben\, An der Schmücke
CATEGORIES:Biotonne
END:VEVENT
BEGIN:VEVENT
DTSTART;VALUE=DATE:20260720
DTEND;VALUE=DATE:20260721
DTSTAMP:20260421T173204
CREATED:20251210T143429Z
LAST-MODIFIED:20251210T144551Z
UID:10003790-1784534400-1784566800@abfall-kyffhaeuser.de
SUMMARY:Restabfall
DESCRIPTION:Restabfall
URL:https://abfall-kyffhaeuser.de/kalender/restabfall/2026-07-20/
LOCATION:Braunsroda\, Braunsroda\, An der Schmücke
CATEGORIES:Restabfall
END:VEVENT
BEGIN:VEVENT
DTSTART;VALUE=DATE:20260720
DTEND;VALUE=DATE:20260721
DTSTAMP:20260421T173204
CREATED:20251215T153754Z
LAST-MODIFIED:20251215T153754Z
UID:10004042-1784534400-1784566800@abfall-kyffhaeuser.de
SUMMARY:Gelbe Tonne
DESCRIPTION:Gelbe Tonne
URL:https://abfall-kyffhaeuser.de/kalender/gelbe-tonne-72/2026-07-20/
LOCATION:Sachsenburg\, Sachsenburg\, An der Schmücke
CATEGORIES:Gelbe Tonne
END:VEVENT
BEGIN:VEVENT
DTSTART;VALUE=DATE:20260724
DTEND;VALUE=DATE:20260725
DTSTAMP:20260421T173204
CREATED:20251210T145613Z
LAST-MODIFIED:20251210T145613Z
UID:10003816-1784880000-1784912400@abfall-kyffhaeuser.de
SUMMARY:Restabfall
DESCRIPTION:Restabfall
URL:https://abfall-kyffhaeuser.de/kalender/restabfall-72/2026-07-24/
LOCATION:Oldisleben\, Oldisleben\, An der Schmücke
CATEGORIES:Restabfall
END:VEVENT
BEGIN:VEVENT
DTSTART;VALUE=DATE:20260724
DTEND;VALUE=DATE:20260725
DTSTAMP:20260421T173204
CREATED:20251212T131331Z
LAST-MODIFIED:20251212T131331Z
UID:10003856-1784880000-1784912400@abfall-kyffhaeuser.de
SUMMARY:Restabfall
DESCRIPTION:Restabfall
URL:https://abfall-kyffhaeuser.de/kalender/restabfall-43/2026-07-24/
LOCATION:Oldisleben\, Oldisleben\, An der Schmücke
CATEGORIES:Restabfall
END:VEVENT
BEGIN:VEVENT
DTSTART;VALUE=DATE:20260727
DTEND;VALUE=DATE:20260728
DTSTAMP:20260421T173204
CREATED:20251212T133401Z
LAST-MODIFIED:20251212T133401Z
UID:10003882-1785139200-1785171600@abfall-kyffhaeuser.de
SUMMARY:Biotonne
DESCRIPTION:Biotonne
URL:https://abfall-kyffhaeuser.de/kalender/biotonne-76/2026-07-27/
LOCATION:Braunsroda\, Braunsroda\, An der Schmücke
CATEGORIES:Biotonne
END:VEVENT
BEGIN:VEVENT
DTSTART;VALUE=DATE:20260727
DTEND;VALUE=DATE:20260728
DTSTAMP:20260421T173204
CREATED:20251213T183817Z
LAST-MODIFIED:20251213T183817Z
UID:10003951-1785139200-1785171600@abfall-kyffhaeuser.de
SUMMARY:Papiertonne
DESCRIPTION:Papiertonne
URL:https://abfall-kyffhaeuser.de/kalender/papiertonne-113/2026-07-27/
LOCATION:Heldrungen\, Heldrungen\, An der Schmücke
CATEGORIES:Papiertonne
END:VEVENT
BEGIN:VEVENT
DTSTART;VALUE=DATE:20260728
DTEND;VALUE=DATE:20260729
DTSTAMP:20260421T173204
CREATED:20251213T174103Z
LAST-MODIFIED:20251213T174103Z
UID:10003925-1785225600-1785258000@abfall-kyffhaeuser.de
SUMMARY:Papiertonne
DESCRIPTION:Papiertonne
URL:https://abfall-kyffhaeuser.de/kalender/papiertonne-111/2026-07-28/
LOCATION:Etzleben\, Etzleben\, An der Schmücke
CATEGORIES:Papiertonne
END:VEVENT
BEGIN:VEVENT
DTSTART;VALUE=DATE:20260728
DTEND;VALUE=DATE:20260729
DTSTAMP:20260421T173204
CREATED:20251213T184509Z
LAST-MODIFIED:20251213T184509Z
UID:10003964-1785225600-1785258000@abfall-kyffhaeuser.de
SUMMARY:Papiertonne
DESCRIPTION:Papiertonne
URL:https://abfall-kyffhaeuser.de/kalender/papiertonne-114/2026-07-28/
LOCATION:Heldrungen Bahnhof\, Heldrungen Bahnhof\, An der Schmücke
CATEGORIES:Papiertonne
END:VEVENT
BEGIN:VEVENT
DTSTART;VALUE=DATE:20260728
DTEND;VALUE=DATE:20260729
DTSTAMP:20260421T173204
CREATED:20251215T141901Z
LAST-MODIFIED:20251215T141901Z
UID:10003977-1785225600-1785258000@abfall-kyffhaeuser.de
SUMMARY:Papiertonne
DESCRIPTION:Papiertonne
URL:https://abfall-kyffhaeuser.de/kalender/papiertonne-115/2026-07-28/
LOCATION:Sachsenburg\, Sachsenburg\, An der Schmücke
CATEGORIES:Papiertonne
END:VEVENT
BEGIN:VEVENT
DTSTART;VALUE=DATE:20260729
DTEND;VALUE=DATE:20260730
DTSTAMP:20260421T173204
CREATED:20251215T144513Z
LAST-MODIFIED:20251215T144513Z
UID:10003990-1785312000-1785344400@abfall-kyffhaeuser.de
SUMMARY:Papiertonne
DESCRIPTION:Papiertonne
URL:https://abfall-kyffhaeuser.de/kalender/papiertonne-116/2026-07-29/
LOCATION:Oldisleben\, Oldisleben\, An der Schmücke
CATEGORIES:Papiertonne
END:VEVENT
BEGIN:VEVENT
DTSTART;VALUE=DATE:20260729
DTEND;VALUE=DATE:20260730
DTSTAMP:20260421T173204
CREATED:20251215T152128Z
LAST-MODIFIED:20251215T152128Z
UID:10004029-1785312000-1785344400@abfall-kyffhaeuser.de
SUMMARY:Gelbe Tonne
DESCRIPTION:Gelbe Tonne
URL:https://abfall-kyffhaeuser.de/kalender/gelbe-tonne-71/2026-07-29/
LOCATION:Braunsroda\, Braunsroda\, An der Schmücke
CATEGORIES:Gelbe Tonne
END:VEVENT
BEGIN:VEVENT
DTSTART;VALUE=DATE:20260730
DTEND;VALUE=DATE:20260731
DTSTAMP:20260421T173204
CREATED:20251213T175415Z
LAST-MODIFIED:20251213T175415Z
UID:10003938-1785398400-1785430800@abfall-kyffhaeuser.de
SUMMARY:Papiertonne
DESCRIPTION:Papiertonne
URL:https://abfall-kyffhaeuser.de/kalender/papiertonne-112/2026-07-30/
LOCATION:Harras\, Harras\, An der Schmücke
CATEGORIES:Papiertonne
END:VEVENT
BEGIN:VEVENT
DTSTART;VALUE=DATE:20260731
DTEND;VALUE=DATE:20260801
DTSTAMP:20260421T173204
CREATED:20251212T140027Z
LAST-MODIFIED:20251212T140027Z
UID:10003907-1785484800-1785517200@abfall-kyffhaeuser.de
SUMMARY:Biotonne
DESCRIPTION:Biotonne
URL:https://abfall-kyffhaeuser.de/kalender/biotonne-77/2026-07-31/
LOCATION:Oldisleben\, Oldisleben\, An der Schmücke
CATEGORIES:Biotonne
END:VEVENT
END:VCALENDAR