BEGIN:VCALENDAR
VERSION:2.0
PRODID:-//Abfallwirtschaft Kyffhäuserkreis - ECPv6.15.17.1//NONSGML v1.0//EN
CALSCALE:GREGORIAN
METHOD:PUBLISH
X-WR-CALNAME:Abfallwirtschaft Kyffhäuserkreis
X-ORIGINAL-URL:https://abfall-kyffhaeuser.de
X-WR-CALDESC:Veranstaltungen für Abfallwirtschaft Kyffhäuserkreis
REFRESH-INTERVAL;VALUE=DURATION:PT1H
X-Robots-Tag:noindex
X-PUBLISHED-TTL:PT1H
BEGIN:VTIMEZONE
TZID:Europe/Berlin
BEGIN:DAYLIGHT
TZOFFSETFROM:+0100
TZOFFSETTO:+0200
TZNAME:CEST
DTSTART:20250330T010000
END:DAYLIGHT
BEGIN:STANDARD
TZOFFSETFROM:+0200
TZOFFSETTO:+0100
TZNAME:CET
DTSTART:20251026T010000
END:STANDARD
BEGIN:DAYLIGHT
TZOFFSETFROM:+0100
TZOFFSETTO:+0200
TZNAME:CEST
DTSTART:20260329T010000
END:DAYLIGHT
BEGIN:STANDARD
TZOFFSETFROM:+0200
TZOFFSETTO:+0100
TZNAME:CET
DTSTART:20261025T010000
END:STANDARD
BEGIN:DAYLIGHT
TZOFFSETFROM:+0100
TZOFFSETTO:+0200
TZNAME:CEST
DTSTART:20270328T010000
END:DAYLIGHT
BEGIN:STANDARD
TZOFFSETFROM:+0200
TZOFFSETTO:+0100
TZNAME:CET
DTSTART:20271031T010000
END:STANDARD
END:VTIMEZONE
BEGIN:VEVENT
DTSTART;VALUE=DATE:20260504
DTEND;VALUE=DATE:20260505
DTSTAMP:20260421T160356
CREATED:20251212T133401Z
LAST-MODIFIED:20251212T133401Z
UID:10003876-1777881600-1777914000@abfall-kyffhaeuser.de
SUMMARY:Biotonne
DESCRIPTION:Biotonne
URL:https://abfall-kyffhaeuser.de/kalender/biotonne-76/2026-05-04/
LOCATION:Braunsroda\, Braunsroda\, An der Schmücke
CATEGORIES:Biotonne
END:VEVENT
BEGIN:VEVENT
DTSTART;VALUE=DATE:20260504
DTEND;VALUE=DATE:20260505
DTSTAMP:20260421T160356
CREATED:20251213T183817Z
LAST-MODIFIED:20251213T183817Z
UID:10003948-1777881600-1777914000@abfall-kyffhaeuser.de
SUMMARY:Papiertonne
DESCRIPTION:Papiertonne
URL:https://abfall-kyffhaeuser.de/kalender/papiertonne-113/2026-05-04/
LOCATION:Heldrungen\, Heldrungen\, An der Schmücke
CATEGORIES:Papiertonne
END:VEVENT
BEGIN:VEVENT
DTSTART;VALUE=DATE:20260505
DTEND;VALUE=DATE:20260506
DTSTAMP:20260421T160356
CREATED:20251213T174103Z
LAST-MODIFIED:20251213T174103Z
UID:10003922-1777968000-1778000400@abfall-kyffhaeuser.de
SUMMARY:Papiertonne
DESCRIPTION:Papiertonne
URL:https://abfall-kyffhaeuser.de/kalender/papiertonne-111/2026-05-05/
LOCATION:Etzleben\, Etzleben\, An der Schmücke
CATEGORIES:Papiertonne
END:VEVENT
BEGIN:VEVENT
DTSTART;VALUE=DATE:20260505
DTEND;VALUE=DATE:20260506
DTSTAMP:20260421T160356
CREATED:20251213T184509Z
LAST-MODIFIED:20251213T184509Z
UID:10003961-1777968000-1778000400@abfall-kyffhaeuser.de
SUMMARY:Papiertonne
DESCRIPTION:Papiertonne
URL:https://abfall-kyffhaeuser.de/kalender/papiertonne-114/2026-05-05/
LOCATION:Heldrungen Bahnhof\, Heldrungen Bahnhof\, An der Schmücke
CATEGORIES:Papiertonne
END:VEVENT
BEGIN:VEVENT
DTSTART;VALUE=DATE:20260505
DTEND;VALUE=DATE:20260506
DTSTAMP:20260421T160356
CREATED:20251215T141901Z
LAST-MODIFIED:20251215T141901Z
UID:10003974-1777968000-1778000400@abfall-kyffhaeuser.de
SUMMARY:Papiertonne
DESCRIPTION:Papiertonne
URL:https://abfall-kyffhaeuser.de/kalender/papiertonne-115/2026-05-05/
LOCATION:Sachsenburg\, Sachsenburg\, An der Schmücke
CATEGORIES:Papiertonne
END:VEVENT
BEGIN:VEVENT
DTSTART;VALUE=DATE:20260506
DTEND;VALUE=DATE:20260507
DTSTAMP:20260421T160356
CREATED:20251215T144513Z
LAST-MODIFIED:20251215T144513Z
UID:10003987-1778054400-1778086800@abfall-kyffhaeuser.de
SUMMARY:Papiertonne
DESCRIPTION:Papiertonne
URL:https://abfall-kyffhaeuser.de/kalender/papiertonne-116/2026-05-06/
LOCATION:Oldisleben\, Oldisleben\, An der Schmücke
CATEGORIES:Papiertonne
END:VEVENT
BEGIN:VEVENT
DTSTART;VALUE=DATE:20260507
DTEND;VALUE=DATE:20260508
DTSTAMP:20260421T160356
CREATED:20251213T175415Z
LAST-MODIFIED:20251213T175415Z
UID:10003935-1778140800-1778173200@abfall-kyffhaeuser.de
SUMMARY:Papiertonne
DESCRIPTION:Papiertonne
URL:https://abfall-kyffhaeuser.de/kalender/papiertonne-112/2026-05-07/
LOCATION:Harras\, Harras\, An der Schmücke
CATEGORIES:Papiertonne
END:VEVENT
BEGIN:VEVENT
DTSTART;VALUE=DATE:20260507
DTEND;VALUE=DATE:20260508
DTSTAMP:20260421T160356
CREATED:20251215T152128Z
LAST-MODIFIED:20251215T152128Z
UID:10004026-1778140800-1778173200@abfall-kyffhaeuser.de
SUMMARY:Gelbe Tonne
DESCRIPTION:Gelbe Tonne
URL:https://abfall-kyffhaeuser.de/kalender/gelbe-tonne-71/2026-05-07/
LOCATION:Braunsroda\, Braunsroda\, An der Schmücke
CATEGORIES:Gelbe Tonne
END:VEVENT
BEGIN:VEVENT
DTSTART;VALUE=DATE:20260508
DTEND;VALUE=DATE:20260509
DTSTAMP:20260421T160356
CREATED:20251212T140027Z
LAST-MODIFIED:20251212T140027Z
UID:10003901-1778227200-1778259600@abfall-kyffhaeuser.de
SUMMARY:Biotonne
DESCRIPTION:Biotonne
URL:https://abfall-kyffhaeuser.de/kalender/biotonne-77/2026-05-08/
LOCATION:Oldisleben\, Oldisleben\, An der Schmücke
CATEGORIES:Biotonne
END:VEVENT
BEGIN:VEVENT
DTSTART;VALUE=DATE:20260509
DTEND;VALUE=DATE:20260510
DTSTAMP:20260421T160356
CREATED:20251210T143429Z
LAST-MODIFIED:20251210T144551Z
UID:10003786-1778313600-1778346000@abfall-kyffhaeuser.de
SUMMARY:Restabfall
DESCRIPTION:Restabfall
URL:https://abfall-kyffhaeuser.de/kalender/restabfall/2026-05-09/
LOCATION:Braunsroda\, Braunsroda\, An der Schmücke
CATEGORIES:Restabfall
END:VEVENT
BEGIN:VEVENT
DTSTART;VALUE=DATE:20260513
DTEND;VALUE=DATE:20260514
DTSTAMP:20260421T160356
CREATED:20251210T152309Z
LAST-MODIFIED:20251210T152309Z
UID:10003833-1778659200-1778691600@abfall-kyffhaeuser.de
SUMMARY:Papiertonne
DESCRIPTION:Papiertonne
URL:https://abfall-kyffhaeuser.de/kalender/papiertonne-110/2026-05-13/
LOCATION:Braunsroda\, Braunsroda\, An der Schmücke
CATEGORIES:Papiertonne
END:VEVENT
BEGIN:VEVENT
DTSTART;VALUE=DATE:20260515
DTEND;VALUE=DATE:20260516
DTSTAMP:20260421T160356
CREATED:20251210T145613Z
LAST-MODIFIED:20251210T145613Z
UID:10003811-1778832000-1778864400@abfall-kyffhaeuser.de
SUMMARY:Restabfall
DESCRIPTION:Restabfall
URL:https://abfall-kyffhaeuser.de/kalender/restabfall-72/2026-05-15/
LOCATION:Oldisleben\, Oldisleben\, An der Schmücke
CATEGORIES:Restabfall
END:VEVENT
BEGIN:VEVENT
DTSTART;VALUE=DATE:20260515
DTEND;VALUE=DATE:20260516
DTSTAMP:20260421T160356
CREATED:20251212T131331Z
LAST-MODIFIED:20251212T131331Z
UID:10003851-1778832000-1778864400@abfall-kyffhaeuser.de
SUMMARY:Restabfall
DESCRIPTION:Restabfall
URL:https://abfall-kyffhaeuser.de/kalender/restabfall-43/2026-05-15/
LOCATION:Oldisleben\, Oldisleben\, An der Schmücke
CATEGORIES:Restabfall
END:VEVENT
BEGIN:VEVENT
DTSTART;VALUE=DATE:20260518
DTEND;VALUE=DATE:20260519
DTSTAMP:20260421T160356
CREATED:20251212T133401Z
LAST-MODIFIED:20251212T133401Z
UID:10003877-1779091200-1779123600@abfall-kyffhaeuser.de
SUMMARY:Biotonne
DESCRIPTION:Biotonne
URL:https://abfall-kyffhaeuser.de/kalender/biotonne-76/2026-05-18/
LOCATION:Braunsroda\, Braunsroda\, An der Schmücke
CATEGORIES:Biotonne
END:VEVENT
BEGIN:VEVENT
DTSTART;VALUE=DATE:20260519
DTEND;VALUE=DATE:20260520
DTSTAMP:20260421T160356
CREATED:20251215T145416Z
LAST-MODIFIED:20251215T145416Z
UID:10004000-1779177600-1779210000@abfall-kyffhaeuser.de
SUMMARY:Gelbe Tonne
DESCRIPTION:Gelbe Tonne
URL:https://abfall-kyffhaeuser.de/kalender/gelbe-tonne-69/2026-05-19/
LOCATION:Etzleben\, Etzleben\, An der Schmücke
CATEGORIES:Gelbe Tonne
END:VEVENT
BEGIN:VEVENT
DTSTART;VALUE=DATE:20260520
DTEND;VALUE=DATE:20260521
DTSTAMP:20260421T160356
CREATED:20251215T151428Z
LAST-MODIFIED:20251215T151428Z
UID:10004013-1779264000-1779296400@abfall-kyffhaeuser.de
SUMMARY:Gelbe Tonne
DESCRIPTION:Gelbe Tonne
URL:https://abfall-kyffhaeuser.de/kalender/gelbe-tonne-70/2026-05-20/
LOCATION:Harras\, Harras\, An der Schmücke
CATEGORIES:Gelbe Tonne
END:VEVENT
BEGIN:VEVENT
DTSTART;VALUE=DATE:20260522
DTEND;VALUE=DATE:20260523
DTSTAMP:20260421T160356
CREATED:20251212T140027Z
LAST-MODIFIED:20251212T140027Z
UID:10003902-1779436800-1779469200@abfall-kyffhaeuser.de
SUMMARY:Biotonne
DESCRIPTION:Biotonne
URL:https://abfall-kyffhaeuser.de/kalender/biotonne-77/2026-05-22/
LOCATION:Oldisleben\, Oldisleben\, An der Schmücke
CATEGORIES:Biotonne
END:VEVENT
BEGIN:VEVENT
DTSTART;VALUE=DATE:20260526
DTEND;VALUE=DATE:20260527
DTSTAMP:20260421T160356
CREATED:20251210T143429Z
LAST-MODIFIED:20251210T144551Z
UID:10003787-1779782400-1779814800@abfall-kyffhaeuser.de
SUMMARY:Restabfall
DESCRIPTION:Restabfall
URL:https://abfall-kyffhaeuser.de/kalender/restabfall/2026-05-26/
LOCATION:Braunsroda\, Braunsroda\, An der Schmücke
CATEGORIES:Restabfall
END:VEVENT
BEGIN:VEVENT
DTSTART;VALUE=DATE:20260527
DTEND;VALUE=DATE:20260528
DTSTAMP:20260421T160356
CREATED:20251215T153754Z
LAST-MODIFIED:20251215T153754Z
UID:10004040-1779868800-1779901200@abfall-kyffhaeuser.de
SUMMARY:Gelbe Tonne
DESCRIPTION:Gelbe Tonne
URL:https://abfall-kyffhaeuser.de/kalender/gelbe-tonne-72/2026-05-27/
LOCATION:Sachsenburg\, Sachsenburg\, An der Schmücke
CATEGORIES:Gelbe Tonne
END:VEVENT
BEGIN:VEVENT
DTSTART;VALUE=DATE:20260530
DTEND;VALUE=DATE:20260531
DTSTAMP:20260421T160356
CREATED:20251210T145613Z
LAST-MODIFIED:20251210T145613Z
UID:10003812-1780128000-1780160400@abfall-kyffhaeuser.de
SUMMARY:Restabfall
DESCRIPTION:Restabfall
URL:https://abfall-kyffhaeuser.de/kalender/restabfall-72/2026-05-30/
LOCATION:Oldisleben\, Oldisleben\, An der Schmücke
CATEGORIES:Restabfall
END:VEVENT
BEGIN:VEVENT
DTSTART;VALUE=DATE:20260530
DTEND;VALUE=DATE:20260531
DTSTAMP:20260421T160356
CREATED:20251212T131331Z
LAST-MODIFIED:20251212T131331Z
UID:10003852-1780128000-1780160400@abfall-kyffhaeuser.de
SUMMARY:Restabfall
DESCRIPTION:Restabfall
URL:https://abfall-kyffhaeuser.de/kalender/restabfall-43/2026-05-30/
LOCATION:Oldisleben\, Oldisleben\, An der Schmücke
CATEGORIES:Restabfall
END:VEVENT
END:VCALENDAR