BEGIN:VCALENDAR
VERSION:2.0
PRODID:-//Abfallwirtschaft Kyffhäuserkreis - ECPv6.15.17.1//NONSGML v1.0//EN
CALSCALE:GREGORIAN
METHOD:PUBLISH
X-ORIGINAL-URL:https://abfall-kyffhaeuser.de
X-WR-CALDESC:Veranstaltungen für Abfallwirtschaft Kyffhäuserkreis
REFRESH-INTERVAL;VALUE=DURATION:PT1H
X-Robots-Tag:noindex
X-PUBLISHED-TTL:PT1H
BEGIN:VTIMEZONE
TZID:Europe/Berlin
BEGIN:DAYLIGHT
TZOFFSETFROM:+0100
TZOFFSETTO:+0200
TZNAME:CEST
DTSTART:20250330T010000
END:DAYLIGHT
BEGIN:STANDARD
TZOFFSETFROM:+0200
TZOFFSETTO:+0100
TZNAME:CET
DTSTART:20251026T010000
END:STANDARD
BEGIN:DAYLIGHT
TZOFFSETFROM:+0100
TZOFFSETTO:+0200
TZNAME:CEST
DTSTART:20260329T010000
END:DAYLIGHT
BEGIN:STANDARD
TZOFFSETFROM:+0200
TZOFFSETTO:+0100
TZNAME:CET
DTSTART:20261025T010000
END:STANDARD
BEGIN:DAYLIGHT
TZOFFSETFROM:+0100
TZOFFSETTO:+0200
TZNAME:CEST
DTSTART:20270328T010000
END:DAYLIGHT
BEGIN:STANDARD
TZOFFSETFROM:+0200
TZOFFSETTO:+0100
TZNAME:CET
DTSTART:20271031T010000
END:STANDARD
END:VTIMEZONE
BEGIN:VEVENT
DTSTART;VALUE=DATE:20260302
DTEND;VALUE=DATE:20260303
DTSTAMP:20260421T160404
CREATED:20251210T143429Z
LAST-MODIFIED:20251210T144551Z
UID:10003781-1772438400-1772470800@abfall-kyffhaeuser.de
SUMMARY:Restabfall
DESCRIPTION:Restabfall
URL:https://abfall-kyffhaeuser.de/kalender/restabfall/2026-03-02/
LOCATION:Braunsroda\, Braunsroda\, An der Schmücke
CATEGORIES:Restabfall
END:VEVENT
BEGIN:VEVENT
DTSTART;VALUE=DATE:20260302
DTEND;VALUE=DATE:20260303
DTSTAMP:20260421T160404
CREATED:20251215T153754Z
LAST-MODIFIED:20251215T153754Z
UID:10004037-1772438400-1772470800@abfall-kyffhaeuser.de
SUMMARY:Gelbe Tonne
DESCRIPTION:Gelbe Tonne
URL:https://abfall-kyffhaeuser.de/kalender/gelbe-tonne-72/2026-03-02/
LOCATION:Sachsenburg\, Sachsenburg\, An der Schmücke
CATEGORIES:Gelbe Tonne
END:VEVENT
BEGIN:VEVENT
DTSTART;VALUE=DATE:20260306
DTEND;VALUE=DATE:20260307
DTSTAMP:20260421T160404
CREATED:20251210T145613Z
LAST-MODIFIED:20251210T145613Z
UID:10003806-1772784000-1772816400@abfall-kyffhaeuser.de
SUMMARY:Restabfall
DESCRIPTION:Restabfall
URL:https://abfall-kyffhaeuser.de/kalender/restabfall-72/2026-03-06/
LOCATION:Oldisleben\, Oldisleben\, An der Schmücke
CATEGORIES:Restabfall
END:VEVENT
BEGIN:VEVENT
DTSTART;VALUE=DATE:20260306
DTEND;VALUE=DATE:20260307
DTSTAMP:20260421T160404
CREATED:20251212T131331Z
LAST-MODIFIED:20251212T131331Z
UID:10003846-1772784000-1772816400@abfall-kyffhaeuser.de
SUMMARY:Restabfall
DESCRIPTION:Restabfall
URL:https://abfall-kyffhaeuser.de/kalender/restabfall-43/2026-03-06/
LOCATION:Oldisleben\, Oldisleben\, An der Schmücke
CATEGORIES:Restabfall
END:VEVENT
BEGIN:VEVENT
DTSTART;VALUE=DATE:20260309
DTEND;VALUE=DATE:20260310
DTSTAMP:20260421T160404
CREATED:20251212T133401Z
LAST-MODIFIED:20251212T133401Z
UID:10003872-1773043200-1773075600@abfall-kyffhaeuser.de
SUMMARY:Biotonne
DESCRIPTION:Biotonne
URL:https://abfall-kyffhaeuser.de/kalender/biotonne-76/2026-03-09/
LOCATION:Braunsroda\, Braunsroda\, An der Schmücke
CATEGORIES:Biotonne
END:VEVENT
BEGIN:VEVENT
DTSTART;VALUE=DATE:20260309
DTEND;VALUE=DATE:20260310
DTSTAMP:20260421T160404
CREATED:20251213T183817Z
LAST-MODIFIED:20251213T183817Z
UID:10003946-1773043200-1773075600@abfall-kyffhaeuser.de
SUMMARY:Papiertonne
DESCRIPTION:Papiertonne
URL:https://abfall-kyffhaeuser.de/kalender/papiertonne-113/2026-03-09/
LOCATION:Heldrungen\, Heldrungen\, An der Schmücke
CATEGORIES:Papiertonne
END:VEVENT
BEGIN:VEVENT
DTSTART;VALUE=DATE:20260310
DTEND;VALUE=DATE:20260311
DTSTAMP:20260421T160404
CREATED:20251213T174103Z
LAST-MODIFIED:20251213T174103Z
UID:10003920-1773129600-1773162000@abfall-kyffhaeuser.de
SUMMARY:Papiertonne
DESCRIPTION:Papiertonne
URL:https://abfall-kyffhaeuser.de/kalender/papiertonne-111/2026-03-10/
LOCATION:Etzleben\, Etzleben\, An der Schmücke
CATEGORIES:Papiertonne
END:VEVENT
BEGIN:VEVENT
DTSTART;VALUE=DATE:20260310
DTEND;VALUE=DATE:20260311
DTSTAMP:20260421T160404
CREATED:20251213T184509Z
LAST-MODIFIED:20251213T184509Z
UID:10003959-1773129600-1773162000@abfall-kyffhaeuser.de
SUMMARY:Papiertonne
DESCRIPTION:Papiertonne
URL:https://abfall-kyffhaeuser.de/kalender/papiertonne-114/2026-03-10/
LOCATION:Heldrungen Bahnhof\, Heldrungen Bahnhof\, An der Schmücke
CATEGORIES:Papiertonne
END:VEVENT
BEGIN:VEVENT
DTSTART;VALUE=DATE:20260310
DTEND;VALUE=DATE:20260311
DTSTAMP:20260421T160404
CREATED:20251215T141901Z
LAST-MODIFIED:20251215T141901Z
UID:10003972-1773129600-1773162000@abfall-kyffhaeuser.de
SUMMARY:Papiertonne
DESCRIPTION:Papiertonne
URL:https://abfall-kyffhaeuser.de/kalender/papiertonne-115/2026-03-10/
LOCATION:Sachsenburg\, Sachsenburg\, An der Schmücke
CATEGORIES:Papiertonne
END:VEVENT
BEGIN:VEVENT
DTSTART;VALUE=DATE:20260311
DTEND;VALUE=DATE:20260312
DTSTAMP:20260421T160404
CREATED:20251215T144513Z
LAST-MODIFIED:20251215T144513Z
UID:10003985-1773216000-1773248400@abfall-kyffhaeuser.de
SUMMARY:Papiertonne
DESCRIPTION:Papiertonne
URL:https://abfall-kyffhaeuser.de/kalender/papiertonne-116/2026-03-11/
LOCATION:Oldisleben\, Oldisleben\, An der Schmücke
CATEGORIES:Papiertonne
END:VEVENT
BEGIN:VEVENT
DTSTART;VALUE=DATE:20260311
DTEND;VALUE=DATE:20260312
DTSTAMP:20260421T160404
CREATED:20251215T152128Z
LAST-MODIFIED:20251215T152128Z
UID:10004024-1773216000-1773248400@abfall-kyffhaeuser.de
SUMMARY:Gelbe Tonne
DESCRIPTION:Gelbe Tonne
URL:https://abfall-kyffhaeuser.de/kalender/gelbe-tonne-71/2026-03-11/
LOCATION:Braunsroda\, Braunsroda\, An der Schmücke
CATEGORIES:Gelbe Tonne
END:VEVENT
BEGIN:VEVENT
DTSTART;VALUE=DATE:20260312
DTEND;VALUE=DATE:20260313
DTSTAMP:20260421T160404
CREATED:20251213T175415Z
LAST-MODIFIED:20251213T175415Z
UID:10003933-1773302400-1773334800@abfall-kyffhaeuser.de
SUMMARY:Papiertonne
DESCRIPTION:Papiertonne
URL:https://abfall-kyffhaeuser.de/kalender/papiertonne-112/2026-03-12/
LOCATION:Harras\, Harras\, An der Schmücke
CATEGORIES:Papiertonne
END:VEVENT
BEGIN:VEVENT
DTSTART;VALUE=DATE:20260313
DTEND;VALUE=DATE:20260314
DTSTAMP:20260421T160404
CREATED:20251212T140027Z
LAST-MODIFIED:20251212T140027Z
UID:10003897-1773388800-1773421200@abfall-kyffhaeuser.de
SUMMARY:Biotonne
DESCRIPTION:Biotonne
URL:https://abfall-kyffhaeuser.de/kalender/biotonne-77/2026-03-13/
LOCATION:Oldisleben\, Oldisleben\, An der Schmücke
CATEGORIES:Biotonne
END:VEVENT
BEGIN:VEVENT
DTSTART;VALUE=DATE:20260316
DTEND;VALUE=DATE:20260317
DTSTAMP:20260421T160404
CREATED:20251210T143429Z
LAST-MODIFIED:20251210T144551Z
UID:10003782-1773648000-1773680400@abfall-kyffhaeuser.de
SUMMARY:Restabfall
DESCRIPTION:Restabfall
URL:https://abfall-kyffhaeuser.de/kalender/restabfall/2026-03-16/
LOCATION:Braunsroda\, Braunsroda\, An der Schmücke
CATEGORIES:Restabfall
END:VEVENT
BEGIN:VEVENT
DTSTART;VALUE=DATE:20260319
DTEND;VALUE=DATE:20260320
DTSTAMP:20260421T160404
CREATED:20251210T152309Z
LAST-MODIFIED:20251210T152309Z
UID:10003831-1773907200-1773939600@abfall-kyffhaeuser.de
SUMMARY:Papiertonne
DESCRIPTION:Papiertonne
URL:https://abfall-kyffhaeuser.de/kalender/papiertonne-110/2026-03-19/
LOCATION:Braunsroda\, Braunsroda\, An der Schmücke
CATEGORIES:Papiertonne
END:VEVENT
BEGIN:VEVENT
DTSTART;VALUE=DATE:20260320
DTEND;VALUE=DATE:20260321
DTSTAMP:20260421T160404
CREATED:20251210T145613Z
LAST-MODIFIED:20251210T145613Z
UID:10003807-1773993600-1774026000@abfall-kyffhaeuser.de
SUMMARY:Restabfall
DESCRIPTION:Restabfall
URL:https://abfall-kyffhaeuser.de/kalender/restabfall-72/2026-03-20/
LOCATION:Oldisleben\, Oldisleben\, An der Schmücke
CATEGORIES:Restabfall
END:VEVENT
BEGIN:VEVENT
DTSTART;VALUE=DATE:20260320
DTEND;VALUE=DATE:20260321
DTSTAMP:20260421T160404
CREATED:20251212T131331Z
LAST-MODIFIED:20251212T131331Z
UID:10003847-1773993600-1774026000@abfall-kyffhaeuser.de
SUMMARY:Restabfall
DESCRIPTION:Restabfall
URL:https://abfall-kyffhaeuser.de/kalender/restabfall-43/2026-03-20/
LOCATION:Oldisleben\, Oldisleben\, An der Schmücke
CATEGORIES:Restabfall
END:VEVENT
BEGIN:VEVENT
DTSTART;VALUE=DATE:20260323
DTEND;VALUE=DATE:20260324
DTSTAMP:20260421T160404
CREATED:20251212T133401Z
LAST-MODIFIED:20251212T133401Z
UID:10003873-1774252800-1774285200@abfall-kyffhaeuser.de
SUMMARY:Biotonne
DESCRIPTION:Biotonne
URL:https://abfall-kyffhaeuser.de/kalender/biotonne-76/2026-03-23/
LOCATION:Braunsroda\, Braunsroda\, An der Schmücke
CATEGORIES:Biotonne
END:VEVENT
BEGIN:VEVENT
DTSTART;VALUE=DATE:20260323
DTEND;VALUE=DATE:20260324
DTSTAMP:20260421T160404
CREATED:20251215T145416Z
LAST-MODIFIED:20251215T145416Z
UID:10003998-1774252800-1774285200@abfall-kyffhaeuser.de
SUMMARY:Gelbe Tonne
DESCRIPTION:Gelbe Tonne
URL:https://abfall-kyffhaeuser.de/kalender/gelbe-tonne-69/2026-03-23/
LOCATION:Etzleben\, Etzleben\, An der Schmücke
CATEGORIES:Gelbe Tonne
END:VEVENT
BEGIN:VEVENT
DTSTART;VALUE=DATE:20260324
DTEND;VALUE=DATE:20260325
DTSTAMP:20260421T160404
CREATED:20251215T151428Z
LAST-MODIFIED:20251215T151428Z
UID:10004011-1774339200-1774371600@abfall-kyffhaeuser.de
SUMMARY:Gelbe Tonne
DESCRIPTION:Gelbe Tonne
URL:https://abfall-kyffhaeuser.de/kalender/gelbe-tonne-70/2026-03-24/
LOCATION:Harras\, Harras\, An der Schmücke
CATEGORIES:Gelbe Tonne
END:VEVENT
BEGIN:VEVENT
DTSTART;VALUE=DATE:20260327
DTEND;VALUE=DATE:20260328
DTSTAMP:20260421T160404
CREATED:20251212T140027Z
LAST-MODIFIED:20251212T140027Z
UID:10003898-1774598400-1774630800@abfall-kyffhaeuser.de
SUMMARY:Biotonne
DESCRIPTION:Biotonne
URL:https://abfall-kyffhaeuser.de/kalender/biotonne-77/2026-03-27/
LOCATION:Oldisleben\, Oldisleben\, An der Schmücke
CATEGORIES:Biotonne
END:VEVENT
BEGIN:VEVENT
DTSTART;VALUE=DATE:20260327
DTEND;VALUE=DATE:20260328
DTSTAMP:20260421T160404
CREATED:20251215T153754Z
LAST-MODIFIED:20251215T153754Z
UID:10004038-1774598400-1774630800@abfall-kyffhaeuser.de
SUMMARY:Gelbe Tonne
DESCRIPTION:Gelbe Tonne
URL:https://abfall-kyffhaeuser.de/kalender/gelbe-tonne-72/2026-03-27/
LOCATION:Sachsenburg\, Sachsenburg\, An der Schmücke
CATEGORIES:Gelbe Tonne
END:VEVENT
BEGIN:VEVENT
DTSTART;VALUE=DATE:20260328
DTEND;VALUE=DATE:20260329
DTSTAMP:20260421T160404
CREATED:20251210T143429Z
LAST-MODIFIED:20251210T144551Z
UID:10003783-1774684800-1774717200@abfall-kyffhaeuser.de
SUMMARY:Restabfall
DESCRIPTION:Restabfall
URL:https://abfall-kyffhaeuser.de/kalender/restabfall/2026-03-28/
LOCATION:Braunsroda\, Braunsroda\, An der Schmücke
CATEGORIES:Restabfall
END:VEVENT
END:VCALENDAR