BEGIN:VCALENDAR
VERSION:2.0
PRODID:-//Abfallwirtschaft Kyffhäuserkreis - ECPv6.15.17.1//NONSGML v1.0//EN
CALSCALE:GREGORIAN
METHOD:PUBLISH
X-WR-CALNAME:Abfallwirtschaft Kyffhäuserkreis
X-ORIGINAL-URL:https://abfall-kyffhaeuser.de
X-WR-CALDESC:Veranstaltungen für Abfallwirtschaft Kyffhäuserkreis
REFRESH-INTERVAL;VALUE=DURATION:PT1H
X-Robots-Tag:noindex
X-PUBLISHED-TTL:PT1H
BEGIN:VTIMEZONE
TZID:Europe/Berlin
BEGIN:DAYLIGHT
TZOFFSETFROM:+0100
TZOFFSETTO:+0200
TZNAME:CEST
DTSTART:20250330T010000
END:DAYLIGHT
BEGIN:STANDARD
TZOFFSETFROM:+0200
TZOFFSETTO:+0100
TZNAME:CET
DTSTART:20251026T010000
END:STANDARD
BEGIN:DAYLIGHT
TZOFFSETFROM:+0100
TZOFFSETTO:+0200
TZNAME:CEST
DTSTART:20260329T010000
END:DAYLIGHT
BEGIN:STANDARD
TZOFFSETFROM:+0200
TZOFFSETTO:+0100
TZNAME:CET
DTSTART:20261025T010000
END:STANDARD
BEGIN:DAYLIGHT
TZOFFSETFROM:+0100
TZOFFSETTO:+0200
TZNAME:CEST
DTSTART:20270328T010000
END:DAYLIGHT
BEGIN:STANDARD
TZOFFSETFROM:+0200
TZOFFSETTO:+0100
TZNAME:CET
DTSTART:20271031T010000
END:STANDARD
END:VTIMEZONE
BEGIN:VEVENT
DTSTART;VALUE=DATE:20260513
DTEND;VALUE=DATE:20260514
DTSTAMP:20260421T130624
CREATED:20251230T121809Z
LAST-MODIFIED:20251230T121809Z
UID:10005531-1778659200-1778691600@abfall-kyffhaeuser.de
SUMMARY:Gelbe Tonne
DESCRIPTION:Gelbe Tonne
URL:https://abfall-kyffhaeuser.de/kalender/gelbe-tonne-101/2026-05-13/
LOCATION:Sondershausen – Tour 3\, Sondershausen - Tour 3\, Sondershausen
CATEGORIES:Gelbe Tonne
END:VEVENT
BEGIN:VEVENT
DTSTART;VALUE=DATE:20260611
DTEND;VALUE=DATE:20260612
DTSTAMP:20260421T130624
CREATED:20251230T121809Z
LAST-MODIFIED:20251230T121809Z
UID:10005532-1781164800-1781197200@abfall-kyffhaeuser.de
SUMMARY:Gelbe Tonne
DESCRIPTION:Gelbe Tonne
URL:https://abfall-kyffhaeuser.de/kalender/gelbe-tonne-101/2026-06-11/
LOCATION:Sondershausen – Tour 3\, Sondershausen - Tour 3\, Sondershausen
CATEGORIES:Gelbe Tonne
END:VEVENT
BEGIN:VEVENT
DTSTART;VALUE=DATE:20260708
DTEND;VALUE=DATE:20260709
DTSTAMP:20260421T130624
CREATED:20251230T121809Z
LAST-MODIFIED:20251230T121809Z
UID:10005533-1783497600-1783530000@abfall-kyffhaeuser.de
SUMMARY:Gelbe Tonne
DESCRIPTION:Gelbe Tonne
URL:https://abfall-kyffhaeuser.de/kalender/gelbe-tonne-101/2026-07-08/
LOCATION:Sondershausen – Tour 3\, Sondershausen - Tour 3\, Sondershausen
CATEGORIES:Gelbe Tonne
END:VEVENT
BEGIN:VEVENT
DTSTART;VALUE=DATE:20260804
DTEND;VALUE=DATE:20260805
DTSTAMP:20260421T130624
CREATED:20251230T121809Z
LAST-MODIFIED:20251230T121809Z
UID:10005534-1785830400-1785862800@abfall-kyffhaeuser.de
SUMMARY:Gelbe Tonne
DESCRIPTION:Gelbe Tonne
URL:https://abfall-kyffhaeuser.de/kalender/gelbe-tonne-101/2026-08-04/
LOCATION:Sondershausen – Tour 3\, Sondershausen - Tour 3\, Sondershausen
CATEGORIES:Gelbe Tonne
END:VEVENT
BEGIN:VEVENT
DTSTART;VALUE=DATE:20260901
DTEND;VALUE=DATE:20260902
DTSTAMP:20260421T130624
CREATED:20251230T121809Z
LAST-MODIFIED:20251230T121809Z
UID:10005535-1788249600-1788282000@abfall-kyffhaeuser.de
SUMMARY:Gelbe Tonne
DESCRIPTION:Gelbe Tonne
URL:https://abfall-kyffhaeuser.de/kalender/gelbe-tonne-101/2026-09-01/
LOCATION:Sondershausen – Tour 3\, Sondershausen - Tour 3\, Sondershausen
CATEGORIES:Gelbe Tonne
END:VEVENT
BEGIN:VEVENT
DTSTART;VALUE=DATE:20260929
DTEND;VALUE=DATE:20260930
DTSTAMP:20260421T130624
CREATED:20251230T121809Z
LAST-MODIFIED:20251230T121809Z
UID:10005536-1790668800-1790701200@abfall-kyffhaeuser.de
SUMMARY:Gelbe Tonne
DESCRIPTION:Gelbe Tonne
URL:https://abfall-kyffhaeuser.de/kalender/gelbe-tonne-101/2026-09-29/
LOCATION:Sondershausen – Tour 3\, Sondershausen - Tour 3\, Sondershausen
CATEGORIES:Gelbe Tonne
END:VEVENT
BEGIN:VEVENT
DTSTART;VALUE=DATE:20261027
DTEND;VALUE=DATE:20261028
DTSTAMP:20260421T130624
CREATED:20251230T121809Z
LAST-MODIFIED:20251230T121809Z
UID:10005537-1793088000-1793120400@abfall-kyffhaeuser.de
SUMMARY:Gelbe Tonne
DESCRIPTION:Gelbe Tonne
URL:https://abfall-kyffhaeuser.de/kalender/gelbe-tonne-101/2026-10-27/
LOCATION:Sondershausen – Tour 3\, Sondershausen - Tour 3\, Sondershausen
CATEGORIES:Gelbe Tonne
END:VEVENT
BEGIN:VEVENT
DTSTART;VALUE=DATE:20261124
DTEND;VALUE=DATE:20261125
DTSTAMP:20260421T130624
CREATED:20251230T121809Z
LAST-MODIFIED:20251230T121809Z
UID:10005538-1795507200-1795539600@abfall-kyffhaeuser.de
SUMMARY:Gelbe Tonne
DESCRIPTION:Gelbe Tonne
URL:https://abfall-kyffhaeuser.de/kalender/gelbe-tonne-101/2026-11-24/
LOCATION:Sondershausen – Tour 3\, Sondershausen - Tour 3\, Sondershausen
CATEGORIES:Gelbe Tonne
END:VEVENT
BEGIN:VEVENT
DTSTART;VALUE=DATE:20261222
DTEND;VALUE=DATE:20261223
DTSTAMP:20260421T130624
CREATED:20251230T121809Z
LAST-MODIFIED:20251230T121809Z
UID:10005539-1797926400-1797958800@abfall-kyffhaeuser.de
SUMMARY:Gelbe Tonne
DESCRIPTION:Gelbe Tonne
URL:https://abfall-kyffhaeuser.de/kalender/gelbe-tonne-101/2026-12-22/
LOCATION:Sondershausen – Tour 3\, Sondershausen - Tour 3\, Sondershausen
CATEGORIES:Gelbe Tonne
END:VEVENT
END:VCALENDAR